BEGIN:VCALENDAR
VERSION:2.0
PRODID:-//Lina Gálvez - ECPv6.15.20//NONSGML v1.0//EN
CALSCALE:GREGORIAN
METHOD:PUBLISH
X-ORIGINAL-URL:https://linagalvez.eu
X-WR-CALDESC:Eventos para Lina Gálvez
REFRESH-INTERVAL;VALUE=DURATION:PT1H
X-Robots-Tag:noindex
X-PUBLISHED-TTL:PT1H
BEGIN:VTIMEZONE
TZID:Europe/Madrid
BEGIN:DAYLIGHT
TZOFFSETFROM:+0100
TZOFFSETTO:+0200
TZNAME:CEST
DTSTART:20220327T010000
END:DAYLIGHT
BEGIN:STANDARD
TZOFFSETFROM:+0200
TZOFFSETTO:+0100
TZNAME:CET
DTSTART:20221030T010000
END:STANDARD
BEGIN:DAYLIGHT
TZOFFSETFROM:+0100
TZOFFSETTO:+0200
TZNAME:CEST
DTSTART:20230326T010000
END:DAYLIGHT
BEGIN:STANDARD
TZOFFSETFROM:+0200
TZOFFSETTO:+0100
TZNAME:CET
DTSTART:20231029T010000
END:STANDARD
BEGIN:DAYLIGHT
TZOFFSETFROM:+0100
TZOFFSETTO:+0200
TZNAME:CEST
DTSTART:20240331T010000
END:DAYLIGHT
BEGIN:STANDARD
TZOFFSETFROM:+0200
TZOFFSETTO:+0100
TZNAME:CET
DTSTART:20241027T010000
END:STANDARD
END:VTIMEZONE
BEGIN:VEVENT
DTSTART;TZID=Europe/Madrid:20231120T110000
DTEND;TZID=Europe/Madrid:20231120T130000
DTSTAMP:20260422T223536
CREATED:20200705T094158Z
LAST-MODIFIED:20231120T093157Z
UID:8405-1700478000-1700485200@linagalvez.eu
SUMMARY:Reunión de equipo. Coordinación interna
DESCRIPTION:La eurodiputada Lina Gálvez se reunirá con su equipo del Parlamento Europeo para la coordinación de la reunión externa del Grupo Socialistas y Demócratas en Cracovia\, Polonia.
URL:https://linagalvez.eu/agenda/reunion-de-equipo-coordinacion-interna-2-2-2-3-3-2-3-2-2-2-2-2-2-2-2-2-2-2-2-2-2-2-2-2-2-2-2-3/
CATEGORIES:Actualidad,Parlamento
ATTACH;FMTTYPE=image/jpeg:https://linagalvez.eu/wp-content/uploads/2020/07/Calendario.jpg
END:VEVENT
BEGIN:VEVENT
DTSTART;TZID=Europe/Madrid:20231120T170000
DTEND;TZID=Europe/Madrid:20231123T183000
DTSTAMP:20260422T223536
CREATED:20210211T164450Z
LAST-MODIFIED:20231120T092649Z
UID:8404-1700499600-1700764200@linagalvez.eu
SUMMARY:Pleno del Parlamento Europeo en Estrasburgo
DESCRIPTION:Destacados del pleno. Estrasburgo \n\nDebate clave sobre la situación humanitaria en Gaza\, la necesidad de la liberación de rehenes y de una tregua humanitaria inmediata que conduzca a un alto el fuego y las perspectivas de paz y seguridad en Oriente Medio\nDebatir y votar nuevas normas para facilitar la reutilización y el reciclaje de los envases y reducir los envases y residuos innecesarios.\nNuevas medidas para fortalecer el derecho a reparar y promover el consumo sostenible: debate y votación\nDebate y votación sobre normas para reducir el uso de pesticidas químicos\nNuevos objetivos de reducción de emisiones de CO2 para camiones y autobuses: debate y votación\nDebate y votación sobre el impulso de la producción tecnológica Net-Zero en Europa\nVote las propuestas de los eurodiputados para las elecciones al PE de junio de 2024 en relación con el proceso de candidatos principales y el aumento de la participación electoral\nReforma de los Tratados de la UE para mejorar la capacidad de acción de la UE y fortalecer la voz de los ciudadanos: debate y votación\nDebate “Esto es Europa” con el Primer Ministro de Bulgaria\, Nikolay Denkov\n\nSe podrán seguir las sesiones en el siguiente enlace:https://www.europarl.europa.eu/plenary/es/home.html
URL:https://linagalvez.eu/agenda/pleno-del-parlamento-europeo-2-2-2-2-2-2-2-6-2-3-3-6-2/
CATEGORIES:Actualidad,Destacado,FEMM,Parlamento
ATTACH;FMTTYPE=image/jpeg:https://linagalvez.eu/wp-content/uploads/2020/03/European_Parliament_Strasbourg_Hemicycle_-_Diliff-2-scaled.jpg
END:VEVENT
BEGIN:VEVENT
DTSTART;TZID=Europe/Madrid:20231120T190000
DTEND;TZID=Europe/Madrid:20231120T200000
DTSTAMP:20260422T223536
CREATED:20231120T080018Z
LAST-MODIFIED:20231128T055632Z
UID:8406-1700506800-1700510400@linagalvez.eu
SUMMARY:Destacados del pleno. 20 de noviembre 2023
DESCRIPTION:Asuntos destacados del pleno del Parlamento Europeo que se celebra hoy en  Estrasburgo: \nLa eurodiputada Lina Gálvez participará en el debate del Lunes de la Sesión Plenaria de Estrasburgo\, de Net Zero Industry Act\, del que Lina Gálvez es ponente del S&D de la opinión legislativa de la Comisión de Empleo .
URL:https://linagalvez.eu/agenda/participacion-en-plenario-en-el-debate-3-2/
CATEGORIES:Actualidad,autonomía estratégica eje central,Destacado,ITRE,Parlamento,S&D,Transiciones justas
ATTACH;FMTTYPE=image/jpeg:https://linagalvez.eu/wp-content/uploads/2022/01/Captura_LGM.jpg
END:VEVENT
END:VCALENDAR