BEGIN:VCALENDAR
VERSION:2.0
PRODID:-//Lina Gálvez - ECPv6.15.20//NONSGML v1.0//EN
CALSCALE:GREGORIAN
METHOD:PUBLISH
X-WR-CALNAME:Lina Gálvez
X-ORIGINAL-URL:https://linagalvez.eu
X-WR-CALDESC:Eventos para Lina Gálvez
REFRESH-INTERVAL;VALUE=DURATION:PT1H
X-Robots-Tag:noindex
X-PUBLISHED-TTL:PT1H
BEGIN:VTIMEZONE
TZID:Europe/Madrid
BEGIN:DAYLIGHT
TZOFFSETFROM:+0100
TZOFFSETTO:+0200
TZNAME:CEST
DTSTART:20200329T010000
END:DAYLIGHT
BEGIN:STANDARD
TZOFFSETFROM:+0200
TZOFFSETTO:+0100
TZNAME:CET
DTSTART:20201025T010000
END:STANDARD
BEGIN:DAYLIGHT
TZOFFSETFROM:+0100
TZOFFSETTO:+0200
TZNAME:CEST
DTSTART:20210328T010000
END:DAYLIGHT
BEGIN:STANDARD
TZOFFSETFROM:+0200
TZOFFSETTO:+0100
TZNAME:CET
DTSTART:20211031T010000
END:STANDARD
BEGIN:DAYLIGHT
TZOFFSETFROM:+0100
TZOFFSETTO:+0200
TZNAME:CEST
DTSTART:20220327T010000
END:DAYLIGHT
BEGIN:STANDARD
TZOFFSETFROM:+0200
TZOFFSETTO:+0100
TZNAME:CET
DTSTART:20221030T010000
END:STANDARD
END:VTIMEZONE
BEGIN:VEVENT
DTSTART;TZID=Europe/Madrid:20210531T100000
DTEND;TZID=Europe/Madrid:20210531T114500
DTSTAMP:20260423T083028
CREATED:20210528T185833Z
LAST-MODIFIED:20210528T185833Z
UID:3751-1622455200-1622461500@linagalvez.eu
SUMMARY:Panel STOA. Presentación de los estudios: Impacto en la salud del 5G e Impacto medioambiental del 5G.
DESCRIPTION: Este evento presentará los resultados de dos estudios de STOA\, que evalúan nuestra comprensión actual de los impactos de 5G en la salud y el medio ambiente. \nDurante las últimas décadas\, se han desarrollado nuevas tecnologías de comunicación inalámbrica\, como teléfonos móviles\, redes celulares y Wi-Fi\, a una velocidad sin precedentes. Se espera que el próximo despliegue de la tecnología 5G en la UE brinde nuevas oportunidades para los ciudadanos y las empresas al permitir una navegación\, transmisión y descarga de Internet más rápidas\, así como al garantizar una mejor conectividad. Sin embargo\, 5G\, junto con 3G y 4G\, con los que operará en paralelo durante varios años\, también pueden representar una amenaza para la salud humana.\nMás información AQUÍ \n# STOA5G
URL:https://linagalvez.eu/agenda/panel-stoa-presentacion-de-los-estudios-impacto-en-la-salud-del-5g-e-impacto-medioambiental-del-5g/
CATEGORIES:Actualidad,Destacado,ITRE,STOA
ATTACH;FMTTYPE=image/jpeg:https://linagalvez.eu/wp-content/uploads/2021/05/Health-impact-of-5G-.jpeg
END:VEVENT
BEGIN:VEVENT
DTSTART;TZID=Europe/Madrid:20210531T134500
DTEND;TZID=Europe/Madrid:20210531T184500
DTSTAMP:20260423T083028
CREATED:20210312T181424Z
LAST-MODIFIED:20210528T191411Z
UID:3757-1622468700-1622486700@linagalvez.eu
SUMMARY:Comisión Industria\, Investigación y Energía ITRE
DESCRIPTION:Presentación de las actividades actuales y futuras del Centro de Satélites de la Unión Europea por el Embajador Sorin Dumitru Ducaru\, Director de SatCen y Matthias Petschke\, Director de Espacio (DG DEFIS)\, También tendrá lugar un intercambio de ideas con Timo Pesonen\, Director General de Industria de Defensa y Espacio (DG DEFIS)\, sobre el Acuerdo Marco Financiero de Asociación en el marco del Programa Espacial de la UE.
URL:https://linagalvez.eu/agenda/comision-industria-investigacion-y-energia-2-2-3-2-2-2-2/
CATEGORIES:Actualidad,Destacado,ITRE,Parlamento
ATTACH;FMTTYPE=image/png:https://linagalvez.eu/wp-content/uploads/2020/09/ITRE.-Logo.png
END:VEVENT
END:VCALENDAR