BEGIN:VCALENDAR
VERSION:2.0
PRODID:-//Lina Gálvez - ECPv6.15.20//NONSGML v1.0//EN
CALSCALE:GREGORIAN
METHOD:PUBLISH
X-ORIGINAL-URL:https://linagalvez.eu
X-WR-CALDESC:Eventos para Lina Gálvez
REFRESH-INTERVAL;VALUE=DURATION:PT1H
X-Robots-Tag:noindex
X-PUBLISHED-TTL:PT1H
BEGIN:VTIMEZONE
TZID:Europe/Madrid
BEGIN:DAYLIGHT
TZOFFSETFROM:+0100
TZOFFSETTO:+0200
TZNAME:CEST
DTSTART:20200329T010000
END:DAYLIGHT
BEGIN:STANDARD
TZOFFSETFROM:+0200
TZOFFSETTO:+0100
TZNAME:CET
DTSTART:20201025T010000
END:STANDARD
BEGIN:DAYLIGHT
TZOFFSETFROM:+0100
TZOFFSETTO:+0200
TZNAME:CEST
DTSTART:20210328T010000
END:DAYLIGHT
BEGIN:STANDARD
TZOFFSETFROM:+0200
TZOFFSETTO:+0100
TZNAME:CET
DTSTART:20211031T010000
END:STANDARD
BEGIN:DAYLIGHT
TZOFFSETFROM:+0100
TZOFFSETTO:+0200
TZNAME:CEST
DTSTART:20220327T010000
END:DAYLIGHT
BEGIN:STANDARD
TZOFFSETFROM:+0200
TZOFFSETTO:+0100
TZNAME:CET
DTSTART:20221030T010000
END:STANDARD
END:VTIMEZONE
BEGIN:VEVENT
DTSTART;TZID=Europe/Madrid:20210617T090000
DTEND;TZID=Europe/Madrid:20210617T100000
DTSTAMP:20260423T083208
CREATED:20210312T181424Z
LAST-MODIFIED:20210611T141541Z
UID:3846-1623920400-1623924000@linagalvez.eu
SUMMARY:Comisión Industria\, Investigación y Energía ITRE
DESCRIPTION:Se debatirá la propuesta de revisión relativa a la regulación del roaming.
URL:https://linagalvez.eu/agenda/comision-industria-investigacion-y-energia-2-2-3-2-2-2-2-2-2/
CATEGORIES:Actualidad,ITRE,Parlamento
ATTACH;FMTTYPE=image/png:https://linagalvez.eu/wp-content/uploads/2020/09/ITRE.-Logo.png
END:VEVENT
BEGIN:VEVENT
DTSTART;TZID=Europe/Madrid:20210617T100000
DTEND;TZID=Europe/Madrid:20210617T103000
DTSTAMP:20260423T083208
CREATED:20210611T142048Z
LAST-MODIFIED:20210615T143602Z
UID:3870-1623924000-1623925800@linagalvez.eu
SUMMARY:Ponencia Inaugural; Conferencia Internacional de Experiencias de transferencia de conocimiento de la Universidad
DESCRIPTION:Ponencia Inaugural en Conferencia Internacional de Experiencias de transferencia de conocimiento de la Universidad \n\n\nI Workshop Mujeres Investigadoras Innovan
URL:https://linagalvez.eu/agenda/ponencia-inaugural-conferencia-internacional-de-experiencias-de-transferencia-de-conocimiento-de-la-universidad/
CATEGORIES:Actualidad,Destacado,FEMM,S&D,STOA
ATTACH;FMTTYPE=image/png:https://linagalvez.eu/wp-content/uploads/2021/06/Cartel1080_1350-819x1024-1.png
END:VEVENT
END:VCALENDAR