BEGIN:VCALENDAR
VERSION:2.0
PRODID:-//Lina Gálvez - ECPv6.15.20//NONSGML v1.0//EN
CALSCALE:GREGORIAN
METHOD:PUBLISH
X-WR-CALNAME:Lina Gálvez
X-ORIGINAL-URL:https://linagalvez.eu
X-WR-CALDESC:Eventos para Lina Gálvez
REFRESH-INTERVAL;VALUE=DURATION:PT1H
X-Robots-Tag:noindex
X-PUBLISHED-TTL:PT1H
BEGIN:VTIMEZONE
TZID:Europe/Madrid
BEGIN:DAYLIGHT
TZOFFSETFROM:+0100
TZOFFSETTO:+0200
TZNAME:CEST
DTSTART:20200329T010000
END:DAYLIGHT
BEGIN:STANDARD
TZOFFSETFROM:+0200
TZOFFSETTO:+0100
TZNAME:CET
DTSTART:20201025T010000
END:STANDARD
BEGIN:DAYLIGHT
TZOFFSETFROM:+0100
TZOFFSETTO:+0200
TZNAME:CEST
DTSTART:20210328T010000
END:DAYLIGHT
BEGIN:STANDARD
TZOFFSETFROM:+0200
TZOFFSETTO:+0100
TZNAME:CET
DTSTART:20211031T010000
END:STANDARD
BEGIN:DAYLIGHT
TZOFFSETFROM:+0100
TZOFFSETTO:+0200
TZNAME:CEST
DTSTART:20220327T010000
END:DAYLIGHT
BEGIN:STANDARD
TZOFFSETFROM:+0200
TZOFFSETTO:+0100
TZNAME:CET
DTSTART:20221030T010000
END:STANDARD
END:VTIMEZONE
BEGIN:VEVENT
DTSTART;TZID=Europe/Madrid:20210625T110000
DTEND;TZID=Europe/Madrid:20210625T123000
DTSTAMP:20260423T083033
CREATED:20210312T182507Z
LAST-MODIFIED:20210621T065454Z
UID:3914-1624618800-1624624200@linagalvez.eu
SUMMARY:Panel for the Future of Science and Technology (STOA)
DESCRIPTION:La próxima reunión del Panel de STOA se llevará a cabo el viernes 25 de junio de 2021\, de 11.00 a 12.30 horas. \nDurante esta reunión se presentarán los resultados del estudio de Evaluación de Tecnología titulado; ‘Innovative technologies shaping the 2040 battlefield’
URL:https://linagalvez.eu/agenda/panel-for-the-future-of-science-and-technology-stoa-5-2-2/
CATEGORIES:Actualidad,Parlamento,STOA
ATTACH;FMTTYPE=image/png:https://linagalvez.eu/wp-content/uploads/2020/12/STOA-panel.png
END:VEVENT
END:VCALENDAR