BEGIN:VCALENDAR
VERSION:2.0
PRODID:-//Lina Gálvez - ECPv6.15.20//NONSGML v1.0//EN
CALSCALE:GREGORIAN
METHOD:PUBLISH
X-ORIGINAL-URL:https://linagalvez.eu
X-WR-CALDESC:Eventos para Lina Gálvez
REFRESH-INTERVAL;VALUE=DURATION:PT1H
X-Robots-Tag:noindex
X-PUBLISHED-TTL:PT1H
BEGIN:VTIMEZONE
TZID:Europe/Madrid
BEGIN:DAYLIGHT
TZOFFSETFROM:+0100
TZOFFSETTO:+0200
TZNAME:CEST
DTSTART:20200329T010000
END:DAYLIGHT
BEGIN:STANDARD
TZOFFSETFROM:+0200
TZOFFSETTO:+0100
TZNAME:CET
DTSTART:20201025T010000
END:STANDARD
BEGIN:DAYLIGHT
TZOFFSETFROM:+0100
TZOFFSETTO:+0200
TZNAME:CEST
DTSTART:20210328T010000
END:DAYLIGHT
BEGIN:STANDARD
TZOFFSETFROM:+0200
TZOFFSETTO:+0100
TZNAME:CET
DTSTART:20211031T010000
END:STANDARD
BEGIN:DAYLIGHT
TZOFFSETFROM:+0100
TZOFFSETTO:+0200
TZNAME:CEST
DTSTART:20220327T010000
END:DAYLIGHT
BEGIN:STANDARD
TZOFFSETFROM:+0200
TZOFFSETTO:+0100
TZNAME:CET
DTSTART:20221030T010000
END:STANDARD
END:VTIMEZONE
BEGIN:VEVENT
DTSTART;TZID=Europe/Madrid:20211018T080000
DTEND;TZID=Europe/Madrid:20211021T170000
DTSTAMP:20260420T055312
CREATED:20210211T164450Z
LAST-MODIFIED:20211015T121009Z
UID:4153-1634544000-1634835600@linagalvez.eu
SUMMARY:Pleno del Parlamento Europeo en Estrasburgo
DESCRIPTION:Destacados del pleno. Estrasburgo\, 18-21 de octubre 2021\n\n\n\nImpulso de la política social para apuntalar la recuperación en la eurozona\n\n\n\n\n\n\n El lunes se debatirá este informe 2021/2062 (INI) Employment and social policies of the euro area 2021  del que ha sido ponente la Eurodiputada Lina Gálvez\, y que recalca la importancia de las políticas sociales en la eurozona y en los planes de recuperación y resiliencia de la Unión. La pandemia de COVID-19 ha afectado el bienestar de los europeos en todo el continente\, y en particular a los grupos de población más vulnerables. Para mitigar el impacto de la pandemia y apoyar la recuperación económica de la UE\, el Parlamento defiende la importancia de mejorar la integración de los objetivos sociales\, el bienestar y la sostenibilidad en la planificación presupuestaria de la Unión. \n\n\n\nDe la granja a la mesa\nEl Parlamento evaluará el lunes la nueva estrategia «De la granja a la mesa»que busca avanzar hacia un sistema alimentario europeo más justo\, saludable y respetuoso con el medioambiente. El pleno votará su posición el martes y los resultados se anunciarán al día siguiente por la mañana. \n\n\n\n\n\n\n\n\nEstado de derecho en Polonia\n\n\n\nLos eurodiputados debatirán el martes con el primer ministro polaco Mateusz Morawiecki y la presidenta de la Comisión Europea\, Ursula von der Leyen sobre el del Tribunal Constitucional polaco que cuestiona la primacía de la legislación comunitaria. Además\, votarán una resolución el jueves. \nEl miércoles\, los miembros del PE discutirán la situación un año después de la prohibición prácticamente total del aborto en Polonia\, que entró en vigor en enero de 2021. \nCumbre climática de la ONU\nAnte la próxima cumbre internacional sobre clima\, COP26\, que tendrá lugar en noviembre en Glasgow\, el pleno demandará reducciones de las emisiones más ambiciosas en todo el mundo. El debate está previsto para el miércoles y la votación\, al día siguiente. \nPapeles de Pandora\nL@s eurodiputad@s votarán el jueves una resolución en la que expresarán su indignación sobre la masiva evasión fiscal destapada por los papels de Pandora y reclamarán para resolver los problemas creados. \nGanador/A del Sájarov\nEl presidente del Parlamento\, David Sassoli\, y los líderes de los grupos políticos decidirán el miércoles quién ganará el Premio Sájarov a la Libertad de Conciencia este año. Los finalistas son las mujeres afganas\, la política boliviana Jeanine Áñez y el activista ruso Alexéi Navalni. \nVacunas Covid-19\nLos eurodiputados insistirán el jueves en la necesidad de contar con una mayor transparencia en el desarrollo\, adquisición y distribución de vacunas. \nOtros temas en el pleno\n\nDemandas ante la cumbre europea del 21 y 22 de octubre sobre la pandemia\, las vacunas y la estrategia digital\nRecomendaciones para proteger a los trabajadores del amianto\nActualización de las normas sobre seguros de vehículos automóviles para garantizar mejor protección y trato igualitario a los ciudadanos\nEmisiones de metano\nRelaciones UE-Taiwán\nPresupuesto 2022
URL:https://linagalvez.eu/agenda/pleno-del-parlamento-europeo-2-2-2-2-2-2-2-4-2/
CATEGORIES:Actualidad,Destacado,Parlamento
ATTACH;FMTTYPE=image/jpeg:https://linagalvez.eu/wp-content/uploads/2020/03/European_Parliament_Strasbourg_Hemicycle_-_Diliff-2-scaled.jpg
END:VEVENT
BEGIN:VEVENT
DTSTART;TZID=Europe/Madrid:20211018T153000
DTEND;TZID=Europe/Madrid:20211018T170000
DTSTAMP:20260420T055312
CREATED:20210208T092530Z
LAST-MODIFIED:20211017T162417Z
UID:4472-1634571000-1634576400@linagalvez.eu
SUMMARY:S&D Group Meeting
DESCRIPTION:Reunión del Grupo S&D preparatoria de la sesión plenaria.
URL:https://linagalvez.eu/agenda/sd-group-meeting-23-3-2-2-4-2-3-3-5-2-2-2-2/
CATEGORIES:Actualidad,Parlamento,S&D
ATTACH;FMTTYPE=image/png:https://linagalvez.eu/wp-content/uploads/2020/01/1-S&D.svg.png
END:VEVENT
BEGIN:VEVENT
DTSTART;TZID=Europe/Madrid:20211018T190000
DTEND;TZID=Europe/Madrid:20211018T193000
DTSTAMP:20260420T055312
CREATED:20210208T091341Z
LAST-MODIFIED:20211017T121243Z
UID:4471-1634583600-1634585400@linagalvez.eu
SUMMARY:Intervención en Pleno. Debate sobre el Impulso de la política social para apuntalar la recuperación en la eurozona
DESCRIPTION:El lunes se debatirá este informe 2021/2062 (INI) Employment and social policies of the euro area 2021  del que ha sido ponente la Eurodiputada Lina Gálvez\, y en el que se recalca la importancia de las políticas sociales en la eurozona y en los planes de recuperación y resiliencia de la Unión. \nLa pandemia de COVID-19 ha afectado el bienestar de los europeos en todo el continente\, y en particular a los grupos de población más vulnerables. Para mitigar el impacto de la pandemia y apoyar la recuperación económica de la UE\, el Parlamento defiende la importancia de mejorar la integración de los objetivos sociales\, el bienestar y la sostenibilidad en la planificación presupuestaria de la Unión. \nSe votará en miércoles \n\n\n\nEl debate podrá ser seguido online
URL:https://linagalvez.eu/agenda/intervencion-en-pleno-debate-sobre-la-propuesta-de-european-skills-agenda-2-2-2/
CATEGORIES:Actualidad,Destacado,EMPL,Parlamento,S&D
ATTACH;FMTTYPE=image/jpeg:https://linagalvez.eu/wp-content/uploads/2021/06/feminizacion-pobreza.jpg
END:VEVENT
END:VCALENDAR