BEGIN:VCALENDAR
VERSION:2.0
PRODID:-//Lina Gálvez - ECPv6.15.20//NONSGML v1.0//EN
CALSCALE:GREGORIAN
METHOD:PUBLISH
X-ORIGINAL-URL:https://linagalvez.eu
X-WR-CALDESC:Eventos para Lina Gálvez
REFRESH-INTERVAL;VALUE=DURATION:PT1H
X-Robots-Tag:noindex
X-PUBLISHED-TTL:PT1H
BEGIN:VTIMEZONE
TZID:Europe/Madrid
BEGIN:DAYLIGHT
TZOFFSETFROM:+0100
TZOFFSETTO:+0200
TZNAME:CEST
DTSTART:20200329T010000
END:DAYLIGHT
BEGIN:STANDARD
TZOFFSETFROM:+0200
TZOFFSETTO:+0100
TZNAME:CET
DTSTART:20201025T010000
END:STANDARD
BEGIN:DAYLIGHT
TZOFFSETFROM:+0100
TZOFFSETTO:+0200
TZNAME:CEST
DTSTART:20210328T010000
END:DAYLIGHT
BEGIN:STANDARD
TZOFFSETFROM:+0200
TZOFFSETTO:+0100
TZNAME:CET
DTSTART:20211031T010000
END:STANDARD
BEGIN:DAYLIGHT
TZOFFSETFROM:+0100
TZOFFSETTO:+0200
TZNAME:CEST
DTSTART:20220327T010000
END:DAYLIGHT
BEGIN:STANDARD
TZOFFSETFROM:+0200
TZOFFSETTO:+0100
TZNAME:CET
DTSTART:20221030T010000
END:STANDARD
END:VTIMEZONE
BEGIN:VEVENT
DTSTART;TZID=Europe/Madrid:20211025T080000
DTEND;TZID=Europe/Madrid:20211028T170000
DTSTAMP:20260423T010142
CREATED:20211024T175650Z
LAST-MODIFIED:20211024T175651Z
UID:4515-1635148800-1635440400@linagalvez.eu
SUMMARY:European Gender Equality Week
DESCRIPTION:Por iniciativa de la Comisión FEMM\, el Parlamento Europeo celebrará su segunda Semana Europea de la Igualdad de Género durante la última semana de octubre de 2021. \n\n\nTras el éxito de la primera Semana Europea de la Igualdad de Género organizada en 2020\, el Parlamento Europeo continúa con esta importante iniciativa. Todas las comisiones y delegaciones parlamentarias están invitadas a celebrar eventos cuestiones de desigualdad de género en sus áreas de competencia. \nAquí se puede consultar la programación de la semana y los enlaces a las actividades
URL:https://linagalvez.eu/agenda/european-gender-equality-week/
CATEGORIES:Actualidad,Destacado,EMPL,FEMM,ITRE,Parlamento
ATTACH;FMTTYPE=image/jpeg:https://linagalvez.eu/wp-content/uploads/2015/03/igualdad-zigzag.jpg
END:VEVENT
BEGIN:VEVENT
DTSTART;TZID=Europe/Madrid:20211028T090000
DTEND;TZID=Europe/Madrid:20211028T110000
DTSTAMP:20260423T010142
CREATED:20201001T083352Z
LAST-MODIFIED:20211024T183112Z
UID:4523-1635411600-1635418800@linagalvez.eu
SUMMARY:Conferencia sobre el Índice de Igualdad de Género 2021 de EIGE
DESCRIPTION:EIGE will reveal the new scores for gender equality in the EU and show trends over time during an online event on 28 October. Decision-makers and experts will discuss the findings of the Gender Equality Index and areas for improvement\, especially around decision-making. \nThe conference will also explore this year’s special focus of the Index – digitalisation in the world of work and the consequences for gender equality. Watch the conference on this webpage or follow along on Facebook. \n\n\n\nRead more about the Gender Equality Index 2021 \n\n\nAgenda\nhttps://eige.europa.eu/gender-equality-index/2020-conference
URL:https://linagalvez.eu/agenda/conferencia-sobre-el-indice-de-igualdad-de-genero-2020-de-eige-2/
CATEGORIES:Actualidad,FEMM,Parlamento
END:VEVENT
BEGIN:VEVENT
DTSTART;TZID=Europe/Madrid:20211028T200000
DTEND;TZID=Europe/Madrid:20211028T210000
DTSTAMP:20260423T010142
CREATED:20211029T090712Z
LAST-MODIFIED:20211029T090712Z
UID:4577-1635451200-1635454800@linagalvez.eu
SUMMARY:Presentación del libro "Nueva Socialdemaocracia" de Manuel Escudero. Sevilla
DESCRIPTION:
URL:https://linagalvez.eu/agenda/presentacion-del-libro-nueva-socialdemaocracia-de-manuel-escudero-sevilla/
CATEGORIES:Actualidad,Andalucía,S&D
ATTACH;FMTTYPE=image/jpeg:https://linagalvez.eu/wp-content/uploads/2021/10/Libro-de-Manu-Escudero.jpg
END:VEVENT
END:VCALENDAR