BEGIN:VCALENDAR
VERSION:2.0
PRODID:-//Lina Gálvez - ECPv6.15.20//NONSGML v1.0//EN
CALSCALE:GREGORIAN
METHOD:PUBLISH
X-WR-CALNAME:Lina Gálvez
X-ORIGINAL-URL:https://linagalvez.eu
X-WR-CALDESC:Eventos para Lina Gálvez
REFRESH-INTERVAL;VALUE=DURATION:PT1H
X-Robots-Tag:noindex
X-PUBLISHED-TTL:PT1H
BEGIN:VTIMEZONE
TZID:Europe/Madrid
BEGIN:DAYLIGHT
TZOFFSETFROM:+0100
TZOFFSETTO:+0200
TZNAME:CEST
DTSTART:20230326T010000
END:DAYLIGHT
BEGIN:STANDARD
TZOFFSETFROM:+0200
TZOFFSETTO:+0100
TZNAME:CET
DTSTART:20231029T010000
END:STANDARD
BEGIN:DAYLIGHT
TZOFFSETFROM:+0100
TZOFFSETTO:+0200
TZNAME:CEST
DTSTART:20240331T010000
END:DAYLIGHT
BEGIN:STANDARD
TZOFFSETFROM:+0200
TZOFFSETTO:+0100
TZNAME:CET
DTSTART:20241027T010000
END:STANDARD
BEGIN:DAYLIGHT
TZOFFSETFROM:+0100
TZOFFSETTO:+0200
TZNAME:CEST
DTSTART:20250330T010000
END:DAYLIGHT
BEGIN:STANDARD
TZOFFSETFROM:+0200
TZOFFSETTO:+0100
TZNAME:CET
DTSTART:20251026T010000
END:STANDARD
END:VTIMEZONE
BEGIN:VEVENT
DTSTART;TZID=Europe/Madrid:20241113T160000
DTEND;TZID=Europe/Madrid:20241113T170000
DTSTAMP:20260423T135144
CREATED:20241104T121627Z
LAST-MODIFIED:20250224T164804Z
UID:10131-1731513600-1731517200@linagalvez.eu
SUMMARY:Webinario del Grupo S&D sobre el resultado de las elecciones presidenciales de EE.UU.
DESCRIPTION:Lina Gálvez asistirá al webinario de S&D para el intercambio de puntos de vista sobre el resultado de las elecciones presidenciales de EE.UU. con la Embajadora de la Unión Europea en los Estados Unidos\, Jovita Neliupšienė.
URL:https://linagalvez.eu/agenda/webinario-sd-resultado-elecciones-presidenciales-eeuu/
CATEGORIES:Actualidad,D-US,Parlamento,S&D
ATTACH;FMTTYPE=image/jpeg:https://linagalvez.eu/wp-content/uploads/2017_EU-USA-Leaders-Meeting_copyright-EU-Council-2017.jpg
END:VEVENT
END:VCALENDAR