BEGIN:VCALENDAR
VERSION:2.0
PRODID:-//Lina Gálvez - ECPv6.15.20//NONSGML v1.0//EN
CALSCALE:GREGORIAN
METHOD:PUBLISH
X-WR-CALNAME:Lina Gálvez
X-ORIGINAL-URL:https://linagalvez.eu
X-WR-CALDESC:Eventos para Lina Gálvez
REFRESH-INTERVAL;VALUE=DURATION:PT1H
X-Robots-Tag:noindex
X-PUBLISHED-TTL:PT1H
BEGIN:VTIMEZONE
TZID:Europe/Madrid
BEGIN:DAYLIGHT
TZOFFSETFROM:+0100
TZOFFSETTO:+0200
TZNAME:CEST
DTSTART:20230326T010000
END:DAYLIGHT
BEGIN:STANDARD
TZOFFSETFROM:+0200
TZOFFSETTO:+0100
TZNAME:CET
DTSTART:20231029T010000
END:STANDARD
BEGIN:DAYLIGHT
TZOFFSETFROM:+0100
TZOFFSETTO:+0200
TZNAME:CEST
DTSTART:20240331T010000
END:DAYLIGHT
BEGIN:STANDARD
TZOFFSETFROM:+0200
TZOFFSETTO:+0100
TZNAME:CET
DTSTART:20241027T010000
END:STANDARD
BEGIN:DAYLIGHT
TZOFFSETFROM:+0100
TZOFFSETTO:+0200
TZNAME:CEST
DTSTART:20250330T010000
END:DAYLIGHT
BEGIN:STANDARD
TZOFFSETFROM:+0200
TZOFFSETTO:+0100
TZNAME:CET
DTSTART:20251026T010000
END:STANDARD
END:VTIMEZONE
BEGIN:VEVENT
DTSTART;TZID=Europe/Madrid:20240301T080000
DTEND;TZID=Europe/Madrid:20240302T170000
DTSTAMP:20260426T014620
CREATED:20240226T112428Z
LAST-MODIFIED:20240227T203928Z
UID:8909-1709280000-1709398800@linagalvez.eu
SUMMARY:Election Congress of the Party of European Socialists (PES). Roma
DESCRIPTION:La eurodiputada Lina Gálvez participará\, en calidad de delegada\, en el Congreso Electoral del Partido de los Socialistas Europeos (PES) que se desarrollará en Roma el 2 de marzo bajo el lema «La Europa que queremos: social\, democrática y sostenible» \nLa familia política progresista europea se reunirá en Roma\, Italia\, el 2 de marzo para el Congreso Electoral del Partido de los Socialistas Europeos (PSE). Jefes y jefas de Estado y de Gobierno\, líderes\, activistas y simpatizantes socialistas de toda Europa se reunirán en el lugar de nacimiento simbólico del proyecto de la UE (la ciudad donde se firmó el Tratado de Roma de 1957) para dar el siguiente paso hacia las elecciones europeas de 2024. \nEn Roma\, las personas delegadas al Congreso Electoral elegirán al candidato común del PSE y aprobarán el manifiesto electoral del PSE. \nEn el contexto del Congreso Electoral\, también se llevarán a cabo otras reuniones de alto nivel\, incluida una reunión de líderes y una reunión de la Presidencia del PES. Antes del evento\, se organizarán eventos complementarios y reuniones por parte de los partidos y organizaciones miembros del PES. \nSiga aquí en vivo el Congreso Electoral del 2 de marzo: https://events.pes.eu/
URL:https://linagalvez.eu/agenda/election-congress-of-the-party-of-european-socialists-pes-roma/
CATEGORIES:Actualidad,Destacado,Parlamento,S&D
ATTACH;FMTTYPE=image/jpeg:https://linagalvez.eu/wp-content/uploads/2023/11/F-mrsoUWIAIRJex.jpg
END:VEVENT
BEGIN:VEVENT
DTSTART;TZID=Europe/Madrid:20240304T110000
DTEND;TZID=Europe/Madrid:20240304T130000
DTSTAMP:20260426T014620
CREATED:20240301T131900Z
LAST-MODIFIED:20240301T131900Z
UID:8921-1709550000-1709557200@linagalvez.eu
SUMMARY:Encuentro "Derechos de la mujer en la UE: Logros y retos ante las elecciones europeas 2024" Madrid
DESCRIPTION:La eurodiputada socialista Lina Gálvez participará el próximo lunes 4 de marzo en un evento en la Fundación Giner de los Ríos donde se analizarán los logros y desafíos que enfrenta la Unión Europea en materia de igualdad. El encuentro titulado «Derechos de la mujer en la UE: Logros y retos ante las elecciones europeas 2024»\, contará con la presencia de cinco eurodiputadas de la Comisión de Derechos de las Mujeres e Igualdad de Género que analizarán los hitos y avances en igualdad de género alcanzados en la Unión Europea durante la legislatura 2019-2024\, así como los desafíos que se plantean para la próxima legislatura\, tras las elecciones europeas del 9 de junio. \n\n\n\n\nLa Oficina del Parlamento Europeo organiza este evento  de entrada libre y que tendrá lugar el 4 de marzo de 2024 en la Fundación Francisco Giner de los Ríos\, a partir de las 11 hrs.
URL:https://linagalvez.eu/agenda/encuentro-derechos-de-la-mujer-en-la-ue-logros-y-retos-ante-las-elecciones-europeas-2024-madrid/
CATEGORIES:Actualidad,Destacado,FEMM,S&D
ATTACH;FMTTYPE=image/jpeg:https://linagalvez.eu/wp-content/uploads/2024/01/1697651219172_20231018_EP-157398H_ENG_PST_136_MOBILE.jpg
END:VEVENT
BEGIN:VEVENT
DTSTART;TZID=Europe/Madrid:20240305T113000
DTEND;TZID=Europe/Madrid:20240305T123000
DTSTAMP:20260426T014620
CREATED:20240209T144359Z
LAST-MODIFIED:20240304T104802Z
UID:8924-1709638200-1709641800@linagalvez.eu
SUMMARY:Shadows meeting - Cyber Solidarity Act. Fase negociadora
DESCRIPTION:La eurodiputada Lina Gálvez participará en esta reunión de ponentes en la sombra sobre la primera Ley de Cibersolidaridad\, de la que es ponente en el Parlamento Europeo.
URL:https://linagalvez.eu/agenda/primer-trilogo-cyber-solidarity-act-2/
CATEGORIES:Actualidad,Destacado,ITRE,Parlamento
ATTACH;FMTTYPE=image/jpeg:https://linagalvez.eu/wp-content/uploads/2023/09/LGM-ITRE.jpg
END:VEVENT
BEGIN:VEVENT
DTSTART;TZID=Europe/Madrid:20240305T200000
DTEND;TZID=Europe/Madrid:20240305T220000
DTSTAMP:20260426T014620
CREATED:20240209T144359Z
LAST-MODIFIED:20240304T111830Z
UID:8929-1709668800-1709676000@linagalvez.eu
SUMMARY:Trílogos de la primera Ley Europea De Cibersolidaridad. Cyber Solidarity Act. Fase negociadora
DESCRIPTION:La eurodiputada Lina Gálvez participará en esta reunión negociadora (trílogos) sobre la primera Ley de Cibersolidaridad\, de la que es ponente en el Parlamento Europeo. \nLa eurodiputada Lina Gálvez desempeñará un papel crucial en el segundo trílogo\, donde se abordará la primera Ley de Cibersolidaridad\, tema sobre el cual ella es ponente en el Parlamento Europeo. En esta reunión\, Gálvez se enfrentará a negociaciones con el equipo del Parlamento Europeo\, la presidencia del Consejo de la UE y la Comisión Europea. La regulación de la cibersolidaridad será el punto central de debate\, marcando un hito en la colaboración interinstitucional para abordar los desafíos digitales y promover un entorno cibernético más seguro y solidario en la Unión Europa.
URL:https://linagalvez.eu/agenda/primer-trilogo-cyber-solidarity-act-2-2/
CATEGORIES:Actualidad,Destacado,ITRE,Parlamento
ATTACH;FMTTYPE=image/jpeg:https://linagalvez.eu/wp-content/uploads/2024/02/2024-02-14_LGM-MEP_trilogo_noticia.jpg
END:VEVENT
BEGIN:VEVENT
DTSTART;TZID=Europe/Madrid:20240307T090000
DTEND;TZID=Europe/Madrid:20240307T120000
DTSTAMP:20260426T014620
CREATED:20210927T104830Z
LAST-MODIFIED:20240304T122536Z
UID:8196-1709802000-1709812800@linagalvez.eu
SUMMARY:Reunión de la Comisión de Derechos de las Mujeres e Igualdad de Género FEMM. 8M Mujer y Deporte
DESCRIPTION:El jueves 7 de marzo de 2024\, para celebrar el Día Internacional de la Mujer 2024\, la Comisión FEMM\, en colaboración con los Parlamentos Nacionales\, organizará una reunión de la Comisión Interparlamentaria (ICM) sobre el tema «Las mujeres en el deporte».La eurodiputada Lina Gálvez asistirá a la reunión del Comité Interparlamentario por el día de la Mujer\, así como a los debates y discusiones posteriores. \n\nLas mujeres en el deporte luchan para garantizar que sus logros sean reconocidos por igual que sus homólogos masculinos\, rompiendo estereotipos en ciertos deportes que normalmente se consideran un mundo de hombres. Son bien conocidos los informes sobre los escándalos de abuso que afectan a las mujeres en el deporte en una variedad de campos\, así como la lucha de las mujeres por la igualdad de estatus y recompensas financieras. Nos gustaría examinar las cuestiones\, así como celebrar y reconocer los avances logrados en este campo\, especialmente en el contexto de los Juegos Olímpicos de París del próximo año. Los valores de la deportividad\, el trabajo en equipo y la responsabilidad social a través del deporte son respetados en todo el mundo. \n\nEl objetivo del evento es intercambiar opiniones con personas expertas y representantes de los parlamentos nacionales sobre la situación actual de las mujeres en el deporte. La ICM explorará cómo las mujeres en el deporte han ganado terreno\, pero aún enfrentan obstáculos específicos\, y discutirá el camino a seguir.\nPara más info:\n\n\n\n\n\nSitio web de la Comisión de Derechos de la Mujer e Igualdad de Género
URL:https://linagalvez.eu/agenda/joint-meeting-committee-on-employment-and-social-affairs-committee-on-womens-rights-and-gender-equality-2-3-2-3-2-2-2-2-4-2-2-2-2-2-2-2-2-2-3-2-2-2-5-2-2/
CATEGORIES:Destacado,FEMM,Parlamento
ATTACH;FMTTYPE=image/jpeg:https://linagalvez.eu/wp-content/uploads/2021/09/Mujer-y-deporte.jpg
END:VEVENT
BEGIN:VEVENT
DTSTART;TZID=Europe/Madrid:20240308T100000
DTEND;TZID=Europe/Madrid:20240308T120000
DTSTAMP:20260426T014620
CREATED:20240304T131507Z
LAST-MODIFIED:20240308T105308Z
UID:8935-1709892000-1709899200@linagalvez.eu
SUMMARY:Evento de Alto Nivel 8M de 2024\, Women in Digital
DESCRIPTION:Lina Gálvez participará en el Evento de Alto Nivel del 8M del Parlamento Europeo titulado «Women in Digital»\, que será organizado por Thierry Breton\, Comisario de Mercado Interior\, y quien además realizará las palabras de apertura. Este evento contará con la participación de destacados ponentes\, entre ellos\, Tinne Van der Straeten\, Ministra belga de Energía\, así como fundadoras de empresas de mujeres\, así representantes del mundo económico y digital. \nLina Gálvez será ponente en dos paneles: \nEn el primer panel\, se abordará el tema de educación y habilidades digitales. Compartirá el escenario con un representante del gobierno belga\, Madhumalti Sharma\, Embajadora de Luxemburgo para la Semana del Código de la UE\, y Alexandros Kofteros\, Profesor Principal de la Semana del Código de la UE en Chipre. \nEn el segundo panel\, se centrará en el emprendimiento y las carreras digitales\, compartiendo el escenario con Jérôme Debrulle\, Director General de la Dirección General de Regulación Económica; Lisa-Marie Fassl\, cofundadora de «Female Founders»\, y Monika Kapráliková\, Embajadora de Eslovaquia para la Semana del Código de la UE. La moderación estará a cargo de Renate Nikolay\, Directora General Adjunta de la DG CNECT. \n#InvestInWomen #IWD2024 #InternationalWomensDay2024 #IWD2024
URL:https://linagalvez.eu/agenda/evento-de-alto-nivel-8m-de-2024-women-in-digital/
CATEGORIES:Actualidad,Destacado,FEMM,ITRE,Parlamento
ATTACH;FMTTYPE=image/jpeg:https://linagalvez.eu/wp-content/uploads/2023/09/Lina-Galves-y-Thierry-Breton.jpeg
END:VEVENT
BEGIN:VEVENT
DTSTART;TZID=Europe/Madrid:20240311T170000
DTEND;TZID=Europe/Madrid:20240314T183000
DTSTAMP:20260426T014620
CREATED:20210211T164450Z
LAST-MODIFIED:20240311T082321Z
UID:8886-1710176400-1710441000@linagalvez.eu
SUMMARY:Pleno del Parlamento Europeo en Estrasburgo
DESCRIPTION:Destacados del pleno. Estrasburgo  \n\n\n\n\n\nDebate y aprobación de la Ley de Inteligencia Artificial;\n\n\nEficiencia energética de los edificios: debate y votación final;\nDebate y votación final de la Ley de Libertad de Medios;\n21 y 22 de marzo Cumbre de la UE: debate con la presidenta de la Comisión\, von der Leyen\, y la presidencia belga;\n\n\nVotación final sobre la reducción de emisiones de instalaciones industriales y grandes explotaciones ganaderas;\n\n\nNuevas normas Euro 7 para reducir las emisiones del transporte por carretera: debate y votación final;\nLuchar contra la injerencia extranjera: turno de preguntas a la comisaria Jourová\nNuevos objetivos de reducción de residuos: votación de la posición del Parlamento;\nSeguridad de los juguetes: votación sobre la posición del Parlamento;\nDía Internacional de la Mujer;\nDebate “Esto es Europa” con el primer ministro finlandés\, Petteri Orpo.\n\n\n\n\n\n\nSe podrán seguir las sesiones en el siguiente enlace:https://www.europarl.europa.eu/plenary/es/home.html
URL:https://linagalvez.eu/agenda/pleno-del-parlamento-europeo-2-2-2-2-2-2-2-6-2-3-3-6-2-2-2-3-2/
CATEGORIES:Actualidad,Destacado,EMPL,FEMM,ITRE,Parlamento
ATTACH;FMTTYPE=image/jpeg:https://linagalvez.eu/wp-content/uploads/2020/03/European_Parliament_Strasbourg_Hemicycle_-_Diliff-2-scaled.jpg
END:VEVENT
BEGIN:VEVENT
DTSTART;TZID=Europe/Madrid:20240312T103000
DTEND;TZID=Europe/Madrid:20240312T110000
DTSTAMP:20260426T014620
CREATED:20231123T080018Z
LAST-MODIFIED:20240312T092723Z
UID:8920-1710239400-1710241200@linagalvez.eu
SUMMARY:Destacados del pleno. 12 de marzo 2024
DESCRIPTION:La eurodiputada Lina Gálvez participará en el debate del martes de la Sesión Plenaria de Estrasburgo\, sobre la Decisión del Consejo que invita a los Estados miembros a ratificar el Convenio sobre la violencia y el acoso\, 2019 (núm. 190) de la Organización Internacional del Trabajo \nLa intervención podrá ser seguida en streaming en el siguiente enlace:https://www.europarl.europa.eu/plenary/es/home.html 
URL:https://linagalvez.eu/agenda/intervencion-en-pleno-pobreza-energetica-de-las-mujeres-2-2/
CATEGORIES:Actualidad,Destacado,EMPL,ITRE,Parlamento,S&D
ATTACH;FMTTYPE=image/jpeg:https://linagalvez.eu/wp-content/uploads/2024/01/1694683367861_20230914_EP-155110B_AH1_FM_177_MOBILE.jpg
END:VEVENT
BEGIN:VEVENT
DTSTART;TZID=Europe/Madrid:20240312T130000
DTEND;TZID=Europe/Madrid:20240312T140000
DTSTAMP:20260426T014620
CREATED:20210301T093643Z
LAST-MODIFIED:20250210T090030Z
UID:8951-1710248400-1710252000@linagalvez.eu
SUMMARY:S&D Reunión de la Delegación Socialista Española
DESCRIPTION:Reunión interna de trabajo para coordinar la actividad legislativa del Parlamento Europeo.
URL:https://linagalvez.eu/agenda/sd-reunion-de-la-delegacion-socialista-espanola-11-2-2-2-2-2-2-2-2-4-3-2-2-2-2-2-2-2-2-2-2-3-2-2-2-2-2-2-2-3-3-3-2/
CATEGORIES:Destacado,Parlamento,S&D
ATTACH;FMTTYPE=image/jpeg:https://linagalvez.eu/wp-content/uploads/2021/03/WhatsApp-Image-2022-07-11-at-12.02.33-PM.jpeg
END:VEVENT
BEGIN:VEVENT
DTSTART;TZID=Europe/Madrid:20240313T150000
DTEND;TZID=Europe/Madrid:20240313T150000
DTSTAMP:20260426T014620
CREATED:20231123T080018Z
LAST-MODIFIED:20240314T090107Z
UID:8983-1710342000-1710342000@linagalvez.eu
SUMMARY:Destacados del pleno.13 de marzo 2024
DESCRIPTION:La eurodiputada Lina Gálvez participará en el debate del miércoles de la Sesión Plenaria de Estrasburgo\, sobre la Semestre europeo de coordinación de la política económica 2024. Gálvez  ha sido la negociadora del Grupo S&D sobre los aspectos laborales del semestre europeo que se debate en la cámara. Está propuesta se debatirá en el plenario con el comisario de Empleo y Derechos Sociales\, Nicolas Schmit\, \nEl semestre europeo\, introducido en 2010 como respuesta a la crisis financiera\, es un ciclo de coordinación de políticas fiscales\, económicas\, laborales y sociales dentro de la UE. Su propósito es coordinar estrechamente y seguir las políticas de los estados miembros de la UE para evitar crisis similares en el futuro. \nEl Parlamento Europeo tradicionalmente presenta sus posiciones sobre este proceso antes de que la Comisión Europea adopte recomendaciones específicas por país a los estados miembros de la UE con respecto a sus políticas fiscales\, económicas\, laborales y sociales. El Parlamento adopta dos informes separados  :  uno sobre aspectos económicos y  otro  sobre aspectos laborales. \nLa intervención podrá ser seguida en streaming en el siguiente enlace:https://www.europarl.europa.eu/plenary/es/home.html 
URL:https://linagalvez.eu/agenda/intervencion-en-pleno-pobreza-energetica-de-las-mujeres-2-2-2/
CATEGORIES:Actualidad,Destacado,EMPL,Parlamento,S&D
ATTACH;FMTTYPE=image/jpeg:https://linagalvez.eu/wp-content/uploads/2023/12/LGM_Pleno-materias-criticas_12dic2023.jpg
END:VEVENT
BEGIN:VEVENT
DTSTART;TZID=Europe/Madrid:20240313T150000
DTEND;TZID=Europe/Madrid:20240313T150000
DTSTAMP:20260426T014620
CREATED:20231123T080018Z
LAST-MODIFIED:20240314T092301Z
UID:8986-1710342000-1710342000@linagalvez.eu
SUMMARY:Destacados del pleno.13 de marzo 2024. Hambruna masiva en Gaza.
DESCRIPTION:La eurodiputada Lina Gálvez participará en el debate del miércoles noche de la Sesión Plenaria de Estrasburgo\, sobre el riesgo inmediato de hambruna masiva en Gaza y los ataques a los suministros de ayuda humanitaria \nLa intervención podrá ser seguida en streaming en el siguiente enlace:https://www.europarl.europa.eu/plenary/es/home.html 
URL:https://linagalvez.eu/agenda/intervencion-en-pleno-pobreza-energetica-de-las-mujeres-2-2-2-2/
CATEGORIES:Actualidad,Destacado,FEMM,Parlamento,S&D
ATTACH;FMTTYPE=image/jpeg:https://linagalvez.eu/wp-content/uploads/2024/02/Lina-Galvez_MEP_PE-2024-02-27.jpg
END:VEVENT
BEGIN:VEVENT
DTSTART;TZID=Europe/Madrid:20240318T000000
DTEND;TZID=Europe/Madrid:20240320T000000
DTSTAMP:20260426T014620
CREATED:20240317T203751Z
LAST-MODIFIED:20240317T203851Z
UID:9002-1710720000-1710892800@linagalvez.eu
SUMMARY:Evento Juvenil: Mi Elección\, Mi Voz  para discutir los logros y prioridades de cara a las próximas elecciones europeas.
DESCRIPTION:Evento Juvenil: Mi Elección\, Mi Voz  para discutir los logros y prioridades de cara a las próximas elecciones europeas. \nLa eurodiputada Lina Gálvez participará en distintos actos relacionados con este evento que se desarrolla durante la semana en Bruselas. \nEl evento comenzará con 12 talleres sobre temas clave de interés para los jóvenes europeos\, organizados en cooperación con el Partido de los Socialistas Europeos\, la Fundación de Estudios Progresistas Europeos\, el Grupo PSE en el Comité de las Regiones y los Jóvenes Socialistas Europeos. La atención se centrará en la lucha contra la extrema derecha\, la justicia social y fiscal\, el acuerdo verde con el corazón rojo\, los derechos de las mujeres y LGBTIQ+\, el apoyo a Ucrania y un alto el fuego sostenible en Gaza. \nMartes 19 \n13:00 – 18:30: Bienvenida y Talleres con las Juventudes del Grupo S&D \nDurante la Ceremonia de Bienvenida y los diversos talleres organizados como parte del evento de las Juventudes del Grupo S&D\, la eurodiputada estará presente. Uno de los eventos destacados será en el panel: «Una Europa libre y democrática contra el populismo de extrema derecha»\, el cual se llevará a cabo en la FEPS\, institución de la cual Lina Gálvez es Vicepresidenta y Presidenta del Comité Científico. \n19:00 Reunión con Jóvenes socialistas\nLa eurodiputada se unirá a los demás eurodiputados de la delegación y a los equipos en una reunión con el grupo de Jóvenes Socialistas procedentes de España.
URL:https://linagalvez.eu/agenda/evento-juvenil-mi-eleccion-mi-voz-para-discutir-los-logros-y-prioridades-de-cara-a-las-proximas-elecciones-europeas/
CATEGORIES:Actualidad,Destacado,Parlamento,S&D
ATTACH;FMTTYPE=image/jpeg:https://linagalvez.eu/wp-content/uploads/2024/03/My-Choice.jpg
END:VEVENT
BEGIN:VEVENT
DTSTART;TZID=Europe/Madrid:20240318T200000
DTEND;TZID=Europe/Madrid:20240318T220000
DTSTAMP:20260426T014620
CREATED:20220613T073410Z
LAST-MODIFIED:20240317T205607Z
UID:9005-1710792000-1710799200@linagalvez.eu
SUMMARY:Economistas Frente a la Crisis “Economía Política y Ciudadanía
DESCRIPTION:La eurodiputada Lina Gálvez participará en Madrid en el acto organizado por Economistas Frente a la Crisis con motivo del lanzamiento del nuevo libro titulado «Economía Política y Ciudadanía». Este debate explorará las reformas necesarias para una década de progreso y contará con la participación de Nacho Álvarez\, Daniel Fuentes y Cristina Narbona\, bajo la moderación de Cristina Monge\, quien también participará activamente en las discusiones con los demás ponentes. \n\n\nDetalle del programa del acto en economistasfrentealacrisis.com
URL:https://linagalvez.eu/agenda/5933-2/
CATEGORIES:Actualidad,Destacado,Gobernanza económica,S&D
ATTACH;FMTTYPE=image/webp:https://linagalvez.eu/wp-content/uploads/2022/06/EFC.webp
END:VEVENT
BEGIN:VEVENT
DTSTART;TZID=Europe/Madrid:20240320T090000
DTEND;TZID=Europe/Madrid:20240320T143000
DTSTAMP:20260426T014620
CREATED:20231204T040059Z
LAST-MODIFIED:20240317T210116Z
UID:8955-1710925200-1710945000@linagalvez.eu
SUMMARY:Reunión de la Comisión de Industria\, Investigación y Energía (ITRE)
DESCRIPTION:La eurodiputada Lina Gálvez participará en la reunión de la comisión de Industria y Energía (ITRE) de la que es Vicepresidenta en la que se votará\, entre\notros\, los siguientes expedientes: \nVotos \n\nPor el que se establecen medidas para reforzar la solidaridad y las capacidades en la Unión para detectar\, prepararse y responder a las amenazas e incidentes de ciberseguridad (2023/0109(COD)) – ponente: Lina GÁLVEZ MUÑOZ (S&D\, ES) – votación sobre el acuerdo provisional resultante de negociaciones interinstitucionales\nSe modifica el Reglamento (UE) 2019/881 en lo que respecta a los servicios de seguridad gestionados (2023/0108(COD))\nSe modifica el Reglamento (UE) 2021/1173 en lo que respecta a una iniciativa EuroHPC para empresas emergentes con el fin de impulsar el liderazgo europeo en inteligencia artificial fiable (2024/0016(CNS))\n\nDebates \n\nIntercambio de puntos de vista con Timo Pesonen\, Director General de Industria de Defensa y Espacio (DEFIS)\, sobre la estrategia de defensa y la propuesta EDIP\nInforme de la Relatora Permanente de ITRE\, Josianne Cutajar\, sobre la integración de la perspectiva de género\n\n\nMás información: Web de la Comisión de Industria\, Investigación y Energía
URL:https://linagalvez.eu/agenda/reunion-de-la-comision-de-industria-investigacion-y-energia-itre-19-2-2-2-2-3-2-3-2-2-2-2-2-3-2/
CATEGORIES:Actualidad,Autonomía estratégica,Destacado,ITRE,Parlamento,STOA
ATTACH;FMTTYPE=image/jpeg:https://linagalvez.eu/wp-content/uploads/2023/09/1695139157544_20230919_EP-155995A_DEN_931_MOBILE.jpg
END:VEVENT
END:VCALENDAR