BEGIN:VCALENDAR
VERSION:2.0
PRODID:-//Lina Gálvez - ECPv6.15.20//NONSGML v1.0//EN
CALSCALE:GREGORIAN
METHOD:PUBLISH
X-WR-CALNAME:Lina Gálvez
X-ORIGINAL-URL:https://linagalvez.eu
X-WR-CALDESC:Eventos para Lina Gálvez
REFRESH-INTERVAL;VALUE=DURATION:PT1H
X-Robots-Tag:noindex
X-PUBLISHED-TTL:PT1H
BEGIN:VTIMEZONE
TZID:Europe/Madrid
BEGIN:DAYLIGHT
TZOFFSETFROM:+0100
TZOFFSETTO:+0200
TZNAME:CEST
DTSTART:20230326T010000
END:DAYLIGHT
BEGIN:STANDARD
TZOFFSETFROM:+0200
TZOFFSETTO:+0100
TZNAME:CET
DTSTART:20231029T010000
END:STANDARD
BEGIN:DAYLIGHT
TZOFFSETFROM:+0100
TZOFFSETTO:+0200
TZNAME:CEST
DTSTART:20240331T010000
END:DAYLIGHT
BEGIN:STANDARD
TZOFFSETFROM:+0200
TZOFFSETTO:+0100
TZNAME:CET
DTSTART:20241027T010000
END:STANDARD
BEGIN:DAYLIGHT
TZOFFSETFROM:+0100
TZOFFSETTO:+0200
TZNAME:CEST
DTSTART:20250330T010000
END:DAYLIGHT
BEGIN:STANDARD
TZOFFSETFROM:+0200
TZOFFSETTO:+0100
TZNAME:CET
DTSTART:20251026T010000
END:STANDARD
END:VTIMEZONE
BEGIN:VEVENT
DTSTART;VALUE=DATE:20241129
DTEND;VALUE=DATE:20241202
DTSTAMP:20260423T031032
CREATED:20241126T134900Z
LAST-MODIFIED:20241129T123140Z
UID:10229-1732838400-1733097599@linagalvez.eu
SUMMARY:41 Congreso del PSOE. Sevilla.
DESCRIPTION:Lina Gálvez asistirá al 41 Congreso del PSOE que se celebrará los días 29 y 30 de noviembre y 1 de diciembre de 2024 en Sevilla. \nAgenda del Congreso: aquí
URL:https://linagalvez.eu/agenda/41-congreso-psoe-sevilla/
CATEGORIES:Actualidad,Andalucía,Destacado,S&D
ATTACH;FMTTYPE=image/png:https://linagalvez.eu/wp-content/uploads/2024/11/Captura-de-pantalla-2024-11-25-102911.png
END:VEVENT
BEGIN:VEVENT
DTSTART;TZID=Europe/Madrid:20241202T124500
DTEND;TZID=Europe/Madrid:20241202T141500
DTSTAMP:20260423T031032
CREATED:20241129T113502Z
LAST-MODIFIED:20241129T124853Z
UID:10287-1733143500-1733148900@linagalvez.eu
SUMMARY:Trílogo sobre los derechos de las víctimas
DESCRIPTION:Lina Gálvez presidirá\, como presidenta de la Comisión de Derechos de las Mujeres e Igualdad de Género\, el trílogo interinstitucional sobre la revisión de la Directiva de Derechos de las Víctimas. Este proceso busca abordar las deficiencias identificadas en la implementación de la directiva original\, como el acceso limitado a información\, servicios de apoyo y compensación\, así como la necesidad de una protección más individualizada. El objetivo es reforzar los derechos y garantías para las víctimas en toda la UE\, asegurando una aplicación más efectiva y adaptada a sus necesidades.
URL:https://linagalvez.eu/agenda/trilogo-derechos-victimas/
CATEGORIES:Actualidad,Destacado,FEMM,Parlamento
ATTACH;FMTTYPE=image/jpeg:https://linagalvez.eu/wp-content/uploads/2023/11/lina_R.jpg
END:VEVENT
BEGIN:VEVENT
DTSTART;TZID=Europe/Madrid:20241204T170000
DTEND;TZID=Europe/Madrid:20241204T180000
DTSTAMP:20260423T031032
CREATED:20241129T094247Z
LAST-MODIFIED:20241202T084708Z
UID:10290-1733331600-1733335200@linagalvez.eu
SUMMARY:Reunión con mujeres de Cataluña
DESCRIPTION:Lina Gálvez se reunirá con participantes del programa Fem Futur!\, impulsado por el PSC para fomentar el liderazgo femenino entre mujeres jóvenes menores de 35 años. Durante el encuentro\, debatirán sobre retos como la violencia contra mujeres en política\, el impacto de las redes sociales y la participación femenina en espacios progresistas\, además de compartir experiencias y reflexiones sobre liderazgo y igualdad.
URL:https://linagalvez.eu/agenda/reunion-mujeres-cataluna/
CATEGORIES:Destacado,FEMM,Parlamento,S&D
END:VEVENT
BEGIN:VEVENT
DTSTART;VALUE=DATE:20241209
DTEND;VALUE=DATE:20241216
DTSTAMP:20260423T031032
CREATED:20241128T065256Z
LAST-MODIFIED:20241202T101253Z
UID:10331-1733702400-1734307199@linagalvez.eu
SUMMARY:Semana Europea de la Igualdad de Género: promoviendo los derechos de las mujeres
DESCRIPTION:El Parlamento Europeo defiende los derechos de las mujeres en toda la UE. Sus esfuerzos por garantizar la igualdad de género en el trabajo\, en la política y en otros ámbitos han dado lugar a una legislación sin precedentes. Las nuevas medidas jurídicamente vinculantes abarcan una amplia variedad de cuestiones: ayudar a acabar con la desigualdad salarial\, eliminar la discriminación por motivos de género\, impulsar la presencia de las mujeres en los consejos de administración y combatir la violencia contra las mujeres. \nEl Parlamento celebra cada año una Semana de la igualdad de género para hacer balance de los logros e identificar nuevas medidas para promover los derechos de las niñas y las mujeres y garantizar la igualdad de género. Los actos son organizados por las comisiones\, las delegaciones\, los grupos políticos y la administración del Parlamento. La primera edición se celebró en 2020\, a iniciativa de la Comisión de Derechos de la Mujer e Igualdad de Género. \nEn 2024\, el tema principal de la Semana Europea de la Igualdad de Género es Las mujeres en el mundo digital: seguridad y empoderamiento. El Parlamento quiere destacar y buscar soluciones a la creciente cuestión del acoso en línea y la ciberviolencia. \n\n\n#EPGenderEqualityWeek. \nPrograma \nConsulta el borrador del programa que se actualiza periódicamente con nuevos eventos y que contiene una lista de diversos eventos que tienen lugar en el Parlamento y en otras instituciones\, organismos\, agencias u otros socios de la UE.
URL:https://linagalvez.eu/agenda/semana-europea-igualdad-genero-2024/
CATEGORIES:Actualidad,Destacado,FEMM,INTA,ITRE,Parlamento
ATTACH;FMTTYPE=image/png:https://linagalvez.eu/wp-content/uploads/2020/10/Semana-Europea-Igualdad-de-genero-2024.png
END:VEVENT
BEGIN:VEVENT
DTSTART;TZID=Europe/Madrid:20241210T100000
DTEND;TZID=Europe/Madrid:20241210T110000
DTSTAMP:20260423T031033
CREATED:20241209T072547Z
LAST-MODIFIED:20241209T084652Z
UID:10359-1733824800-1733828400@linagalvez.eu
SUMMARY:Sesión inaugural del Gender Equality Forum 2024
DESCRIPTION:Lina Gálvez intervendrá en la sesión inaugural del Gender Equality Forum 2024\, foro que reúne a especialistas\, voces jóvenes\, profesionales y responsables de la toma de decisiones de alto nivel de las instituciones de la Unión Europea\, gobiernos nacionales y locales\, la sociedad civil\, la academia\, empresas y las artes\, con el objetivo de hacer un balance de la igualdad de género y abordar la violencia contra las mujeres en Europa. En este primer día del Gender Equality Forum\, el EIGE hará públicos los resultados del Índice de Igualdad de Género 2024.
URL:https://linagalvez.eu/agenda/sesion-inaugural-gender-equality-forum-2024-1/
CATEGORIES:Actualidad,Destacado,FEMM,Parlamento
ATTACH;FMTTYPE=image/jpeg:https://linagalvez.eu/wp-content/uploads/2024/12/Gender-equality-forum-2024.jpg
END:VEVENT
BEGIN:VEVENT
DTSTART;TZID=Europe/Madrid:20241210T150000
DTEND;TZID=Europe/Madrid:20241210T170000
DTSTAMP:20260423T031033
CREATED:20241209T073247Z
LAST-MODIFIED:20241209T091503Z
UID:10363-1733842800-1733850000@linagalvez.eu
SUMMARY:Presentación del libro ‘A new gender equality contract for Europe’
DESCRIPTION:Lina Gálvez intervendrá en la apertura de la presentación del libro ‘A new gender equality contract for Europe’. Este libro de la Foundation for European Progressive Studies (FEPS) y la Fundación Jean-Jaurès y publicado por Palgrave\, se centra en el trabajo de pensadoras feministas progresistas contemporáneas y en la idea de que no hay democracia sin igualdad de género. Las ocho autoras desarrollan el concepto de un feminismo que funcione para todas las personas en el contexto de la política de la UE.
URL:https://linagalvez.eu/agenda/presentacion-libro-new-gender-equality-contract-europe/
CATEGORIES:Actualidad,Destacado,FEPS,Parlamento
ATTACH;FMTTYPE=image/png:https://linagalvez.eu/wp-content/uploads/2024/12/A-New-Gender-Equality-Contract-for-Europe-4-e1733735638349.png
END:VEVENT
BEGIN:VEVENT
DTSTART;TZID=Europe/Madrid:20241211T103000
DTEND;TZID=Europe/Madrid:20241211T113000
DTSTAMP:20260423T031033
CREATED:20241209T074916Z
LAST-MODIFIED:20241211T165746Z
UID:10377-1733913000-1733916600@linagalvez.eu
SUMMARY:Panel de debate “Eliminación de la violencia contra las mujeres y su empoderamiento en el mundo digital”
DESCRIPTION:Lina Gálvez participará en el panel de debate “Eliminación de la violencia contra las mujeres y su empoderamiento en el mundo digital” en  calidad de Presidenta de la Comisión de Derechos de las Mujeres e Igualdad de Género del Parlamento Europeo (FEMM). \nEn el panel intervendrán también Roberta Metsola\, Presidenta del Parlamento Europeo (por confirmar); Antonella Sberna\, Vicepresidenta del Parlamento Europeo encargada de la Semana de la Igualdad de Género; Ewa Kopacz\, Vicepresidenta del Parlamento Europeo que preside el Grupo de Alto Nivel sobre Igualdad de Género y Diversidad; José Luis Rodríguez Zapatero\, ex presidente del Gobierno de España; y un videomensaje de Catherine De Bolle\, directora ejecutiva de Europol. El panel estará moderado por Delphine Colard\, portavoz del Parlamento Europeo. \nLa retransmisión podrá seguirse en streaming  AQUÍ
URL:https://linagalvez.eu/agenda/panel-debate-eliminacion-violencia-mujeres-empoderamiento-mundo-digital/
CATEGORIES:Actualidad,Destacado,FEMM,Parlamento
ATTACH;FMTTYPE=image/jpeg:https://linagalvez.eu/wp-content/uploads/2024/11/405743586_885435409614021_1167723399690373288_n.jpg
END:VEVENT
BEGIN:VEVENT
DTSTART;TZID=Europe/Madrid:20241211T190000
DTEND;TZID=Europe/Madrid:20241211T210000
DTSTAMP:20260423T031033
CREATED:20241109T080356Z
LAST-MODIFIED:20241211T121941Z
UID:10383-1733943600-1733950800@linagalvez.eu
SUMMARY:Presentación de la proyección de la película ‘Julie Keeps Quiet’
DESCRIPTION:En el marco de la Semana de la Igualdad de Género\, se realizará una proyección especial de ‘Julie Keeps Quiet’ en el Cinema Palace\, película nominada al Premio del Público LUX 2025. \nLa proyección se llevará a cabo en presencia de la eurodiputada Lina Gálvez\, presidenta de la Comisión de Derechos de las Mujeres e Igualdad de Género del Parlamento Europeo (FEMM)\, Leonardo Van Dijl\, director de la película\, y la coguionista y actriz Ruth Becquart.
URL:https://linagalvez.eu/agenda/presentacion-proyeccion-pelicula-julie-keeps-quiet/
CATEGORIES:Actualidad,Destacado,FEMM,Parlamento
ATTACH;FMTTYPE=image/png:https://linagalvez.eu/wp-content/uploads/2024/11/julie-keeps-quiet_film.png
END:VEVENT
BEGIN:VEVENT
DTSTART;TZID=Europe/Madrid:20241212T133000
DTEND;TZID=Europe/Madrid:20241212T144500
DTSTAMP:20260423T031033
CREATED:20241209T075718Z
LAST-MODIFIED:20241211T122021Z
UID:10380-1734010200-1734014700@linagalvez.eu
SUMMARY:Conferencia ‘Reacción antigénero y retroceso democrático’
DESCRIPTION:Lina Gálvez intervendrá en el debate ‘Diálogo con las instituciones de la UE: ¿Cómo contraatacar?’ en el marco de la conferencia ‘Reacción antigénero y retroceso democrático’ que tendrá lugar en el Comité Económico y Social Europeo (CESE).
URL:https://linagalvez.eu/agenda/conferencia-reaccion-antigenero-y-retroceso-democratico/
CATEGORIES:Actualidad,Destacado,FEMM,Parlamento
ATTACH;FMTTYPE=image/webp:https://linagalvez.eu/wp-content/uploads/2024/10/cesefacade.webp
END:VEVENT
BEGIN:VEVENT
DTSTART;VALUE=DATE:20241216
DTEND;VALUE=DATE:20241218
DTSTAMP:20260423T031033
CREATED:20241216T085948Z
LAST-MODIFIED:20241216T085949Z
UID:10402-1734307200-1734479999@linagalvez.eu
SUMMARY:19ª Reunión Anual del Foro de Gobernanza de Internet
DESCRIPTION:Lina Gálvez asistirá a la 19ª Reunión Anual del Foro de Gobernanza de Internet (IGF\, por sus siglas en inglés) como miembro de la Comisión de Industria\, Investigación y Energía (ITRE) del Parlamento Europeo. \nEl Foro de Gobernanza de Internet (FGI) es una plataforma global que facilita la discusión entre múltiples partes de cuestiones de política pública relacionadas de gobernanza de Internet\, ya sea que representen a los gobiernos\, al sector privado o a la sociedad civil\, incluida la comunidad técnica y académica\, en igualdad de condiciones y a través de un proceso abierto e inclusivo. \nLa 19ª Reunión Anual del Foro de Gobernanza de Internet (IGF) versará sobre «Construyendo nuestro futuro digital multisectorial»\, y su programa se articula en torno a los cuatro temas principales siguientes: \n– Aprovechar la innovación y equilibrar los riesgos en el espacio digital.\n– Mejorar la contribución digital a la paz\, el desarrollo y la sostenibilidad.\n– Promoción de los derechos humanos y la inclusión en la era digital.\n– Mejorar la gobernanza digital para Internet que queremos. \nMás info aquí
URL:https://linagalvez.eu/agenda/internet-governance-forum-2024/
CATEGORIES:Actualidad,Destacado,ITRE
ATTACH;FMTTYPE=image/webp:https://linagalvez.eu/wp-content/uploads/2024/12/Header-background.webp
END:VEVENT
BEGIN:VEVENT
DTSTART;TZID=Europe/Madrid:20241216T161500
DTEND;TZID=Europe/Madrid:20241216T174500
DTSTAMP:20260423T031033
CREATED:20241216T075718Z
LAST-MODIFIED:20241216T094132Z
UID:10405-1734365700-1734371100@linagalvez.eu
SUMMARY:Debate '¿Cuáles son las prioridades parlamentarias actuales en la esfera digital? Un intercambio abierto'
DESCRIPTION:Lina Gálvez participará como ponente en el debate “¿Cuáles son las prioridades parlamentarias actuales en la esfera digital? Un intercambio abierto” organizado en el marco de la 19ª Reunión Anual del Foro de Gobernanza de Internet\, el lunes 16 de diciembre a las 16:15h. \nEl Foro de Gobernanza de Internet  (IGF por sus siglas en inglés) es un proceso que se desarrolla durante todo el año y que cuenta con una red de más de 170 iniciativas nacionales y regionales del IGF en la que se involucran a actores locales\, como miembros del Parlamento. En 2024\, se organizaron sesiones parlamentarias regionales en África\, Asia Central y América Latina y el Caribe. \nEn esta sesión se informará sobre los problemas digitales más urgentes que surgieron de las sesiones parlamentarias regionales\, como punto de partida para el debate sobre las prioridades de los parlamentos en el próximo año. Estas prioridades guiarán los debates e informarán los resultados de la sesión parlamentaria global del IGF. \nMás información sobre el programa aquí
URL:https://linagalvez.eu/agenda/debate-prioridades-parlamentarias-actuales-en-esfera-digital/
CATEGORIES:Actualidad,Destacado,ITRE,Parlamento
ATTACH;FMTTYPE=image/jpeg:https://linagalvez.eu/wp-content/uploads/2023/12/Lina-Galvez_G1A3197-scaled.jpg
END:VEVENT
BEGIN:VEVENT
DTSTART;TZID=Europe/Madrid:20241218T123000
DTEND;TZID=Europe/Madrid:20241218T130000
DTSTAMP:20260423T031033
CREATED:20241216T081450Z
LAST-MODIFIED:20241218T083324Z
UID:10410-1734525000-1734526800@linagalvez.eu
SUMMARY:Votación en el Pleno del Parlamento Europeo en Estrasburgo
DESCRIPTION:Destacados del pleno. Estrasburgo \n\n\nEl Pleno del Parlamento Europeo se reunirá en Estrasburgo el miércoles 18 de diciembre de 9:00 – 22:00 horas \nA las 12:30 se votará en pleno de la “Conclusión\, en nombre de la Unión Europea\, del Convenio de las Naciones Unidas sobre la transparencia en los arbitrajes entre inversores y Estados en el marco de un tratado” de la que Lina Gálvez es ponente en la sombra. \nSe podrán seguir las sesiones en el siguiente enlace AQUÍ
URL:https://linagalvez.eu/agenda/votacion-pleno-parlamento-europeo-estrasburgo-2024-12-18/
CATEGORIES:Actualidad,Destacado,Parlamento
ATTACH;FMTTYPE=image/png:https://linagalvez.eu/wp-content/uploads/2024/09/Captura-de-pantalla-2024-09-02-153140.png
END:VEVENT
BEGIN:VEVENT
DTSTART;TZID=Europe/Madrid:20241219T120000
DTEND;TZID=Europe/Madrid:20241219T130000
DTSTAMP:20260423T031033
CREATED:20241216T082650Z
LAST-MODIFIED:20241218T083121Z
UID:10417-1734609600-1734613200@linagalvez.eu
SUMMARY:Intervención en el Pleno sobre prioridades de UE para el próximo período de sesiones de la Comisión de la Mujer de la ONU
DESCRIPTION:Lina Gálvez intervendrá en el debate sobre las prioridades de la UE para el próximo período de sesiones de la Comisión de la Condición Jurídica y Social de la Mujer de las Naciones Unidas. \nSe presentará el informe de Recomendación al Consejo sobre las prioridades de la UE para el 69.º período de sesiones de la Comisión de la Condición Jurídica y Social de la Mujer de las Naciones Unidas\, del que Lina Gálvez es ponente. \nLa intervención está prevista para las 12:00 (hora por confirmar)\, dentro del debate en el seno del Pleno del Parlamento Europeo en Estrasburgo que se reúne el jueves 19 de diciembre de 9:00 – 14:00 horas. \nSe podrán seguir las sesiones en el siguiente enlace AQUÍ
URL:https://linagalvez.eu/agenda/intervencion-pleno-prioridades-ue-comision-mujer-onu/
CATEGORIES:Actualidad,Destacado,FEMM,Parlamento
ATTACH;FMTTYPE=image/jpeg:https://linagalvez.eu/wp-content/uploads/2024/01/1694683425055_20230914_EP-155110B_AH1_FM_176_MOBILE.jpg
END:VEVENT
END:VCALENDAR