BEGIN:VCALENDAR
VERSION:2.0
PRODID:-//Lina Gálvez - ECPv6.15.20//NONSGML v1.0//EN
CALSCALE:GREGORIAN
METHOD:PUBLISH
X-WR-CALNAME:Lina Gálvez
X-ORIGINAL-URL:https://linagalvez.eu
X-WR-CALDESC:Eventos para Lina Gálvez
REFRESH-INTERVAL;VALUE=DURATION:PT1H
X-Robots-Tag:noindex
X-PUBLISHED-TTL:PT1H
BEGIN:VTIMEZONE
TZID:Europe/Madrid
BEGIN:DAYLIGHT
TZOFFSETFROM:+0100
TZOFFSETTO:+0200
TZNAME:CEST
DTSTART:20240331T010000
END:DAYLIGHT
BEGIN:STANDARD
TZOFFSETFROM:+0200
TZOFFSETTO:+0100
TZNAME:CET
DTSTART:20241027T010000
END:STANDARD
BEGIN:DAYLIGHT
TZOFFSETFROM:+0100
TZOFFSETTO:+0200
TZNAME:CEST
DTSTART:20250330T010000
END:DAYLIGHT
BEGIN:STANDARD
TZOFFSETFROM:+0200
TZOFFSETTO:+0100
TZNAME:CET
DTSTART:20251026T010000
END:STANDARD
BEGIN:DAYLIGHT
TZOFFSETFROM:+0100
TZOFFSETTO:+0200
TZNAME:CEST
DTSTART:20260329T010000
END:DAYLIGHT
BEGIN:STANDARD
TZOFFSETFROM:+0200
TZOFFSETTO:+0100
TZNAME:CET
DTSTART:20261025T010000
END:STANDARD
END:VTIMEZONE
BEGIN:VEVENT
DTSTART;TZID=Europe/Madrid:20250204T183000
DTEND;TZID=Europe/Madrid:20250204T203000
DTSTAMP:20260422T234747
CREATED:20250201T093144Z
LAST-MODIFIED:20250220T225302Z
UID:10627-1738693800-1738701000@linagalvez.eu
SUMMARY:Encuentro de la Red de Españolas Directivas en Bruselas (RED)
DESCRIPTION:Lina Gálvez asistirá al encuentro de la Red de Españolas Directivas en Bruselas (RED) como presidenta de la Comisión de Derechos de las Mujeres e Igualdad de Género (FEMM)
URL:https://linagalvez.eu/agenda/encuentro-red-espanolas-directivas-bruselas/
CATEGORIES:Actualidad,Destacado,FEMM,Parlamento
ATTACH;FMTTYPE=image/jpeg:https://linagalvez.eu/wp-content/uploads/Equality-signal_ckl-2.jpg
END:VEVENT
BEGIN:VEVENT
DTSTART;TZID=Europe/Madrid:20250205T163000
DTEND;TZID=Europe/Madrid:20250205T193000
DTSTAMP:20260422T234747
CREATED:20250129T113502Z
LAST-MODIFIED:20250203T100515Z
UID:10641-1738773000-1738783800@linagalvez.eu
SUMMARY:Segundo trílogo sobre la directiva de víctimas de delitos
DESCRIPTION:Lina Gálvez asistirá\, como Presidenta de la Comisión de Derechos de las Mujeres e Igualdad de Género (FEMM) al segundo trílogo sobre la propuesta de Directiva del Parlamento Europeo y del Consejo por la que se modifica la Directiva 2012/29/UE por la que se establecen normas mínimas sobre los derechos\, el apoyo y la protección de las víctimas de delitos\, y se sustituye la Decisión marco 2001/220/JAI del Consejo.
URL:https://linagalvez.eu/agenda/trilogo-derechos-victimas-2/
CATEGORIES:Actualidad,Destacado,FEMM,Parlamento
ATTACH;FMTTYPE=image/jpeg:https://linagalvez.eu/wp-content/uploads/2023/11/lina_R.jpg
END:VEVENT
BEGIN:VEVENT
DTSTART;TZID=Europe/Madrid:20250206T114500
DTEND;TZID=Europe/Madrid:20250206T124500
DTSTAMP:20260422T234747
CREATED:20250201T125511Z
LAST-MODIFIED:20250203T101700Z
UID:10646-1738842300-1738845900@linagalvez.eu
SUMMARY:Participación en la Conferencia pública anual de Science|Business
DESCRIPTION:Conferencia pública anual de Science|Business: “Nuevo mandato\, nueva agenda: ¿Cumplirá la UE sus promesas en materia de investigación e innovación?” \nLina Gálvez intervendrá en la conferencia en la sesión “Investigación y Desarrollo Colaborativo: ¿Es hora de volver a la drawing board?”. Esta sesión explora los temas destacados por los informes Draghi y Heitor (en particular) en torno a los niveles decrecientes de inversión en investigación y desarrollo de la industria y el compromiso corporativo en los Programas Marco de la UE. \nSe llevará a cabo una mesa redonda\, en la que participarán: \n\nLina Gálvez Muñoz\, Miembro del Parlamento Europeo\nTor Grande\, Rector de la Universidad Noruega de Ciencia y Tecnología\nDavid Luengo Riesco\, Jefe de la Oficina de Bruselas de Indra\nArto Maaninen\, Rector de la Universidad de Oulu\nAgnieszka Skonieczna\, Jefa de Unidad\, Condiciones de Inversión y Servicios Públicos\, DG GROW\, Comisión Europea
URL:https://linagalvez.eu/agenda/conferencia-anual-science-business-2025/
CATEGORIES:Actualidad,Destacado,ITRE,Parlamento
ATTACH;FMTTYPE=image/jpeg:https://linagalvez.eu/wp-content/uploads/2025/01/1733319067420_20241204_EP-176461A_AR2_025_R-scaled.jpg
END:VEVENT
BEGIN:VEVENT
DTSTART;TZID=Europe/Madrid:20250211T191500
DTEND;TZID=Europe/Madrid:20250211T194500
DTSTAMP:20260422T234747
CREATED:20250202T125816Z
LAST-MODIFIED:20250213T210354Z
UID:10508-1739301300-1739303100@linagalvez.eu
SUMMARY:Intervención en Pleno "Restricciones a la exportación de chips de IA de EE. UU.: un desafío para el desarrollo de la IA y la resiliencia económica de Europa"
DESCRIPTION:19:26 Intervención en Pleno de Estrasburgo \nLina Gálvez tendrá la palabra en en el Pleno del Parlamento en el debate ‘Restricciones a la exportación de chips de IA de EE. UU.: un desafío para el desarrollo de la IA y la resiliencia económica de Europa’. \nSe puede seguir la intervención en el siguiente enlace: AQUÍ \nVer noticia relacionada: Lina Gálvez: Intervención en pleno sobre soberanía tecnológica en Europa y los chips de IA
URL:https://linagalvez.eu/agenda/intervencion-pleno-restricciones-exportaciones-chips-ia-eeuu-desafio-europa/
CATEGORIES:Actualidad,D-US,Destacado,Parlamento
ATTACH;FMTTYPE=image/jpeg:https://linagalvez.eu/wp-content/uploads/2020/03/European_Parliament_Strasbourg_Hemicycle_-_Diliff-2-scaled.jpg
END:VEVENT
BEGIN:VEVENT
DTSTART;TZID=Europe/Madrid:20250212T100000
DTEND;TZID=Europe/Madrid:20250212T110000
DTSTAMP:20260422T234747
CREATED:20250207T083947Z
LAST-MODIFIED:20250210T092346Z
UID:10688-1739354400-1739358000@linagalvez.eu
SUMMARY:S&D FEMM Working Group meeting
DESCRIPTION:Lina Gálvez asistirá la reunión de trabajo del grupo S&D Socialistas y Demócratas de la Comisión de Derechos de la Mujer e Igualdad de Género (FEMM)\, de la que es presidenta.
URL:https://linagalvez.eu/agenda/sd-femm-working-group-meeting-2502/
CATEGORIES:Actualidad,Destacado,FEMM,Parlamento,S&D
ATTACH;FMTTYPE=image/png:https://linagalvez.eu/wp-content/uploads/2023/01/femm_logo.png
END:VEVENT
BEGIN:VEVENT
DTSTART;TZID=Europe/Madrid:20250212T140000
DTEND;TZID=Europe/Madrid:20250212T143000
DTSTAMP:20260422T234747
CREATED:20250207T141053Z
LAST-MODIFIED:20250214T155750Z
UID:10693-1739368800-1739370600@linagalvez.eu
SUMMARY:Entrevista en 7tv para el programa de actualidad Acento Andaluz
DESCRIPTION:La eurodiputada Lina Gálvez intervendrá este miércoles 12 de febrero en Acento Andaluz \, un programa de actualidad andaluza\, dirigido y presentado por Fernando Pérez Monguió\, que se emitirá  a las 23:00 horas por todas las televisiones de 7TV en Andalucía. \nEl periodista Fernando Pérez Monguió -también jefe de informativos de la Cadena SER Andalucía- entrevistará a Lina Gálvez. \nVer noticia relacionada AQUÍ
URL:https://linagalvez.eu/agenda/entrevista-acento-andaluz-7tv-andalucia/
CATEGORIES:Actualidad,Andalucía,Destacado,Parlamento,S&D
ATTACH;FMTTYPE=image/jpeg:https://linagalvez.eu/wp-content/uploads/2023/10/neuroderechos.jpg
END:VEVENT
BEGIN:VEVENT
DTSTART;TZID=Europe/Madrid:20250213T093000
DTEND;TZID=Europe/Madrid:20250213T110000
DTSTAMP:20260422T234747
CREATED:20250207T195833Z
LAST-MODIFIED:20250210T091551Z
UID:10680-1739439000-1739444400@linagalvez.eu
SUMMARY:Reunión del Panel STOA
DESCRIPTION:Lina Gálvez asistirá a la reunión del Panel STOA (European Parliament’s Science & Technology Options Assessment)\, del que es vicepresidenta. \nEn la reunión se presentará el estudio “Evolución o disrupción: ¿qué camino seguir para diseñar el próximo Programa Marco de Investigación e Innovación?”.
URL:https://linagalvez.eu/agenda/panel-stoa-25-02/
CATEGORIES:Actualidad,Destacado,STOA
ATTACH;FMTTYPE=image/jpeg:https://linagalvez.eu/wp-content/uploads/2021/05/STOA-28M-e1639394848457.jpg
END:VEVENT
BEGIN:VEVENT
DTSTART;TZID=Europe/Madrid:20250213T100000
DTEND;TZID=Europe/Madrid:20250213T103000
DTSTAMP:20260422T234747
CREATED:20250211T193216Z
LAST-MODIFIED:20250224T172758Z
UID:10796-1739440800-1739442600@linagalvez.eu
SUMMARY:Intervención en Pleno "Amenazas a la soberanía de la UE a través de dependencias estratégicas en infraestructuras de comunicación"
DESCRIPTION:10:00 Intervención en Pleno de Estrasburgo \nLina Gálvez tendrá la palabra en en el Pleno del Parlamento en el debate ‘Amenazas a la soberanía de la UE a través de dependencias estratégicas en infraestructuras de comunicación’. \nSe puede seguir la intervención en el siguiente enlace: AQUÍ \nVer noticia relacionada: Lina Gálvez: Intervención en pleno sobre las amenazas a la soberanía de la UE y Starlink
URL:https://linagalvez.eu/agenda/restricciones-exportacion-chips-ia-eeuu-desafio-eu/
CATEGORIES:Actualidad,D-US,Destacado,ITRE,Parlamento,STOA
ATTACH;FMTTYPE=image/jpeg:https://linagalvez.eu/wp-content/uploads/2024/12/Votacion-Estrasburgo-16-9.jpeg
END:VEVENT
BEGIN:VEVENT
DTSTART;TZID=Europe/Madrid:20250217T200000
DTEND;TZID=Europe/Madrid:20250217T213000
DTSTAMP:20260422T234747
CREATED:20250214T113502Z
LAST-MODIFIED:20250217T090718Z
UID:10834-1739822400-1739827800@linagalvez.eu
SUMMARY:Evento “Representación femenina en el Parlamento Europeo”
DESCRIPTION:Lina Gálvez participará en el evento “Representación femenina en el Parlamento Europeo” organizado por el College of Europe en Brujas (Bélgica)\, sobre la situación de las mujeres en el Parlamento Europeo\, las barreras y los retos a los que se enfrentan para lograr una situación igualitaria. En el panel debatirán las eurodiputadas Maria Walsh (EPP)\, Benedetta Scuderi (Greens)\, Sigrid Friis (Renew) y Lina Gálvez (S&D).
URL:https://linagalvez.eu/agenda/evento-representacion-femenina-parlamento-europeo-brujas/
CATEGORIES:Actualidad,Destacado,FEMM,Parlamento
ATTACH;FMTTYPE=image/jpeg:https://linagalvez.eu/wp-content/uploads/2023/11/lina_R.jpg
END:VEVENT
BEGIN:VEVENT
DTSTART;TZID=Europe/Madrid:20250218T130000
DTEND;TZID=Europe/Madrid:20250218T134500
DTSTAMP:20260422T234747
CREATED:20250214T143302Z
LAST-MODIFIED:20250217T101955Z
UID:10837-1739883600-1739886300@linagalvez.eu
SUMMARY:XII Jornadas “Día de la igualdad salarial entre mujeres y varones”
DESCRIPTION:Lina Gálvez participará en remoto como ponente en las XII Jornadas organizadas por la Plataforma Andaluza de Apoyo al Lobby Europeo de Mujeres en la Universidad de Córdoba\, con motivo del Día por la Igualdad Salarial entre mujeres y hombres (22-F). \nMás info
URL:https://linagalvez.eu/agenda/jornada-igualdad-salarial-mujeres-varones/
CATEGORIES:Actualidad,Destacado,FEMM,Parlamento
ATTACH;FMTTYPE=image/webp:https://linagalvez.eu/wp-content/uploads/Lobby2025.webp
END:VEVENT
BEGIN:VEVENT
DTSTART;TZID=Europe/Madrid:20250219T120000
DTEND;TZID=Europe/Madrid:20250219T143000
DTSTAMP:20260422T234747
CREATED:20250217T200817Z
LAST-MODIFIED:20250217T101627Z
UID:10848-1739966400-1739975400@linagalvez.eu
SUMMARY:Evento "Ciencia para la política en un mundo cambiante: perspectivas del centro europeo de la Universidad de Leiden"
DESCRIPTION:Lina Gálvez participará\, como parte de la organización\, en este evento de investigación organizado en colaboración con el Panel de Evaluación de Opciones Científicas y Tecnológicas (STOA) del Parlamento Europeo y el Centro Europeo de la Universidad de Leiden (Leiden University’s Europe Hub). El evento contará con discursos de apertura a cargo de la Prof. Annetje Ottow\, presidenta de la Junta Ejecutiva de la Universidad de Leiden\, y de Federica Mogherini\, rectora del Colegio de Europa y ex Alta Representante de la Unión Europea para Asuntos Exteriores y Política de Seguridad. \nSe reflexionará sobre cómo se puede mejorar la colaboración entre el mundo académico y las políticas para lograr un mundo mejor y conducir a una mejor toma de decisiones\, y se discutirán historias de éxito y desafíos en la integración de conocimientos de investigación en marcos de políticas. \nMás info
URL:https://linagalvez.eu/agenda/evento-ciencia-politica-mundo-cambiante-perspectivas-leiden-university-europe-hub/
CATEGORIES:Actualidad,Destacado,Parlamento,STOA,Universidad
ATTACH;FMTTYPE=image/jpeg:https://linagalvez.eu/wp-content/uploads/Science4Policy-Leiden-University-Europe-Hub.jpeg
END:VEVENT
BEGIN:VEVENT
DTSTART;TZID=Europe/Madrid:20250220T150000
DTEND;TZID=Europe/Madrid:20250220T160000
DTSTAMP:20260422T234747
CREATED:20250214T131016Z
LAST-MODIFIED:20250217T112757Z
UID:10879-1740063600-1740067200@linagalvez.eu
SUMMARY:Entrevista con organizaciones de la sociedad civil por el 8-M
DESCRIPTION:Lina Gálvez se entrevistará y grabará un encuentro con distintas organizaciones de la sociedad civil con motivo del próximo 8 de marzo\, Día Internacional de las Mujeres. \n#8Marzo2025
URL:https://linagalvez.eu/agenda/entrevista-organizaciones-sociedad-civil-8m/
CATEGORIES:Actualidad,Destacado,FEMM,Parlamento,S&D
ATTACH;FMTTYPE=image/png:https://linagalvez.eu/wp-content/uploads/2022/03/2022-03-09.png
END:VEVENT
BEGIN:VEVENT
DTSTART;TZID=Europe/Madrid:20250227T110000
DTEND;TZID=Europe/Madrid:20250227T200000
DTSTAMP:20260422T234747
CREATED:20250224T072016Z
LAST-MODIFIED:20250224T090159Z
UID:10925-1740654000-1740686400@linagalvez.eu
SUMMARY:Conmemoración del Día Internacional de las Mujeres en la EPLO de Barcelona
DESCRIPTION:La Oficina del Parlamento Europeo en Barcelona conmemora con Lina Gálvez el Día Internacional de las Mujeres el 27 de febrero. Durante el día\, la eurodiputada: \n– Se reunirá con la consellera de Igualdad y Feminismo del Gobierno de la Generalitat de Catalunya\, Eva Menor Cantador. \n– Se reunirá con la presidenta de la comisión de Igualdad de Foment\, Beatriz Fernández-Tubau\, la responsable de Igualdad en Foment\, Mireia Recio\, y el director de Laboral de Foment\, Javier Ibars. \n– Participará en un encuentro con creadoras de contenido. \n– Participará en el #afterwork de elPeriódico. Más información e inscripción AQUÍ. \n#8Marzo2025
URL:https://linagalvez.eu/agenda/conmemoracion-dia-mujeres-eplo-barcelona-2025/
CATEGORIES:Actualidad,Destacado,FEMM,Parlamento,S&D
ATTACH;FMTTYPE=image/jpeg:https://linagalvez.eu/wp-content/uploads/lina-galvez-afterowork-27F-2025.jpg
END:VEVENT
BEGIN:VEVENT
DTSTART;TZID=Europe/Madrid:20250228T120000
DTEND;TZID=Europe/Madrid:20250228T150000
DTSTAMP:20260422T234747
CREATED:20250224T074014Z
LAST-MODIFIED:20250224T094427Z
UID:10929-1740744000-1740754800@linagalvez.eu
SUMMARY:Acto de entrega de Medallas de Andalucía 2025
DESCRIPTION:Lina Gálvez asistirá al acto de entrega de Medallas de Andalucía 2025 de la Junta de Andalucía celebrado con motivo del Día de Andalucía el 28 de febrero.
URL:https://linagalvez.eu/agenda/acto-entregalmedallas-andalucia-2025/
CATEGORIES:Andalucía,Destacado,Parlamento,S&D
ATTACH;FMTTYPE=image/jpeg:https://linagalvez.eu/wp-content/uploads/2023/12/Lina-Galvez_G1A3197-scaled.jpg
END:VEVENT
END:VCALENDAR