BEGIN:VCALENDAR
VERSION:2.0
PRODID:-//Lina Gálvez - ECPv6.15.20//NONSGML v1.0//EN
CALSCALE:GREGORIAN
METHOD:PUBLISH
X-ORIGINAL-URL:https://linagalvez.eu
X-WR-CALDESC:Eventos para Lina Gálvez
REFRESH-INTERVAL;VALUE=DURATION:PT1H
X-Robots-Tag:noindex
X-PUBLISHED-TTL:PT1H
BEGIN:VTIMEZONE
TZID:Europe/Madrid
BEGIN:DAYLIGHT
TZOFFSETFROM:+0100
TZOFFSETTO:+0200
TZNAME:CEST
DTSTART:20240331T010000
END:DAYLIGHT
BEGIN:STANDARD
TZOFFSETFROM:+0200
TZOFFSETTO:+0100
TZNAME:CET
DTSTART:20241027T010000
END:STANDARD
BEGIN:DAYLIGHT
TZOFFSETFROM:+0100
TZOFFSETTO:+0200
TZNAME:CEST
DTSTART:20250330T010000
END:DAYLIGHT
BEGIN:STANDARD
TZOFFSETFROM:+0200
TZOFFSETTO:+0100
TZNAME:CET
DTSTART:20251026T010000
END:STANDARD
BEGIN:DAYLIGHT
TZOFFSETFROM:+0100
TZOFFSETTO:+0200
TZNAME:CEST
DTSTART:20260329T010000
END:DAYLIGHT
BEGIN:STANDARD
TZOFFSETFROM:+0200
TZOFFSETTO:+0100
TZNAME:CET
DTSTART:20261025T010000
END:STANDARD
END:VTIMEZONE
BEGIN:VEVENT
DTSTART;TZID=Europe/Madrid:20250304T093000
DTEND;TZID=Europe/Madrid:20250304T110000
DTSTAMP:20260420T074857
CREATED:20250301T090414Z
LAST-MODIFIED:20250303T110329Z
UID:10978-1741080600-1741086000@linagalvez.eu
SUMMARY:“Las mujeres como agentes de cambio en la resolución de conflictos” Debate con organizaciones de la sociedad civil por el 8M
DESCRIPTION:Con motivo del Día Internacional de las Mujeres\, la Unidad de Difusión de la Sociedad Civil del Parlamento Europeo organiza una mesa redonda sobre el papel de las mujeres como agentes de cambio en la resolución de conflictos. \nLina Gálvez participará en el panel con integrantes de las organizaciones Promote Ukraine\, Action Aid and European Movement International\, así como con la directora de UN Women\, Florence Raes.
URL:https://linagalvez.eu/agenda/debate-sociedad-civil-8m-mujeres-agentes-cambio-resolucion-conflictos/
CATEGORIES:Actualidad,Destacado,FEMM,Parlamento
ATTACH;FMTTYPE=image/png:https://linagalvez.eu/wp-content/uploads/IWD-2025-ml.png
END:VEVENT
BEGIN:VEVENT
DTSTART;TZID=Europe/Madrid:20250305T080000
DTEND;TZID=Europe/Madrid:20250305T093000
DTSTAMP:20260420T074857
CREATED:20250228T113920Z
LAST-MODIFIED:20250304T101452Z
UID:11046-1741161600-1741167000@linagalvez.eu
SUMMARY:Charla por el Día Internacional de las Mujeres de The Parliament Magazine
DESCRIPTION:Lina Gálvez participará en el evento en formato charla organizado por The Parliament Magazine en el especial del Día Internacional de las Mujeres\, donde distintas eurodiputadas debatirán sobre la representación de las mujeres en la esfera pública y los espacios de poder. \nMás información aquí. \nFuente de la imagen: evento anunciado en el que participa Lina Gálvez. En esta web se realiza un uso justo y no comercial de la imagen para la difusión del evento.
URL:https://linagalvez.eu/agenda/charla-parliament-magazine-2025-03-8m/
CATEGORIES:Actualidad,Destacado,FEMM,Parlamento
ATTACH;FMTTYPE=image/webp:https://linagalvez.eu/wp-content/uploads/The-Parliament-magazine-IWD-2025.webp
END:VEVENT
BEGIN:VEVENT
DTSTART;TZID=Europe/Madrid:20250305T123000
DTEND;TZID=Europe/Madrid:20250305T163000
DTSTAMP:20260420T074857
CREATED:20250301T130324Z
LAST-MODIFIED:20250306T090945Z
UID:11055-1741177800-1741192200@linagalvez.eu
SUMMARY:Seminario de Prensa del Parlamento Europeo: Defensa de los derechos de las mujeres en la defensa\, la seguridad y la consolidación de la paz
DESCRIPTION:Lina Gálvez participará\, como presidenta de la Comisión de Derechos de las Mujeres e Igualdad de Género\, en el seminario de prensa que tendrá lugar en el Parlamento Europeo con motivo del Día Internacional de las Mujeres\, que versará sobre los derechos de las mujeres en la defensa\, la seguridad y la consolidación de la paz.
URL:https://linagalvez.eu/agenda/derechos-mujeres-defensa-seguridad-paz-pe-press-seminar/
CATEGORIES:Actualidad,Destacado,FEMM
ATTACH;FMTTYPE=image/png:https://linagalvez.eu/wp-content/uploads/IWD-2025-ml.png
END:VEVENT
BEGIN:VEVENT
DTSTART;TZID=Europe/Madrid:20250305T170000
DTEND;TZID=Europe/Madrid:20250305T190000
DTSTAMP:20260420T074857
CREATED:20250228T085356Z
LAST-MODIFIED:20250303T104908Z
UID:11004-1741194000-1741201200@linagalvez.eu
SUMMARY:Presentación de la proyección de la película Rita\, de Paz Vega\, en el Parlamento Europeo
DESCRIPTION:Con motivo del Día Internacional de las Mujeres\, se realizará en el Parlamento Europeo una proyección especial de la película Rita\, que será presentada en un diálogo por Paz Vega\, directora y actriz de la película y nominada a los Goya 2025 a mejor dirección novel\, y Lina Gálvez\, presidenta de la Comisión de Derechos de las Mujeres e Igualdad de Género del Parlamento Europeo.
URL:https://linagalvez.eu/agenda/presentacion-pelicula-rita-de-paz-vega-parlamento-europeo/
CATEGORIES:Actualidad,Destacado,Parlamento
ATTACH;FMTTYPE=image/png:https://linagalvez.eu/wp-content/uploads/INVITACION-Proyeccion-pelicula-Paz-Vega.png
END:VEVENT
BEGIN:VEVENT
DTSTART;TZID=Europe/Madrid:20250306T090000
DTEND;TZID=Europe/Madrid:20250306T123000
DTSTAMP:20260420T074857
CREATED:20250228T083947Z
LAST-MODIFIED:20250303T094751Z
UID:10982-1741251600-1741264200@linagalvez.eu
SUMMARY:Reunión de FEMM con motivo del Día Internacional de las Mujeres
DESCRIPTION:Lina Gálvez presidirá la Comisión de Derechos de las Mujeres e Igualdad de Género (FEMM)\, donde se llevará a cabo una reunión del Comité Interparlamentario con motivo del Día Internacional de las Mujeres\, que versará sobre el Fortalecimiento de la Agenda de Mujeres\, Paz y Seguridad: defensa de los derechos de las mujeres en la defensa\, la seguridad y la consolidación de la paz. \n  \nMás información y programa aquí. \nVer en streaming aquí
URL:https://linagalvez.eu/agenda/reunion-comite-femm-2025-03-8m/
CATEGORIES:Actualidad,Destacado,FEMM,Parlamento
ATTACH;FMTTYPE=image/jpeg:https://linagalvez.eu/wp-content/uploads/2025/01/1733318827138_20241204_EP-176461A_AR2_066-scaled.jpg
END:VEVENT
BEGIN:VEVENT
DTSTART;TZID=Europe/Madrid:20250306T190000
DTEND;TZID=Europe/Madrid:20250306T203000
DTSTAMP:20260420T074857
CREATED:20250228T083947Z
LAST-MODIFIED:20250312T125325Z
UID:10990-1741287600-1741293000@linagalvez.eu
SUMMARY:Terraza Europa sobre prioridades de la Comisión FEMM
DESCRIPTION:Lina Gálvez participará\, con motivo del Día Internacional de las Mujeres\, en el programa “Terraza Europa” organizado por la Oficina del Parlamento Europeo de Madrid en el que conversará con jóvenes de la plataforma todosjuntos.eu sobre las prioridades de la Comisión de Derechos de las Mujeres e Igualdad de Género (FEMM). \nVer en streaming aquí \nFuente de la imagen: evento anunciado en el que participa Lina Gálvez. En esta web se realiza un uso justo y no comercial de la imagen para la difusión del evento.
URL:https://linagalvez.eu/agenda/terraza-europa-prioridades-femm-femm-2025-03-8m-2/
CATEGORIES:Actualidad,Destacado,FEMM,Parlamento
ATTACH;FMTTYPE=image/png:https://linagalvez.eu/wp-content/uploads/Terraza-Europa-LGM-202503.png
END:VEVENT
BEGIN:VEVENT
DTSTART;TZID=Europe/Madrid:20250310T151500
DTEND;TZID=Europe/Madrid:20250310T154500
DTSTAMP:20260420T074857
CREATED:20250307T113522Z
LAST-MODIFIED:20250310T114931Z
UID:11124-1741619700-1741621500@linagalvez.eu
SUMMARY:Benchmarking - Redes de Mujeres en Empresas
DESCRIPTION:Lina Gálvez realizará el discurso de apertura del evento organizado por la Women’s Interactive Network de Airbus en la CEOE de Madrid\, como presidenta de la Comisión de Derechos de las Mujeres e Igualdad de Género (FEMM) y miembro de la Comisión de Industria\, Investigación y Energía (ITRE) del Parlamento Europeo. En dicho evento se presentarán iniciativas en materia de igualdad de género en empresas tractoras en los sectores de la Innovación y la Tecnología. \nFuente de la imagen: evento anunciado en el que participa Lina Gálvez. En esta web se realiza un uso justo y no comercial de la imagen para la difusión del evento.
URL:https://linagalvez.eu/agenda/benchmarking-redes-mujeres-empresas/
CATEGORIES:Actualidad,Destacado,FEMM,ITRE,Parlamento
ATTACH;FMTTYPE=image/webp:https://linagalvez.eu/wp-content/uploads/women-interactive-network-airbus.webp
END:VEVENT
BEGIN:VEVENT
DTSTART;TZID=Europe/Madrid:20250311T090000
DTEND;TZID=Europe/Madrid:20250311T115000
DTSTAMP:20260420T074857
CREATED:20250307T102018Z
LAST-MODIFIED:20250310T120110Z
UID:11129-1741683600-1741693800@linagalvez.eu
SUMMARY:Intervención en Pleno en el debate sobre el Día Internacional de las Mujeres
DESCRIPTION:Lina Gálvez tendrá la palabra en el debate sobre el Día Internacional de las Mujeres del año 2025\, como presidenta de la Comisión de Derechos de la Mujer e Igualdad de Género (FEMM) del Parlamento Europeo. \nSe podrán seguir todas las sesiones del pleno en el siguiente enlace AQUÍ
URL:https://linagalvez.eu/agenda/intervencion-pleno-debate-8m2025/
CATEGORIES:Actualidad,Destacado,FEMM,Parlamento
ATTACH;FMTTYPE=image/webp:https://linagalvez.eu/wp-content/uploads/1732554067388_20241125_EP-176111B_PB9_EG_064.webp
END:VEVENT
BEGIN:VEVENT
DTSTART;TZID=Europe/Madrid:20250312T103000
DTEND;TZID=Europe/Madrid:20250312T113000
DTSTAMP:20260420T074857
CREATED:20250307T102018Z
LAST-MODIFIED:20250310T115507Z
UID:11139-1741775400-1741779000@linagalvez.eu
SUMMARY:Debate “Patrimonio cultural y mujeres: El papel de las mujeres como guardianas del patrimonio cultural”
DESCRIPTION:En el contexto de las actividades del Día Internacional de la Mujer organizadas por el Parlamento Europeo\, la Institución presentará a las mujeres como participantes clave con contribuciones significativas a los esfuerzos posteriores a los conflictos\, así como su liderazgo en diferentes áreas de consolidación de la paz y recuperación después de un conflicto (política\, acción humanitaria). \nLina Gálvez\, como presidenta de la Comisión de Derechos de las Mujeres e Igualdad de Género\, presentará este debate\, el cual se centra en mejorar el papel de las mujeres como guardianas del patrimonio cultural y abordar los desafíos que plantean los conflictos persistentes y la desigualdad\, reconociendo su impacto en la protección de las tradiciones\, la historia y los valores comunitarios para las generaciones futuras. \nFuente de la imagen: worldhistory.org – Egisto Sani (CC BY-NC-SA). En esta web se realiza un uso justo y no comercial de la imagen para la difusión del evento en el que participa Lina Gálvez.
URL:https://linagalvez.eu/agenda/debate-papel-mujeres-guardianas-patrimonio-cultural/
CATEGORIES:Actualidad,Destacado,FEMM,Parlamento
ATTACH;FMTTYPE=image/jpeg:https://linagalvez.eu/wp-content/uploads/larthia-seianti-Egisto-Sani-CC-scaled.jpg
END:VEVENT
BEGIN:VEVENT
DTSTART;TZID=Europe/Madrid:20250314T140000
DTEND;TZID=Europe/Madrid:20250314T163000
DTSTAMP:20260420T074857
CREATED:20250310T160744Z
LAST-MODIFIED:20250310T110536Z
UID:11116-1741960800-1741969800@linagalvez.eu
SUMMARY:Gala del Equipo Científico Mediterráneo 2025
DESCRIPTION:Lina Gálvez participará en Bruselas la presentación de la Gala del Equipo Científico Mediterráneo 2025: “Celebrando a pioneras/os en la excelencia científica y la igualdad de género”. Este evento especial está organizado por EWORA (European Women Rectors Association) en colaboración con el proyecto MEDNIGHT y financiado por el programa Horizonte Europa de la Unión Europea. La gala reunirá a profesionales de la investigación\, política y academia para celebrar el anuncio del Equipo Científico Mediterráneo 2025\, dedicado a abordar desafíos compartidos en toda la región mediterránea. \nMás información sobre la jornada aquí \nFuente de la imagen: evento anunciado en el que participa Lina Gálvez. En esta web se realiza un uso justo y no comercial de la imagen para la difusión del evento.
URL:https://linagalvez.eu/agenda/gala-equipo-cientifico-mediterraneo-2025/
CATEGORIES:Actualidad,Destacado,Parlamento
ATTACH;FMTTYPE=image/webp:https://linagalvez.eu/wp-content/uploads/Gala-Mednight-2025-LGM.webp
END:VEVENT
BEGIN:VEVENT
DTSTART;VALUE=DATE:20250317
DTEND;VALUE=DATE:20250322
DTSTAMP:20260420T074857
CREATED:20250307T103647Z
LAST-MODIFIED:20260209T124617Z
UID:11231-1742169600-1742601599@linagalvez.eu
SUMMARY:Delegación a la Comisión de la Condición Jurídica y Social de la Mujer (CSW69) de la ONU - Beijing +30
DESCRIPTION:Lina Gálvez liderará la misión oficial del Parlamento Europeo al 69º período de sesiones de la Comisión de la Condición Jurídica y Social de la Mujer (CSW\, por sus siglas en inglés)\, como presidenta de la Comisión de Derechos de las Mujeres e Igualdad de Género del Parlamento Europeo (FEMM). \nEn 2025\, la comunidad mundial conmemora el trigésimo aniversario de la Cuarta Conferencia Mundial sobre la Mujer y la adopción de la Declaración y Plataforma de Acción de Beijing (1995). \nEl sexagésimo noveno período de sesiones de la Comisión de la Condición Jurídica y Social de la Mujer tendrá lugar en la Sede de las Naciones Unidas en Nueva York del 10 al 21 de marzo de 2025. \nEstán invitadas a asistir al período de sesiones representantes de los Estados Miembros\, entidades de las Naciones Unidas y organizaciones no gubernamentales (ONG) acreditadas por el ECOSOC de todas las regiones del mundo. \nEste 69º período de sesiones se centrará principalmente en el examen y la evaluación de la aplicación de la Declaración y la Plataforma de Acción de Beijing y de los resultados del 23º período extraordinario de sesiones de la Asamblea General. El examen incluirá una evaluación de los desafíos actuales que afectan a la aplicación de la Plataforma de Acción y al logro de la igualdad de género y el empoderamiento de la mujer\, así como su contribución a la plena realización de la Agenda 2030 para el Desarrollo Sostenible. \nMás información: Parlamento Europeo | ONU Mujeres – CSW69 \nFuente de la imagen: ONU Mujeres\, 2025. CSW69. En esta web se realiza un uso justo y no comercial de la imagen para la difusión del evento.
URL:https://linagalvez.eu/agenda/delegacion-69csw-onu-beijing-30/
CATEGORIES:Actualidad,Destacado,FEMM,Parlamento
ATTACH;FMTTYPE=image/png:https://linagalvez.eu/wp-content/uploads/CSW69.png
END:VEVENT
BEGIN:VEVENT
DTSTART;TZID=Europe/Madrid:20250318T181500
DTEND;TZID=Europe/Madrid:20250318T193000
DTSTAMP:20260420T074857
CREATED:20250307T103647Z
LAST-MODIFIED:20260209T124410Z
UID:11246-1742321700-1742326200@linagalvez.eu
SUMMARY:Una perspectiva de 30 años sobre Beijing: Lograr el ODS 5 - Evento paralelo del Parlamento Europeo en la CSW69
DESCRIPTION:Lina Gálvez participará en la apertura del evento paralelo del Parlamento Europeo en el marco de la CSW69 “Una perspectiva de 30 años sobre Beijing: Lograr el ODS 5 (igualdad de género y empoderamiento de todas las mujeres y niñas): solo quedan cinco años para que el mundo cumpla las promesas de la Agenda 2030 para el Desarrollo Sostenible”\, como presidenta de la Comisión de Derechos de las Mujeres e Igualdad de Género (FEMM). \n 13:15 – 14:30 hora local de Nueva York \nMás información y streaming: aquí \n\nEl 69º período de sesiones de la Comisión de la Condición Jurídica y Social de la Mujer se celebra en la Sede de la ONU en Nueva York del 10 al 21 de marzo de 2025\, y se centra principalmente en el examen y la evaluación de la aplicación de la Declaración y la Plataforma de Acción de Beijing y de los resultados del 23º período extraordinario de sesiones de la Asamblea General. El examen incluirá una evaluación de los desafíos actuales que afectan a la aplicación de la Plataforma de Acción y al logro de la igualdad de género y el empoderamiento de la mujer\, así como su contribución a la plena realización de la Agenda 2030 para el Desarrollo Sostenible. \nMás información: Parlamento Europeo | ONU Mujeres – CSW69
URL:https://linagalvez.eu/agenda/perspectiva-30anos-beijing-lograr-ods5-evento-paralelo-pe/
CATEGORIES:Actualidad,Destacado,FEMM,Parlamento
ATTACH;FMTTYPE=image/jpeg:https://linagalvez.eu/wp-content/uploads/L034305_IUST_SEC-FEMM_CSW-69.jpeg
END:VEVENT
BEGIN:VEVENT
DTSTART;TZID=Europe/Madrid:20250320T133000
DTEND;TZID=Europe/Madrid:20250320T150000
DTSTAMP:20260420T074857
CREATED:20250307T103647Z
LAST-MODIFIED:20260209T124409Z
UID:11234-1742477400-1742482800@linagalvez.eu
SUMMARY:Redefiniendo la política exterior a través del feminismo - Evento paralelo de FEPS y FES en la CSW69
DESCRIPTION:Lina Gálvez participará en un evento paralelo de la CSW69 organizado por FEPS y FES: Redefiniendo la política exterior a través del feminismo\, como vicepresidenta de la Fundación Europea de Estudios Progresistas (FEPS) y presidenta de la Comisión de Derechos de las Mujeres e Igualdad de Género del Parlamento Europeo (FEMM)\, \n 08:30 – 10:00 hora local de Nueva York \nEste evento paralelo analizará los avances en la implementación de la Declaración de Beijing y cómo debemos afrontar los nuevos desafíos desde la perspectiva de la política exterior feminista. \n\nEl 69º período de sesiones de la Comisión de la Condición Jurídica y Social de la Mujer se celebra en la Sede de la ONU en Nueva York del 10 al 21 de marzo de 2025\, y se centra principalmente en el examen y la evaluación de la aplicación de la Declaración y la Plataforma de Acción de Beijing y de los resultados del 23º período extraordinario de sesiones de la Asamblea General. El examen incluirá una evaluación de los desafíos actuales que afectan a la aplicación de la Plataforma de Acción y al logro de la igualdad de género y el empoderamiento de la mujer\, así como su contribución a la plena realización de la Agenda 2030 para el Desarrollo Sostenible. \nMás información: Parlamento Europeo | ONU Mujeres – CSW69 \nFuente de la imagen: ONU Mujeres\, 2025. Women’s Rights in Review 30 Years After Beijing. En esta web se realiza un uso justo y no comercial de la imagen para la difusión del evento.
URL:https://linagalvez.eu/agenda/redefiniendo-politica-exterior-feminismo-evento-paralelo-feps-fes/
CATEGORIES:Actualidad,Destacado,FEMM,Parlamento
ATTACH;FMTTYPE=image/webp:https://linagalvez.eu/wp-content/uploads/Beijing30women3.webp
END:VEVENT
BEGIN:VEVENT
DTSTART;TZID=Europe/Madrid:20250324T160000
DTEND;TZID=Europe/Madrid:20250324T170000
DTSTAMP:20260420T074857
CREATED:20250321T152459Z
LAST-MODIFIED:20250323T184640Z
UID:11328-1742832000-1742835600@linagalvez.eu
SUMMARY:Sesión "Una reconstrucción que empodere a las mujeres en Ucrania" en el Programa “Ucrania Progresista" - FEPS
DESCRIPTION:Lina Gálvez impartirá la sesión «Una reconstrucción que empodere a las mujeres en Ucrania» en el Programa “Ucrania Progresista» organizado conjuntamente por la Fundación para Estudios Progresistas Europeos (FEPS) y la Alianza Progresista de Socialistas y Demócratas en el Parlamento Europeo (Grupo S&D) en el marco de la «Universidad Abierta Progresista» (OPU).
URL:https://linagalvez.eu/agenda/sesion-reconstruccion-empodere-mujeres-ucrania-programa-ucrania-progresista-feps/
CATEGORIES:Destacado,FEMM,FEPS,S&D,Universidad
ATTACH;FMTTYPE=image/jpeg:https://linagalvez.eu/wp-content/uploads/Trenza-ucrania-PE.jpg
END:VEVENT
BEGIN:VEVENT
DTSTART;TZID=Europe/Madrid:20250325T143000
DTEND;TZID=Europe/Madrid:20250325T160000
DTSTAMP:20260420T074857
CREATED:20250321T174604Z
LAST-MODIFIED:20250323T175903Z
UID:11308-1742913000-1742918400@linagalvez.eu
SUMMARY:Panel “Protección y Empoderamiento de las Víctimas de Violencia de Género y Doméstica”
DESCRIPTION:Esta iniciativa celebrada en el Parlamento Europeo\, reunirá a responsables de la política de las instituciones de la UE\, organizaciones de derechos de las mujeres\, representantes de la ONU\, el EIGE y otras partes interesadas clave para debatir los retos y las medidas legislativas necesarias para proteger y empoderar a las víctimas de violencia de género y doméstica. Lina Gálvez participará en el panel para dar su visión como Presidenta de la Comisión de Derechos de las Mujeres e Igualdad de Género del Parlamento Europeo (FEMM). \nConsultar programa aquí. \nFuente de la imagen: evento anunciado en el que participa Lina Gálvez. En esta web se realiza un uso justo y no comercial de la imagen para la difusión del evento.
URL:https://linagalvez.eu/agenda/panel-proteccion-empoderamiento-victimas-violencia-genero-domestica/
CATEGORIES:Actualidad,Destacado,FEMM,Parlamento
ATTACH;FMTTYPE=image/webp:https://linagalvez.eu/wp-content/uploads/2025_03_25_GBD_Vict_25Mar.webp
END:VEVENT
BEGIN:VEVENT
DTSTART;TZID=Europe/Madrid:20250326T123000
DTEND;TZID=Europe/Madrid:20250326T140000
DTSTAMP:20260420T074857
CREATED:20250321T174604Z
LAST-MODIFIED:20250323T175817Z
UID:11314-1742992200-1742997600@linagalvez.eu
SUMMARY:Evento “Cata de aceite de Oliva extra virgen” en el PE
DESCRIPTION:Lina Gálvez será anfitriona de la cata-maridaje organizada junto UPA Jaén y la Diputación Provincial de Jaén con motivo de la campaña de promoción del aceite de oliva virgen extra. \nFuente de la imagen: evento anunciado en el que participa Lina Gálvez. En esta web se realiza un uso justo y no comercial de la imagen para la difusión del evento.
URL:https://linagalvez.eu/agenda/evento-cata-aceite-oliva-extra-virgen-pe/
CATEGORIES:Actualidad,Andalucía,Destacado,Parlamento
ATTACH;FMTTYPE=image/webp:https://linagalvez.eu/wp-content/uploads/2025_03_26-imagen-cata-aceite.webp
END:VEVENT
BEGIN:VEVENT
DTSTART;TZID=Europe/Madrid:20250331T180000
DTEND;TZID=Europe/Madrid:20250331T190000
DTSTAMP:20260420T074857
CREATED:20250328T085502Z
LAST-MODIFIED:20250331T081243Z
UID:11375-1743444000-1743447600@linagalvez.eu
SUMMARY:Conferencia inaugural del Seminario Permanente de Doctorado en ciencias sociales UPO
DESCRIPTION:Lina Gálvez impartirá la conferencia inaugural del Seminario Permanente de Doctorado en Ciencias Sociales de la Universidad Pablo de Olavide de Sevilla\, con el título ‘En defensa de una ciencia crítica frente al ataque a los estudios de género’. \nStreaming aquí.
URL:https://linagalvez.eu/agenda/conferencia-inaugural-seminario-permanente-doctorado-ccss-upo/
CATEGORIES:Actualidad,Andalucía,Destacado,Universidad
ATTACH;FMTTYPE=image/webp:https://linagalvez.eu/wp-content/uploads/31M_UPO_SEMINARIO-PERMANENTE-scaled.webp
END:VEVENT
END:VCALENDAR