BEGIN:VCALENDAR
VERSION:2.0
PRODID:-//Lina Gálvez - ECPv6.15.20//NONSGML v1.0//EN
CALSCALE:GREGORIAN
METHOD:PUBLISH
X-WR-CALNAME:Lina Gálvez
X-ORIGINAL-URL:https://linagalvez.eu
X-WR-CALDESC:Eventos para Lina Gálvez
REFRESH-INTERVAL;VALUE=DURATION:PT1H
X-Robots-Tag:noindex
X-PUBLISHED-TTL:PT1H
BEGIN:VTIMEZONE
TZID:Europe/Madrid
BEGIN:DAYLIGHT
TZOFFSETFROM:+0100
TZOFFSETTO:+0200
TZNAME:CEST
DTSTART:20230326T010000
END:DAYLIGHT
BEGIN:STANDARD
TZOFFSETFROM:+0200
TZOFFSETTO:+0100
TZNAME:CET
DTSTART:20231029T010000
END:STANDARD
BEGIN:DAYLIGHT
TZOFFSETFROM:+0100
TZOFFSETTO:+0200
TZNAME:CEST
DTSTART:20240331T010000
END:DAYLIGHT
BEGIN:STANDARD
TZOFFSETFROM:+0200
TZOFFSETTO:+0100
TZNAME:CET
DTSTART:20241027T010000
END:STANDARD
BEGIN:DAYLIGHT
TZOFFSETFROM:+0100
TZOFFSETTO:+0200
TZNAME:CEST
DTSTART:20250330T010000
END:DAYLIGHT
BEGIN:STANDARD
TZOFFSETFROM:+0200
TZOFFSETTO:+0100
TZNAME:CET
DTSTART:20251026T010000
END:STANDARD
END:VTIMEZONE
BEGIN:VEVENT
DTSTART;TZID=Europe/Madrid:20240221T170000
DTEND;TZID=Europe/Madrid:20240221T200000
DTSTAMP:20260426T051025
CREATED:20240219T121359Z
LAST-MODIFIED:20240223T103033Z
UID:8870-1708534800-1708545600@linagalvez.eu
SUMMARY:Internacional Socialista de Mujeres
DESCRIPTION:Lina Gálvez asistirá a la reunión del Consejo de la Internacional Socialista de Mujeres (ISM)\, que se celebra esta semana en España (Madrid) . Gálvez asiste a esta Internacional Socialista de mujeres como Delegada y experta internacional en relación a sus responsabilidades dentro y fuera del PSOE en materia de Igualdad.  A esa reunión asistirán las delegadas de las organizaciones de mujeres de los partidos socialistas\, socialdemócratas y laboristas afiliados a la Internacional Socialista de todo el mundo y además\, asistirán como invitadas representantes de organizaciones de mujeres y sociales de España. \nLa Internacional Socialista de Mujeres es la organización internacional de las organizaciones de mujeres de los partidos socialista\, socialdemócrata y laborista afiliados a la Internacional Socialista. Actualmente hay 115 organizaciones miembros de todas partes del mundo. \nMás información;https://www.socintwomen.org/en/welcome/
URL:https://linagalvez.eu/agenda/internacional-socialista-de-mujeres/
CATEGORIES:Actualidad,Destacado,FEMM,S&D
ATTACH;FMTTYPE=image/jpeg:https://linagalvez.eu/wp-content/uploads/2024/02/InternacionalSocialistaMujeres.jpg
END:VEVENT
END:VCALENDAR