BEGIN:VCALENDAR
VERSION:2.0
PRODID:-//Lina Gálvez - ECPv6.15.20//NONSGML v1.0//EN
CALSCALE:GREGORIAN
METHOD:PUBLISH
X-ORIGINAL-URL:https://linagalvez.eu
X-WR-CALDESC:Eventos para Lina Gálvez
REFRESH-INTERVAL;VALUE=DURATION:PT1H
X-Robots-Tag:noindex
X-PUBLISHED-TTL:PT1H
BEGIN:VTIMEZONE
TZID:Europe/Madrid
BEGIN:DAYLIGHT
TZOFFSETFROM:+0100
TZOFFSETTO:+0200
TZNAME:CEST
DTSTART:20230326T010000
END:DAYLIGHT
BEGIN:STANDARD
TZOFFSETFROM:+0200
TZOFFSETTO:+0100
TZNAME:CET
DTSTART:20231029T010000
END:STANDARD
BEGIN:DAYLIGHT
TZOFFSETFROM:+0100
TZOFFSETTO:+0200
TZNAME:CEST
DTSTART:20240331T010000
END:DAYLIGHT
BEGIN:STANDARD
TZOFFSETFROM:+0200
TZOFFSETTO:+0100
TZNAME:CET
DTSTART:20241027T010000
END:STANDARD
BEGIN:DAYLIGHT
TZOFFSETFROM:+0100
TZOFFSETTO:+0200
TZNAME:CEST
DTSTART:20250330T010000
END:DAYLIGHT
BEGIN:STANDARD
TZOFFSETFROM:+0200
TZOFFSETTO:+0100
TZNAME:CET
DTSTART:20251026T010000
END:STANDARD
END:VTIMEZONE
BEGIN:VEVENT
DTSTART;TZID=Europe/Madrid:20240226T170000
DTEND;TZID=Europe/Madrid:20240229T183000
DTSTAMP:20260426T034141
CREATED:20210211T164450Z
LAST-MODIFIED:20240223T101551Z
UID:8812-1708966800-1709231400@linagalvez.eu
SUMMARY:Pleno del Parlamento Europeo en Estrasburgo
DESCRIPTION:Destacados del pleno. Estrasburgo  \n\n\n\n\n\nDiscurso de Yulia Navalnaya y debate y votación sobre el asesinato de Alexei Navalny y la necesidad de una acción de la UE para apoyar a la sociedad civil en Rusia;\nVotación final sobre la ley de restauración de la naturaleza de la UE;\nDelitos ambientales y sanciones conexas: debate y votación final;\nFinanciación para Ucrania\, revisión del presupuesto a largo plazo de la UE y hacer que la UE sea más competitiva y resiliente en sectores estratégicos: debate y votación final;\n\n\nLa necesidad de un apoyo inquebrantable de la UE a Ucrania\, dos años después de la invasión rusa: votar una resolución;\nDebate clave y votación sobre una política europea de seguridad y defensa más sólida;\nDebate sobre la guerra en la Franja de Gaza\, incluidos los acontecimientos recientes relacionados con la Corte Internacional de Justicia y la UNRWA;\n\n\nVotación final sobre nuevas reglas para proteger a periodistas y activistas de demandas abusivas destinadas a silenciarlos;\nDebate y votación final sobre transparencia y focalización de la publicidad política; y\n\n\nDebatir y votar nuevas normas sobre permisos de conducción.\n\n\n\n\n\n\nSe podrán seguir las sesiones en el siguiente enlace:https://www.europarl.europa.eu/plenary/es/home.html
URL:https://linagalvez.eu/agenda/pleno-del-parlamento-europeo-2-2-2-2-2-2-2-6-2-3-3-6-2-2-2-3-2-2/
CATEGORIES:Actualidad,Destacado,EMPL,FEMM,ITRE,Parlamento
ATTACH;FMTTYPE=image/jpeg:https://linagalvez.eu/wp-content/uploads/2020/03/European_Parliament_Strasbourg_Hemicycle_-_Diliff-2-scaled.jpg
END:VEVENT
BEGIN:VEVENT
DTSTART;TZID=Europe/Madrid:20240228T100000
DTEND;TZID=Europe/Madrid:20240228T110000
DTSTAMP:20260426T034141
CREATED:20240226T101014Z
LAST-MODIFIED:20240227T174914Z
UID:8899-1709114400-1709118000@linagalvez.eu
SUMMARY:Con motivo de la celebración del Día de Andalucía Desayuno Andaluz 28F. Estrasburgo
DESCRIPTION:La eurodiputada sevillana Lina Gálvez\, en compañía de su colega eurodiputada socialista granadina Clara Aguilera\, ha organizado un Desayuno Andaluz para conmemorar el Día de Andalucía en el Parlamento Europeo\, que celebra su pleno en Estrasburgo. \nDurante este evento\, se degustarán molletes andaluces traídos desde Écija\, acompañados de aceite andaluz de Córdoba y Jaén\, con sal de Cádiz o azúcar para aquellos que prefieran un toque dulce. El propósito es celebrar y dar a conocer la riqueza y el sabor de la cultura de la región en las instituciones europeas. \nAdemás\, aprovecharán la ocasión para expresar su descontento con la gestión realizada por la Junta de Andalucía en relación al tradicional desayuno andaluz que se celebra el 28 de febrero en los colegios andaluces\, denunciando la adjudicación de aceite a una empresa de reputación cuestionada para el consumo de niños y niñas en otras comunidades autónomas. \nLa empresa que ofreció la oferta más barata por el aceite\, tiene abierto un expediente sancionador de la Comisión Nacional de los Mercados y la Competencia y ha sido multada en Madrid por entregar alimentos en mal estado a residencias infantiles\,
URL:https://linagalvez.eu/agenda/con-motivo-de-la-celebracion-del-dia-de-andalucia-desayuno-andaluz-28f-estrasburgo/
CATEGORIES:Andalucía,Destacado,Parlamento,S&D
ATTACH;FMTTYPE=image/jpeg:https://linagalvez.eu/wp-content/uploads/2024/02/LGM-28F.jpeg
END:VEVENT
END:VCALENDAR