BEGIN:VCALENDAR
VERSION:2.0
PRODID:-//Lina Gálvez - ECPv6.15.20//NONSGML v1.0//EN
CALSCALE:GREGORIAN
METHOD:PUBLISH
X-WR-CALNAME:Lina Gálvez
X-ORIGINAL-URL:https://linagalvez.eu
X-WR-CALDESC:Eventos para Lina Gálvez
REFRESH-INTERVAL;VALUE=DURATION:PT1H
X-Robots-Tag:noindex
X-PUBLISHED-TTL:PT1H
BEGIN:VTIMEZONE
TZID:Europe/Madrid
BEGIN:DAYLIGHT
TZOFFSETFROM:+0100
TZOFFSETTO:+0200
TZNAME:CEST
DTSTART:20230326T010000
END:DAYLIGHT
BEGIN:STANDARD
TZOFFSETFROM:+0200
TZOFFSETTO:+0100
TZNAME:CET
DTSTART:20231029T010000
END:STANDARD
BEGIN:DAYLIGHT
TZOFFSETFROM:+0100
TZOFFSETTO:+0200
TZNAME:CEST
DTSTART:20240331T010000
END:DAYLIGHT
BEGIN:STANDARD
TZOFFSETFROM:+0200
TZOFFSETTO:+0100
TZNAME:CET
DTSTART:20241027T010000
END:STANDARD
BEGIN:DAYLIGHT
TZOFFSETFROM:+0100
TZOFFSETTO:+0200
TZNAME:CEST
DTSTART:20250330T010000
END:DAYLIGHT
BEGIN:STANDARD
TZOFFSETFROM:+0200
TZOFFSETTO:+0100
TZNAME:CET
DTSTART:20251026T010000
END:STANDARD
END:VTIMEZONE
BEGIN:VEVENT
DTSTART;TZID=Europe/Madrid:20240519T120000
DTEND;TZID=Europe/Madrid:20240519T130000
DTSTAMP:20260425T182139
CREATED:20240515T075215Z
LAST-MODIFIED:20240517T095551Z
UID:9208-1716120000-1716123600@linagalvez.eu
SUMMARY:Más Europa. Acto en Cádiz
DESCRIPTION:La eurodiputada Lina Gálvez participará este domingo en Cádiz en un acto que marcará el inicio de la campaña para las elecciones europeas para el PSOE de Cádiz. Este encuentro tendrá lugar este domingo 19 de mayo de 2024 en Cádiz\, contando con la participación entre otros de la vicepresidenta tercera y ministra de Transición Ecológica\, Teresa Ribera\, y el ex presidente del Gobierno\, José Luis Rodríguez Zapatero.
URL:https://linagalvez.eu/agenda/conversando-con-europa-uned-2-2/
CATEGORIES:Andalucía,Destacado
ATTACH;FMTTYPE=image/jpeg:https://linagalvez.eu/wp-content/uploads/2024/05/Mas-Europa.jpeg
END:VEVENT
BEGIN:VEVENT
DTSTART;TZID=Europe/Madrid:20240519T160000
DTEND;TZID=Europe/Madrid:20240519T170000
DTSTAMP:20260425T182139
CREATED:20240518T091127Z
LAST-MODIFIED:20240518T091127Z
UID:9230-1716134400-1716138000@linagalvez.eu
SUMMARY:Lina Gálvez en el programa #ObjetivoIgualdad: Avances en Igualdad de Género en la Legislatura del Parlamento Europeo
DESCRIPTION:¿Sabes lo que ha hecho esta legislatura europe en favor de las mujeres? \nEste domingo 18 a las 16:00\, no te pierdas a Lina Gálvez\, eurodiputada y miembro de la Comisión de Igualdad del Parlamento Europeo\, en el programa #ObjetivoIgualdad. Gálvez compartirá los logros y avances alcanzados durante esta legislatura en favor de las mujeres\, destacando iniciativas clave como la Directiva de Transparencia Salarial\, el Plan de Acción para la Igualdad de Género y las medidas para combatir la violencia de género. \nSintoniza Canal 24 horas de @rtve y @rtveplay para conocer de primera mano cómo se están promoviendo políticas que fomentan la igualdad de género en Europa y qué desafíos aún quedan por afrontar.
URL:https://linagalvez.eu/agenda/lina-galvez-en-el-programa-objetivoigualdad-avances-en-igualdad-de-genero-en-la-legislatura-del-parlamento-europeo/
CATEGORIES:Actualidad,Destacado,FEMM
ATTACH;FMTTYPE=image/jpeg:https://linagalvez.eu/wp-content/uploads/2024/05/Objetivo-Igualdad.jpeg
END:VEVENT
END:VCALENDAR