BEGIN:VCALENDAR
VERSION:2.0
PRODID:-//Lina Gálvez - ECPv6.15.20//NONSGML v1.0//EN
CALSCALE:GREGORIAN
METHOD:PUBLISH
X-ORIGINAL-URL:https://linagalvez.eu
X-WR-CALDESC:Eventos para Lina Gálvez
REFRESH-INTERVAL;VALUE=DURATION:PT1H
X-Robots-Tag:noindex
X-PUBLISHED-TTL:PT1H
BEGIN:VTIMEZONE
TZID:Europe/Madrid
BEGIN:DAYLIGHT
TZOFFSETFROM:+0100
TZOFFSETTO:+0200
TZNAME:CEST
DTSTART:20230326T010000
END:DAYLIGHT
BEGIN:STANDARD
TZOFFSETFROM:+0200
TZOFFSETTO:+0100
TZNAME:CET
DTSTART:20231029T010000
END:STANDARD
BEGIN:DAYLIGHT
TZOFFSETFROM:+0100
TZOFFSETTO:+0200
TZNAME:CEST
DTSTART:20240331T010000
END:DAYLIGHT
BEGIN:STANDARD
TZOFFSETFROM:+0200
TZOFFSETTO:+0100
TZNAME:CET
DTSTART:20241027T010000
END:STANDARD
BEGIN:DAYLIGHT
TZOFFSETFROM:+0100
TZOFFSETTO:+0200
TZNAME:CEST
DTSTART:20250330T010000
END:DAYLIGHT
BEGIN:STANDARD
TZOFFSETFROM:+0200
TZOFFSETTO:+0100
TZNAME:CET
DTSTART:20251026T010000
END:STANDARD
END:VTIMEZONE
BEGIN:VEVENT
DTSTART;TZID=Europe/Madrid:20241125T170000
DTEND;TZID=Europe/Madrid:20241125T180000
DTSTAMP:20260423T100038
CREATED:20241122T084816Z
LAST-MODIFIED:20241125T111437Z
UID:10220-1732554000-1732557600@linagalvez.eu
SUMMARY:Intervención en Pleno por el 25N\, Día Internacional para la Eliminación de la Violencia contra las mujeres
DESCRIPTION:17:00 Intervención en Pleno de Estrasburgo \nLina Gálvez tendrá la palabra en las declaraciones del Parlamento con motivo del 25-N\, Día Internacional para la Eliminación de la Violencia contra las mujeres\, como presidenta la Comisión de Derechos de las Mujeres e Igualdad de Género (FEMM). \nSe podrá seguir la intervención en el siguiente enlace: AQUÍ
URL:https://linagalvez.eu/agenda/intervencion-pleno-25n/
CATEGORIES:Actualidad,Destacado,FEMM,Parlamento
ATTACH;FMTTYPE=image/webp:https://linagalvez.eu/wp-content/uploads/2024/11/Violence-aganist-women-must-end-EP-25N2024.webp
END:VEVENT
END:VCALENDAR