BEGIN:VCALENDAR
VERSION:2.0
PRODID:-//Lina Gálvez - ECPv6.15.20//NONSGML v1.0//EN
CALSCALE:GREGORIAN
METHOD:PUBLISH
X-WR-CALNAME:Lina Gálvez
X-ORIGINAL-URL:https://linagalvez.eu
X-WR-CALDESC:Eventos para Lina Gálvez
REFRESH-INTERVAL;VALUE=DURATION:PT1H
X-Robots-Tag:noindex
X-PUBLISHED-TTL:PT1H
BEGIN:VTIMEZONE
TZID:Europe/Madrid
BEGIN:DAYLIGHT
TZOFFSETFROM:+0100
TZOFFSETTO:+0200
TZNAME:CEST
DTSTART:20240331T010000
END:DAYLIGHT
BEGIN:STANDARD
TZOFFSETFROM:+0200
TZOFFSETTO:+0100
TZNAME:CET
DTSTART:20241027T010000
END:STANDARD
BEGIN:DAYLIGHT
TZOFFSETFROM:+0100
TZOFFSETTO:+0200
TZNAME:CEST
DTSTART:20250330T010000
END:DAYLIGHT
BEGIN:STANDARD
TZOFFSETFROM:+0200
TZOFFSETTO:+0100
TZNAME:CET
DTSTART:20251026T010000
END:STANDARD
BEGIN:DAYLIGHT
TZOFFSETFROM:+0100
TZOFFSETTO:+0200
TZNAME:CEST
DTSTART:20260329T010000
END:DAYLIGHT
BEGIN:STANDARD
TZOFFSETFROM:+0200
TZOFFSETTO:+0100
TZNAME:CET
DTSTART:20261025T010000
END:STANDARD
END:VTIMEZONE
BEGIN:VEVENT
DTSTART;TZID=Europe/Madrid:20250120T123000
DTEND;TZID=Europe/Madrid:20250120T140000
DTSTAMP:20260423T031315
CREATED:20250116T084816Z
LAST-MODIFIED:20250120T091207Z
UID:10451-1737376200-1737381600@linagalvez.eu
SUMMARY:Participación como ponente en curso sobre violencia vicaria
DESCRIPTION:Lina Gálvez participará como ponente en el curso “Víctimas de violencia de género. Mujeres e hijas/os. Instrumentalización de los y las menores en contextos de violencia de género. Violencia vicaria” organizado por la Fiscalía General del Estado y el Centro de Estudios Jurídicos del Ministerio de Justicia de España.
URL:https://linagalvez.eu/agenda/ponente-curso-violencia-vicaria/
CATEGORIES:Actualidad,Destacado,FEMM
ATTACH;FMTTYPE=image/jpeg:https://linagalvez.eu/wp-content/uploads/2024/11/banner_no_hay_excusa-ONU-Mujeres.jpg
END:VEVENT
BEGIN:VEVENT
DTSTART;TZID=Europe/Madrid:20250120T200000
DTEND;TZID=Europe/Madrid:20250120T203000
DTSTAMP:20260423T031315
CREATED:20250120T195516Z
LAST-MODIFIED:20250121T122132Z
UID:10494-1737403200-1737405000@linagalvez.eu
SUMMARY:Intervención en Pleno "Energía para el futuro de Europa: impulso de la industria de la fusión en aras de la independencia y la innovación energéticas"
DESCRIPTION:21:08 Intervención en Pleno de Estrasburgo \nLina Gálvez tendrá la palabra en en el Pleno del Parlamento en el debate ‘Energía para el futuro de Europa: impulso de la industria de la fusión en aras de la independencia y la innovación energéticas’. \nSe puede seguir la intervención en el siguiente enlace: AQUÍ \nVer noticia relacionada: Lina Gálvez: Intervención sobre la necesidad de innovación en la industria de fusión nuclear.
URL:https://linagalvez.eu/agenda/intervencion-pleno-energia-futuro-europa-fusion/
CATEGORIES:Actualidad,Destacado,ITRE,Parlamento,STOA
ATTACH;FMTTYPE=image/png:https://linagalvez.eu/wp-content/uploads/2025/01/Intervencion-LGM-pleno-2025-01-20-Energia.png
END:VEVENT
END:VCALENDAR