BEGIN:VCALENDAR
VERSION:2.0
PRODID:-//Lina Gálvez - ECPv6.15.20//NONSGML v1.0//EN
CALSCALE:GREGORIAN
METHOD:PUBLISH
X-ORIGINAL-URL:https://linagalvez.eu
X-WR-CALDESC:Eventos para Lina Gálvez
REFRESH-INTERVAL;VALUE=DURATION:PT1H
X-Robots-Tag:noindex
X-PUBLISHED-TTL:PT1H
BEGIN:VTIMEZONE
TZID:Europe/Madrid
BEGIN:DAYLIGHT
TZOFFSETFROM:+0100
TZOFFSETTO:+0200
TZNAME:CEST
DTSTART:20240331T010000
END:DAYLIGHT
BEGIN:STANDARD
TZOFFSETFROM:+0200
TZOFFSETTO:+0100
TZNAME:CET
DTSTART:20241027T010000
END:STANDARD
BEGIN:DAYLIGHT
TZOFFSETFROM:+0100
TZOFFSETTO:+0200
TZNAME:CEST
DTSTART:20250330T010000
END:DAYLIGHT
BEGIN:STANDARD
TZOFFSETFROM:+0200
TZOFFSETTO:+0100
TZNAME:CET
DTSTART:20251026T010000
END:STANDARD
BEGIN:DAYLIGHT
TZOFFSETFROM:+0100
TZOFFSETTO:+0200
TZNAME:CEST
DTSTART:20260329T010000
END:DAYLIGHT
BEGIN:STANDARD
TZOFFSETFROM:+0200
TZOFFSETTO:+0100
TZNAME:CET
DTSTART:20261025T010000
END:STANDARD
END:VTIMEZONE
BEGIN:VEVENT
DTSTART;TZID=Europe/Madrid:20250408T150000
DTEND;TZID=Europe/Madrid:20250408T180000
DTSTAMP:20260421T093855
CREATED:20250404T101002Z
LAST-MODIFIED:20250929T085130Z
UID:11455-1744124400-1744135200@linagalvez.eu
SUMMARY:Conferencia del foro STOA - STS
DESCRIPTION:Lina Gálvez participará en la Conferencia del foro STOA – STS “Cooperación UE – Japón en las áreas de cuántica e IA”\, como vicepresidenta del Panel de evaluación de opciones científicas y tecnológicas del Parlamento Europeo (STOA). Esta conferencia sirve como una plataforma vital para explorar y mejorar la asociación estratégica entre la UE y Japón en los campos de la inteligencia artificial y las tecnologías cuánticas\, que están evolucionando rápidamente. \nEl Foro STS de Japón reúne anualmente a científicos y líderes mundiales en los campos de la política\, los negocios y la academia. Por su calidad y diversidad es la principal plataforma mundial para discutir temas relacionados con la ciencia y la tecnología y sus implicaciones para la sociedad. \nMás información y streaming aquí \nFuente de la imagen: Parlamento Europeo. Evento anunciado en el que participa Lina Gálvez. En esta web se realiza un uso justo y no comercial de la imagen para la difusión del evento.
URL:https://linagalvez.eu/agenda/conferencia-foro-stoa-sts/
CATEGORIES:Actualidad,Destacado,Parlamento,STOA
ATTACH;FMTTYPE=image/jpeg:https://linagalvez.eu/wp-content/uploads/AdobeStock_228262183-ml.jpeg
END:VEVENT
END:VCALENDAR