BEGIN:VCALENDAR
VERSION:2.0
PRODID:-//Lina Gálvez - ECPv6.15.20//NONSGML v1.0//EN
CALSCALE:GREGORIAN
METHOD:PUBLISH
X-WR-CALNAME:Lina Gálvez
X-ORIGINAL-URL:https://linagalvez.eu
X-WR-CALDESC:Eventos para Lina Gálvez
REFRESH-INTERVAL;VALUE=DURATION:PT1H
X-Robots-Tag:noindex
X-PUBLISHED-TTL:PT1H
BEGIN:VTIMEZONE
TZID:Europe/Madrid
BEGIN:DAYLIGHT
TZOFFSETFROM:+0100
TZOFFSETTO:+0200
TZNAME:CEST
DTSTART:20220327T010000
END:DAYLIGHT
BEGIN:STANDARD
TZOFFSETFROM:+0200
TZOFFSETTO:+0100
TZNAME:CET
DTSTART:20221030T010000
END:STANDARD
BEGIN:DAYLIGHT
TZOFFSETFROM:+0100
TZOFFSETTO:+0200
TZNAME:CEST
DTSTART:20230326T010000
END:DAYLIGHT
BEGIN:STANDARD
TZOFFSETFROM:+0200
TZOFFSETTO:+0100
TZNAME:CET
DTSTART:20231029T010000
END:STANDARD
BEGIN:DAYLIGHT
TZOFFSETFROM:+0100
TZOFFSETTO:+0200
TZNAME:CEST
DTSTART:20240331T010000
END:DAYLIGHT
BEGIN:STANDARD
TZOFFSETFROM:+0200
TZOFFSETTO:+0100
TZNAME:CET
DTSTART:20241027T010000
END:STANDARD
END:VTIMEZONE
BEGIN:VEVENT
DTSTART;TZID=Europe/Madrid:20230228T180000
DTEND;TZID=Europe/Madrid:20230228T190000
DTSTAMP:20260424T000721
CREATED:20230227T101517Z
LAST-MODIFIED:20231117T123301Z
UID:6910-1677607200-1677610800@linagalvez.eu
SUMMARY:Inauguración de la Exposición sobre Exoplanetas
DESCRIPTION:La eurodiputada Lina Gálvez asistirá al acto de inauguración junto con los y las conferenciantes\, la exposición durará desde el lunes 27 de febrero hasta el viernes  2 de marzo en el edificio SPINELLI\, Planta 1\, Balcón SPINELLI – 1G del Parlamento Europeo en Bruselas.
URL:https://linagalvez.eu/agenda/inauguracion-de-la-exposicion-sobre-exoplanetas/
CATEGORIES:Actualidad,Autonomía estratégica,autonomía estratégica eje central,ITRE,Parlamento,STOA
ATTACH;FMTTYPE=image/jpeg:https://linagalvez.eu/wp-content/uploads/2022/02/LGM_tecnologiaydigitalizacion.jpg
END:VEVENT
END:VCALENDAR