BEGIN:VCALENDAR
VERSION:2.0
PRODID:-//Lina Gálvez - ECPv6.15.20//NONSGML v1.0//EN
CALSCALE:GREGORIAN
METHOD:PUBLISH
X-WR-CALNAME:Lina Gálvez
X-ORIGINAL-URL:https://linagalvez.eu
X-WR-CALDESC:Eventos para Lina Gálvez
REFRESH-INTERVAL;VALUE=DURATION:PT1H
X-Robots-Tag:noindex
X-PUBLISHED-TTL:PT1H
BEGIN:VTIMEZONE
TZID:Europe/Madrid
BEGIN:DAYLIGHT
TZOFFSETFROM:+0100
TZOFFSETTO:+0200
TZNAME:CEST
DTSTART:20220327T010000
END:DAYLIGHT
BEGIN:STANDARD
TZOFFSETFROM:+0200
TZOFFSETTO:+0100
TZNAME:CET
DTSTART:20221030T010000
END:STANDARD
BEGIN:DAYLIGHT
TZOFFSETFROM:+0100
TZOFFSETTO:+0200
TZNAME:CEST
DTSTART:20230326T010000
END:DAYLIGHT
BEGIN:STANDARD
TZOFFSETFROM:+0200
TZOFFSETTO:+0100
TZNAME:CET
DTSTART:20231029T010000
END:STANDARD
BEGIN:DAYLIGHT
TZOFFSETFROM:+0100
TZOFFSETTO:+0200
TZNAME:CEST
DTSTART:20240331T010000
END:DAYLIGHT
BEGIN:STANDARD
TZOFFSETFROM:+0200
TZOFFSETTO:+0100
TZNAME:CET
DTSTART:20241027T010000
END:STANDARD
END:VTIMEZONE
BEGIN:VEVENT
DTSTART;TZID=Europe/Madrid:20231121T160000
DTEND;TZID=Europe/Madrid:20231121T183000
DTSTAMP:20260419T190412
CREATED:20231120T105029Z
LAST-MODIFIED:20231120T105413Z
UID:8422-1700582400-1700591400@linagalvez.eu
SUMMARY:Evento LEAPS\, parte integrante del ecosistema de I+I de Europa en apoyo a la soberanía tecnológica
DESCRIPTION:Evento LEAPS\, parte integrante del ecosistema de I+I de Europa en apoyo a sus ambiciones de Soberanía Tecnológica y de una Transición Verde y Digital;\nLa eurodiputada Lina Gálvez organiza\, en el Parlamento Europeo en Estrasburgo y junto con la Liga Europea de Fuentes Fotónicas Basadas en Aceleradores (LEAPS)\, este evento s desarrolla en el marco de la Presidencia española del Consejo Europeo. \nA mediados de 2022 LEAPS presentó la Estrategia Europea para Fuentes de Fotones basadas en Aceleradores 2022\, ESAPS2022\, con el objetivo de involucrar aún más a su comunidad en las soluciones de Desafíos Globales\, y que debería integrarse en el nuevo Espacio Europeo de Investigación para que sea una realidad y un éxito. En general\, este evento dará una idea del ecosistema de innovación para las IR\, en el que los Estados miembros y las empresas\, donde las infraestructuras de investigación tienen un papel más destacado y cómo este modelo puede funcionar en conjunto para el beneficio de los investigadores e innovadores de toda Europa\, con especial énfasis en la diplomacia científica hacia aquellas regiones que sufren la crisis geopolítica. \nMás información del evento: https://indico.cells.es/event/1362/
URL:https://linagalvez.eu/agenda/evento-leaps-parte-integrante-del-ecosistema-de-ii-de-europa-en-apoyo-a-la-soberania-tecnologica/
CATEGORIES:autonomía estratégica eje central,Destacado,I+D+i
ATTACH;FMTTYPE=image/jpeg:https://linagalvez.eu/wp-content/uploads/2023/02/Lina-Galves-Foro.jpg
END:VEVENT
END:VCALENDAR