BEGIN:VCALENDAR
VERSION:2.0
PRODID:-//Lina Gálvez - ECPv6.15.20//NONSGML v1.0//EN
CALSCALE:GREGORIAN
METHOD:PUBLISH
X-ORIGINAL-URL:https://linagalvez.eu
X-WR-CALDESC:Eventos para Lina Gálvez
REFRESH-INTERVAL;VALUE=DURATION:PT1H
X-Robots-Tag:noindex
X-PUBLISHED-TTL:PT1H
BEGIN:VTIMEZONE
TZID:Europe/Madrid
BEGIN:DAYLIGHT
TZOFFSETFROM:+0100
TZOFFSETTO:+0200
TZNAME:CEST
DTSTART:20190331T010000
END:DAYLIGHT
BEGIN:STANDARD
TZOFFSETFROM:+0200
TZOFFSETTO:+0100
TZNAME:CET
DTSTART:20191027T010000
END:STANDARD
BEGIN:DAYLIGHT
TZOFFSETFROM:+0100
TZOFFSETTO:+0200
TZNAME:CEST
DTSTART:20200329T010000
END:DAYLIGHT
BEGIN:STANDARD
TZOFFSETFROM:+0200
TZOFFSETTO:+0100
TZNAME:CET
DTSTART:20201025T010000
END:STANDARD
BEGIN:DAYLIGHT
TZOFFSETFROM:+0100
TZOFFSETTO:+0200
TZNAME:CEST
DTSTART:20210328T010000
END:DAYLIGHT
BEGIN:STANDARD
TZOFFSETFROM:+0200
TZOFFSETTO:+0100
TZNAME:CET
DTSTART:20211031T010000
END:STANDARD
END:VTIMEZONE
BEGIN:VEVENT
DTSTART;TZID=Europe/Madrid:20200909T123000
DTEND;TZID=Europe/Madrid:20200909T171500
DTSTAMP:20260420T042758
CREATED:20200906T105747Z
LAST-MODIFIED:20200907T105952Z
UID:2102-1599654600-1599671700@linagalvez.eu
SUMMARY:VIRTUAL ETUC annual EWC Conference “European Works Councils for fair restructuring”
DESCRIPTION:
URL:https://linagalvez.eu/agenda/virtual-etuc-annual-ewc-conference-european-works-councils-for-fair-restructuring/
CATEGORIES:EMPL
ATTACH;FMTTYPE=image/png:https://linagalvez.eu/wp-content/uploads/2020/09/ETUC-Anual-Conference.png
END:VEVENT
BEGIN:VEVENT
DTSTART;TZID=Europe/Madrid:20200907T110000
DTEND;TZID=Europe/Madrid:20200907T120000
DTSTAMP:20260420T042758
CREATED:20200906T094436Z
LAST-MODIFIED:20200907T094831Z
UID:2088-1599476400-1599480000@linagalvez.eu
SUMMARY:S&D Grupo de trabajo de Empleo y Asuntos Sociales
DESCRIPTION:
URL:https://linagalvez.eu/agenda/sd-grupo-de-trabajo-de-empleo-y-asuntos-sociales/
CATEGORIES:EMPL,S&D
ATTACH;FMTTYPE=image/jpeg:https://linagalvez.eu/wp-content/uploads/2020/06/Comisión_de_Empleo_y_Asuntos_Sociales_Socialists_Democrats.jpg
END:VEVENT
BEGIN:VEVENT
DTSTART;TZID=Europe/Madrid:20200901T190000
DTEND;TZID=Europe/Madrid:20200901T203000
DTSTAMP:20260420T042758
CREATED:20200901T111238Z
LAST-MODIFIED:20200901T111238Z
UID:2071-1598986800-1598992200@linagalvez.eu
SUMMARY:Panel on line "Together for MySocialEurope: Let's talk”
DESCRIPTION:Mesa de trabajo on line organizada por la Presidencia alemana y la presidenta del Comité de Empleo para discutir las prioridades de política social y de empleo de la Presidencia alemana del Consejo de la Unión Europea. \nMas información Aquí
URL:https://linagalvez.eu/agenda/panel-on-line-together-for-mysocialeurope-lets-talk/
CATEGORIES:EMPL
ATTACH;FMTTYPE=image/png:https://linagalvez.eu/wp-content/uploads/2020/09/MySocialEurope.png
END:VEVENT
BEGIN:VEVENT
DTSTART;TZID=Europe/Madrid:20200901T100000
DTEND;TZID=Europe/Madrid:20200901T130000
DTSTAMP:20260420T042759
CREATED:20200901T083544Z
LAST-MODIFIED:20200901T104307Z
UID:2045-1598954400-1598965200@linagalvez.eu
SUMMARY:Reunión de la comisión de Empleo y Asuntos sociales del Parlamento Europeo (EMPL)
DESCRIPTION:
URL:https://linagalvez.eu/agenda/reunion-de-la-comision-de-empleo-y-asuntos-sociales-del-parlamento-europeo-empl-3/
CATEGORIES:EMPL
ATTACH;FMTTYPE=image/png:https://linagalvez.eu/wp-content/uploads/2020/07/EMPL.png
END:VEVENT
BEGIN:VEVENT
DTSTART;TZID=Europe/Madrid:20200831T134500
DTEND;TZID=Europe/Madrid:20200831T154500
DTSTAMP:20260420T042759
CREATED:20200705T112537Z
LAST-MODIFIED:20200901T112418Z
UID:2042-1598881500-1598888700@linagalvez.eu
SUMMARY:Reunión de la comisión de Empleo y Asuntos sociales del Parlamento Europeo (EMPL)
DESCRIPTION:
URL:https://linagalvez.eu/agenda/reunion-de-la-comision-de-empleo-y-asuntos-sociales-del-parlamento-europeo-empl-2/
CATEGORIES:EMPL
ATTACH;FMTTYPE=image/jpeg:https://linagalvez.eu/wp-content/uploads/2020/07/Calendario.jpg
END:VEVENT
BEGIN:VEVENT
DTSTART;TZID=Europe/Madrid:20200831T113000
DTEND;TZID=Europe/Madrid:20200831T130000
DTSTAMP:20260420T042759
CREATED:20200725T104435Z
LAST-MODIFIED:20200901T112047Z
UID:2065-1598873400-1598878800@linagalvez.eu
SUMMARY:S&D Reunión del grupo de trabajo de la comisión de Empleo y Asuntos sociales del Parlamento Europeo (EMPL)
DESCRIPTION:
URL:https://linagalvez.eu/agenda/reunion-de-la-comision-de-empleo-y-asuntos-sociales-del-parlamento-europeo-empl-4/
CATEGORIES:EMPL,S&D
ATTACH;FMTTYPE=image/jpeg:https://linagalvez.eu/wp-content/uploads/2020/05/Comisión_de_Empleo_y_Asuntos_Sociales_Socialists_Democrats.jpg
END:VEVENT
BEGIN:VEVENT
DTSTART;TZID=Europe/Madrid:20200716T100000
DTEND;TZID=Europe/Madrid:20200716T120000
DTSTAMP:20260420T042759
CREATED:20200713T131505Z
LAST-MODIFIED:20200713T170152Z
UID:1975-1594893600-1594900800@linagalvez.eu
SUMMARY:Reunión de la comisión de Empleo y Asuntos sociales del Parlamento Europeo (EMPL)
DESCRIPTION:La Comisión de Empleo y Asuntos Sociales del Parlamento Europeo se celebrará de forma no presencial  el Jueves 16 de julio de 2020\, en dos sesiones\, la primera tendrá lugar a las 10.00 hasta las 12.00 horas\, y la segunda comenzará a 14.30 horas. Los principales temas a tratar serán los siguientes: \n\nEstrategia de la Unión para la igualdad de género\nUna nueva estrategia industrial para Europa\nIntercambio de puntos de vista con Hubertus Heil (ministro alemán de Empleo y\nAsuntos Sociales)\nModificación del Reglamento (UE) n.º 1303/2013 en lo que respecta a los recursos\nadicionales excepcionales y las normas de desarrollo en el marco del objetivo de\ninversión en crecimiento y empleo a fin de proporcionar asistencia para el\nfomento de la reparación de la crisis en el contexto de la pandemia de COVID-19\ny la preparación de una recuperación verde\, digital y resiliente de la economía\n(REACT-UE)\nPolíticas en materia social y de empleo en la zona del euro en 2020\nReducción de las desigualdades\, con especial atención a la pobreza de los\ntrabajadores\n\nEs posible seguir el streaming desde este enlace y desde aquí se puede consultar la agenda de la sesión.
URL:https://linagalvez.eu/agenda/1975/
CATEGORIES:EMPL
ATTACH;FMTTYPE=image/jpeg:https://linagalvez.eu/wp-content/uploads/2020/07/EMPL16J.jpg
END:VEVENT
BEGIN:VEVENT
DTSTART;TZID=Europe/Madrid:20200709T140000
DTEND;TZID=Europe/Madrid:20200709T153000
DTSTAMP:20260420T042759
CREATED:20200708T090703Z
LAST-MODIFIED:20200709T073804Z
UID:1942-1594303200-1594308600@linagalvez.eu
SUMMARY:OCDE Online discussion – Shaping the Future of Work
DESCRIPTION:Shaping the Future of Work OCDE\nLa OCDE\, Organización para la Cooperación y el Desarrollo Económico\, organiza un debate online para reflexionar sobre los efectos del COVID-19 en el mundo del trabajo. La pandemia de COVID-19 ha desencadenado una de las peores crisis laborales desde la Gran Depresión. Existe un peligro real de que la crisis aumente la pobreza y amplíe las desigualdades\, con el impacto que se siente en los años venideros. Los países ahora deben hacer todo lo posible para evitar que esta crisis laboral se convierta en una crisis social. Reconstruir un mercado laboral mejor y más resistente es una inversión esencial en el futuro y en las generaciones futuras. \nLina Gálvez intervendrá para  aportar el punto de vista del Parlamento Europeo en relación al impacto de la pandemia en el empleo en grupos vulnerables\, y desde una perspectiva de género. \nEn lace para seguir el evento; AQUÍ
URL:https://linagalvez.eu/agenda/ocde-online-discussion-shaping-the-future-of-work/
CATEGORIES:EMPL,Parlamento
ATTACH;FMTTYPE=image/jpeg:https://linagalvez.eu/wp-content/uploads/2020/07/OCDE.jpg
END:VEVENT
BEGIN:VEVENT
DTSTART;TZID=Europe/Madrid:20200707T170000
DTEND;TZID=Europe/Madrid:20200707T183000
DTSTAMP:20260420T042759
CREATED:20200706T112258Z
LAST-MODIFIED:20200707T113541Z
UID:1937-1594141200-1594146600@linagalvez.eu
SUMMARY:Intervención Webinar formativo CC.OO
DESCRIPTION:«Las tecnologías de la covid-19 marcarán nuestro mañana» Intervención de Lina Gálvez y diálogo abierto en el Webinar formativo de la Escuela Sindical de CC.OO
URL:https://linagalvez.eu/agenda/intervencion-webinar-formativo-cc-oo/
CATEGORIES:EMPL,Parlamento
ATTACH;FMTTYPE=image/png:https://linagalvez.eu/wp-content/uploads/2020/05/lina-galvez-europarlamentaria.png
END:VEVENT
BEGIN:VEVENT
DTSTART;TZID=Europe/Madrid:20200707T130000
DTEND;TZID=Europe/Madrid:20200707T140000
DTSTAMP:20260420T042759
CREATED:20200705T104822Z
LAST-MODIFIED:20200706T110614Z
UID:1933-1594126800-1594130400@linagalvez.eu
SUMMARY:S&D Reunión del grupo de trabajo de la Comisión de Empleo y Asuntos Sociales
DESCRIPTION:
URL:https://linagalvez.eu/agenda/sd-reunion-del-grupo-de-trabajo-de-la-comision-de-empleo-y-asuntos-sociales-4/
CATEGORIES:EMPL,S&D
ATTACH;FMTTYPE=image/jpeg:https://linagalvez.eu/wp-content/uploads/2020/06/Comisión_de_Empleo_y_Asuntos_Sociales_Socialists_Democrats.jpg
END:VEVENT
BEGIN:VEVENT
DTSTART;TZID=Europe/Madrid:20200623T093000
DTEND;TZID=Europe/Madrid:20200623T110000
DTSTAMP:20260420T042759
CREATED:20200622T100108Z
LAST-MODIFIED:20200702T115236Z
UID:1815-1592904600-1592910000@linagalvez.eu
SUMMARY:Comisión de Empleo y Asuntos sociales del Parlamento Europeo (EMPL)
DESCRIPTION:Asuntos tratados: \nL@s eurodiputad@s exigen medidas de apoyo sin precedentes para las empresas y los trabajadores de la UE\n\nLas directrices de empleo de la UE deben ser revisadas tras los efectos COVID-19\nLa flexibilidad fiscal de los países de la UE debe reflejar la escala y la duración de la crisis\nSólo las empresas que no están registradas en paraísos fiscales pueden acceder al SURE para los planes de trabajo a corto plazo\n\nPara evitar la pérdida masiva de puestos de trabajo y una profunda recesión\, la Comisión de Empleo y Asuntos Sociales del PE pide medidas radicales para ayudar a las empresas y los trabajadores de la UE a salir de la crisis. \nLos Estados miembros deben tomar medidas radicales para amortiguar el choque social y laboral causado por la pandemia\, dice la resolución sobre las directrices de empleo de la UE\, y aprobada el miércoles por la Comisión de Empleo y Asuntos Sociales. En el texto se pide a la Comisión que revise las Directrices para el Empleo a fin de tener en cuenta las consecuencias de la pandemia y responder mejor a futuras crisis. \nLas medidas propuestas por los MEPs incluyen subsidios salariales\, apoyo a los ingresos\, ampliación de los planes de subsidio de desempleo y de la baja por enfermedad remunerada\, así como la licencia para los cuidadores y los arreglos para trabajar desde el hogar. Se debe dar prioridad a la lucha contra el desempleo juvenil\, la falta de vivienda y la pobreza mediante una garantía juvenil reforzada\, una garantía infantil fuerte para hacer frente a la pobreza infantil y el enfoque «Housing First». \nApoyar la movilidad laboral y la asistencia financiera para las empresas de la UE \nEn el texto se pide que sólo las empresas que no estén registradas en paraísos fiscales\, que respeten los convenios colectivos aplicables y que no paguen dividendos o bonificaciones puedan solicitar asistencia financiera del mecanismo SURE para el trabajo de corta duración\, y se acoge con beneplácito una propuesta de un plan europeo de reaseguro de desempleo permanente\, previsto para finales de 2020. Los diputados consideran que el plazo de aplicación de la «Cláusula de salvaguarda general»\, que otorga a los Estados miembros flexibilidad fiscal durante las crisis económicas graves\, debe «reflejar la dimensión y la duración de la crisis de COVID-19-«. \nPara crear nuevas oportunidades de empleo\, los eurodiputados proponen que los estados miembros apoyen una movilidad laboral justa en toda Europa y que fortalezcan aún más el programa de movilidad ERASMUS+. Los servicios públicos deberían digitalizarse más rápidamente\, en particular los vinculados a la coordinación de los sistemas de seguridad social. \nEl informe fue aprobado con 46 votos a favor\, 5 en contra y 3 abstenciones. \nPróximos pasos \nSe espera que el pleno vote durante la sesión plenaria de septiembre sobre el proyecto de informe aprobado hoy en el comité. \nAntecedentes \nLas Directrices para el empleo (artículo 148 del TFUE) presentan los objetivos estratégicos de las políticas nacionales de empleo y las prioridades políticas en las esferas del empleo\, la educación y la inclusión social. El Consejo adoptará el acto tras consultar al Parlamento Europeo. Las Directrices sirven de base para las recomendaciones específicas de cada país en los diferentes ámbitos afectados. \nLa Comisión Europea presentó la revisión de este año de las Directrices para el empleo en febrero de 2020\, antes del brote de COVID-19\, con el fin de integrar las cuatro dimensiones de la Estrategia Anual para el Crecimiento Sostenible (ASGS) y\, en particular\, la dimensión de la sostenibilidad ambiental\, reflejar la visión de una Europa social fuerte para unas transiciones justas y tener en cuenta los Objetivos de Desarrollo Sostenible (SDG) de las Naciones Unidas.
URL:https://linagalvez.eu/agenda/comision-de-empleo-y-asuntos-sociales-del-parlamento-europeo-empl-3/
CATEGORIES:EMPL
ATTACH;FMTTYPE=image/jpeg:https://linagalvez.eu/wp-content/uploads/2020/06/EMPL23J.jpg
END:VEVENT
BEGIN:VEVENT
DTSTART;TZID=Europe/Madrid:20200622T140000
DTEND;TZID=Europe/Madrid:20200622T160000
DTSTAMP:20260420T042759
CREATED:20200622T094320Z
LAST-MODIFIED:20200622T094320Z
UID:1809-1592834400-1592841600@linagalvez.eu
SUMMARY:Comisión de Empleo y Asuntos sociales del Parlamento Europeo (EMPL)
DESCRIPTION:Debates previstos: \n\nMidiendo el impacto de COVID en el mundo del trabajo: Presentación de Steve KAPSOS\, Departamento de Empleo de la OIT.\nRepositorio mundial de respuestas de los países de Covid-19: Presentación de Lieve VERBOVEN\, Directora de la Oficina de la OIT en Bruselas.\nViolencia y acoso: Presentación de la situación en el Consejo de la propuesta de la Comisión para la ratificación por la UE del Convenio sobre la violencia y el acoso\, 2019 (No 190) de la Organización Internacional del Trabajo.\n\nDebate en directo aquí
URL:https://linagalvez.eu/agenda/comision-de-empleo-y-asuntos-sociales-del-parlamento-europeo-empl-2/
CATEGORIES:EMPL
ATTACH;FMTTYPE=image/jpeg:https://linagalvez.eu/wp-content/uploads/2020/06/EMPL22J.jpg
END:VEVENT
BEGIN:VEVENT
DTSTART;TZID=Europe/Madrid:20200615T164500
DTEND;TZID=Europe/Madrid:20200615T181500
DTSTAMP:20260420T042759
CREATED:20200615T082009Z
LAST-MODIFIED:20200615T111304Z
UID:1758-1592239500-1592244900@linagalvez.eu
SUMMARY:Comisión de Empleo y Asuntos sociales del Parlamento Europeo (EMPL)
DESCRIPTION:Reunión de la comisión de Empleo y asuntos sociales (EMPL). La agenda de la sesión puede consultarse desde aquí y además el streaming estará disponible desde este enlace.
URL:https://linagalvez.eu/agenda/comision-de-empleo-y-asuntos-sociales-del-parlamento-europeo-empl/
CATEGORIES:EMPL
ATTACH;FMTTYPE=image/jpeg:https://linagalvez.eu/wp-content/uploads/2020/06/EMPL-15J.-JPG.jpg
END:VEVENT
BEGIN:VEVENT
DTSTART;TZID=Europe/Madrid:20200615T160000
DTEND;TZID=Europe/Madrid:20200615T170000
DTSTAMP:20260420T042759
CREATED:20200615T080015Z
LAST-MODIFIED:20200615T110234Z
UID:1769-1592236800-1592240400@linagalvez.eu
SUMMARY:S&D Reunión del grupo de trabajo de la Comisión de Empleo y Asuntos Sociales
DESCRIPTION:Reunión del grupo de trabajo de S&D de la Comisión de Empleo y Asuntos Sociales (EMPL). 
URL:https://linagalvez.eu/agenda/sd-reunion-del-grupo-de-trabajo-de-la-comision-de-empleo-y-asuntos-sociales-2/
CATEGORIES:EMPL,S&D
ATTACH;FMTTYPE=image/jpeg:https://linagalvez.eu/wp-content/uploads/2020/06/Comisión_de_Empleo_y_Asuntos_Sociales_Socialists_Democrats.jpg
END:VEVENT
BEGIN:VEVENT
DTSTART;TZID=Europe/Madrid:20200611T120000
DTEND;TZID=Europe/Madrid:20200611T130000
DTSTAMP:20260420T042759
CREATED:20200608T160016Z
LAST-MODIFIED:20200609T163107Z
UID:1706-1591876800-1591880400@linagalvez.eu
SUMMARY:Reunión de la comisión de Empleo y Asuntos sociales del Parlamento Europeo (EMPL)
DESCRIPTION:Commission Directive amending Annex III to the Biological Agents Directive 2000/54/EC to classify COVID 19 as a biological agent know to infect humans – adoption of motion for a resolution. Co- rapporteurs: Agnes JONGERIUS (S&D\, NL)\, Kira Marie PETER-HANSEN (Verts/ALE\, DA)\, Petra DE SUTTER (Verts/ALE\, BE)\, Nikolaj VILLUMSEN (GUE/NGL\, DA)\, Daniela RONDINELLI (NI\, IT)
URL:https://linagalvez.eu/agenda/reunion-de-la-comision-de-empleo-y-asuntos-sociales-del-parlamento-europeo-empl/
CATEGORIES:EMPL
ATTACH;FMTTYPE=image/jpeg:https://linagalvez.eu/wp-content/uploads/2020/06/EMPl-11J.jpg
END:VEVENT
BEGIN:VEVENT
DTSTART;TZID=Europe/Madrid:20200611T090000
DTEND;TZID=Europe/Madrid:20200611T110000
DTSTAMP:20260420T042759
CREATED:20200608T084807Z
LAST-MODIFIED:20200609T162554Z
UID:1746-1591866000-1591873200@linagalvez.eu
SUMMARY:Encuentro con la Confederación Española de Organizaciones Empresariales (CEOE)
DESCRIPTION:Reunión virtual  en la que participaran las Eurodiputadas Lina Gálvez y Adriana Maldonado para debatir con diversas empresas asociadas a CEOE #BUSINESSEUROPE sobre las prioridades digitales e industriales\, especialmente en el escenario posCOVID-19. Las empresas que han confirmado su asistencia son: AEBanca\, ASAJA\, ASEDAS\, Arevia\, BBVA\, Enagas\, Foment\, Gómez Azedo-Pombo\, Iberdrola\, Iberia\, Indra\,Telefónica\, Unespa\, Uría Menéndez\, Representantes de CEOE y CEV.
URL:https://linagalvez.eu/agenda/encuentro-con-la-confederacion-espanola-de-organizaciones-empresariales-ceoe/
CATEGORIES:EMPL,ITRE,Parlamento
ATTACH;FMTTYPE=image/jpeg:https://linagalvez.eu/wp-content/uploads/2020/06/CEOE10J.jpg
END:VEVENT
BEGIN:VEVENT
DTSTART;TZID=Europe/Madrid:20200602T150000
DTEND;TZID=Europe/Madrid:20200602T180000
DTSTAMP:20260420T042759
CREATED:20200602T081248Z
LAST-MODIFIED:20200602T091356Z
UID:1673-1591110000-1591120800@linagalvez.eu
SUMMARY:Webinar del Intergrupo de Economía social
DESCRIPTION:Webinar titulado Co-designing the European Action Plan for the Social Economy: a leverage for the Economy and Social Recovery of Europe. El encuentro virual contará contará con la participación de Patrizia Toia y Sven Giegold\, copresidentes del Intergrupo de Economía Social; Bicolas Schmit\, comisario de trabajo y derechos sociales y Yolanda Díaz\, ministra de Trabajo y Economía Social del Gobierno de España\, entre otros. 
URL:https://linagalvez.eu/agenda/webinar-del-intergrupo-de-economia-social/
CATEGORIES:EMPL
ATTACH;FMTTYPE=image/png:https://linagalvez.eu/wp-content/uploads/2020/06/Economía-social.png
END:VEVENT
BEGIN:VEVENT
DTSTART;TZID=Europe/Madrid:20200602T145900
DTEND;TZID=Europe/Madrid:20200602T160000
DTSTAMP:20260420T042759
CREATED:20200602T085927Z
LAST-MODIFIED:20200602T100104Z
UID:1683-1591109940-1591113600@linagalvez.eu
SUMMARY:S&D Reunión del grupo de trabajo de la Comisión de Empleo y Asuntos Sociales
DESCRIPTION:Reunión virtual del grupo de trabajo de S&D de la comisión de Empleo y asuntos sociales (EMPL). 
URL:https://linagalvez.eu/agenda/sd-reunion-del-grupo-de-trabajo-de-la-comision-de-empleo-y-asuntos-sociales/
CATEGORIES:EMPL,S&D
ATTACH;FMTTYPE=image/jpeg:https://linagalvez.eu/wp-content/uploads/2020/06/Comisión_de_Empleo_y_Asuntos_Sociales_Socialists_Democrats.jpg
END:VEVENT
BEGIN:VEVENT
DTSTART;TZID=Europe/Madrid:20200527T164500
DTEND;TZID=Europe/Madrid:20200527T184500
DTSTAMP:20260420T042759
CREATED:20200525T124743Z
LAST-MODIFIED:20200525T125135Z
UID:1638-1590597900-1590605100@linagalvez.eu
SUMMARY:Reunión conjunta de las comisiones de Empleo y asuntos sociales y de Asuntos económicos y monetarios
DESCRIPTION:Reunión conjunta a distancia de las comisiones de Empleo y asuntos sociales (EMPL) y de Asuntos económicos y monetarios (ECON).  \n\nDiálogo económico e intercambio de puntos de vista sobre las recomendaciones específicas por país del Semestre Europeo de 2020 EMPL/9/03038.\nIntercambio de puntos de vista con\n– Valdis Dombrovskis\, vicepresidente ejecutivo para una Economía al Servicio de las Personas\,\n– Paolo Gentiloni\, comisario de Economía\, y\n– Nicolas Schmit\, comisario de Empleo y Derechos Sociales\n\nLa agenda de la sesión está disponible aquí. 
URL:https://linagalvez.eu/agenda/reunion-conjunta-de-las-comisiones-de-empleo-y-asuntos-sociales-y-de-asuntos-economicos-y-monetarios/
CATEGORIES:EMPL
ATTACH;FMTTYPE=image/jpeg:https://linagalvez.eu/wp-content/uploads/2020/05/Comisión-EMPL.jpg
END:VEVENT
BEGIN:VEVENT
DTSTART;TZID=Europe/Madrid:20200526T120000
DTEND;TZID=Europe/Madrid:20200526T130000
DTSTAMP:20260420T042759
CREATED:20200526T104959Z
LAST-MODIFIED:20200526T105208Z
UID:1657-1590494400-1590498000@linagalvez.eu
SUMMARY:Participación en el European Youth Event 2020
DESCRIPTION:Participación en el European Youth Event 2020 ¿Cómo podemos evitar que los jóvenes se vean tan afectados como en 2008? ¿Cómo podemos utilizar la situación de crisis para preparar mejor y capacitar a los jóvenes para la recuperación? #COVID19 \nSíguelo aquí: What labour market perspectives for young people after COVID-19?
URL:https://linagalvez.eu/agenda/participacion-en-el-european-youth-event-2020/
CATEGORIES:EMPL,S&D
ATTACH;FMTTYPE=image/jpeg:https://linagalvez.eu/wp-content/uploads/2020/05/EVE2020.jpg
END:VEVENT
BEGIN:VEVENT
DTSTART;TZID=Europe/Madrid:20200526T100000
DTEND;TZID=Europe/Madrid:20200526T160000
DTSTAMP:20260420T042759
CREATED:20200525T123552Z
LAST-MODIFIED:20200525T123552Z
UID:1633-1590487200-1590508800@linagalvez.eu
SUMMARY:Reunión de la Comisión de Empleo y Asuntos Sociales (EMPL)
DESCRIPTION:Reunión virtual de la comisión de Empleo y asuntos sociales (EMPL) que incluye el intercambio de opiniones con: \n\nHelena Dalli\, comisaria de Igualdad\nJürgen Siebel\, directo ejecutivo del Cedefop\nNicolas Shmit\, comisario de Empleo y derechos sociales\nJosip Aladrović\, ministro croata de Trabajo y del sistema de pensiones\nJordi Curell Gotor\, directo ejecutivo interino de la Autoridad laboral europea\n\nAdemás\, los miembros de la comisión votarán el borrado de opinión del informe Establishment of the Reform Support Programme.  \nLa agenda de la sesión puede consultarde aquí\, y el streaming podrá seguirse desde este enlace.
URL:https://linagalvez.eu/agenda/reunion-de-la-comision-de-empleo-y-asuntos-sociales-empl/
CATEGORIES:EMPL
ATTACH;FMTTYPE=image/jpeg:https://linagalvez.eu/wp-content/uploads/2020/05/EMPL.jpg
END:VEVENT
BEGIN:VEVENT
DTSTART;TZID=Europe/Madrid:20200520T100000
DTEND;TZID=Europe/Madrid:20200520T120000
DTSTAMP:20260420T042759
CREATED:20200518T161241Z
LAST-MODIFIED:20200518T161241Z
UID:1606-1589968800-1589976000@linagalvez.eu
SUMMARY:Reunión del grupo de trabajo de la comisión de Empleo y asuntos sociales
DESCRIPTION:Reunión virtual del grupo de trabajo de S&D de la comisión de Empleo y asuntos sociales (EMPL)
URL:https://linagalvez.eu/agenda/reunion-del-grupo-de-trabajo-de-la-comision-de-empleo-y-asuntos-sociales-2/
CATEGORIES:EMPL,S&D
ATTACH;FMTTYPE=image/jpeg:https://linagalvez.eu/wp-content/uploads/2020/05/Comisión_de_Empleo_y_Asuntos_Sociales_Socialists_Democrats.jpg
END:VEVENT
BEGIN:VEVENT
DTSTART;TZID=Europe/Madrid:20200519T090000
DTEND;TZID=Europe/Madrid:20200519T103000
DTSTAMP:20260420T042759
CREATED:20200518T155858Z
LAST-MODIFIED:20200518T155858Z
UID:1599-1589878800-1589884200@linagalvez.eu
SUMMARY:Reunión del Intergrupo Sindical
DESCRIPTION:Reunión virtual del Intergrupo sindical\, con la participación del secretario general de ETUC\, Luca Visentini. El objetivo es presentar las prioridades de los sindicatos en el ámbito institucional y discutir el plan de recuperación de la crisis provocada por el COVID-19.
URL:https://linagalvez.eu/agenda/reunion-del-intergrupo-sindical/
CATEGORIES:EMPL
ATTACH;FMTTYPE=image/jpeg:https://linagalvez.eu/wp-content/uploads/2020/05/IntergrupoSindicatos.jpg
END:VEVENT
BEGIN:VEVENT
DTSTART;TZID=Europe/Madrid:20200507T143000
DTEND;TZID=Europe/Madrid:20200507T163000
DTSTAMP:20260420T042759
CREATED:20200505T113009Z
LAST-MODIFIED:20200505T122120Z
UID:1509-1588861800-1588869000@linagalvez.eu
SUMMARY:Reunión de la comisión de Empleo y Asuntos sociales del Parlamento Europeo
DESCRIPTION:Reunión virtual de la comisión de Empleo y Asuntos sociales (EMPL).
URL:https://linagalvez.eu/agenda/reunion-de-la-comision-de-empleo-y-asuntos-sociales-del-parlamento-europeo/
CATEGORIES:EMPL
ATTACH;FMTTYPE=image/jpeg:https://linagalvez.eu/wp-content/uploads/2020/05/Reunión-EMPL.jpg
END:VEVENT
BEGIN:VEVENT
DTSTART;TZID=Europe/Madrid:20200506T183000
DTEND;TZID=Europe/Madrid:20200506T200000
DTSTAMP:20260420T042759
CREATED:20200505T082144Z
LAST-MODIFIED:20211007T091611Z
UID:1524-1588789800-1588795200@linagalvez.eu
SUMMARY:Diálogos con Igualdad: Miradas ecofeministas al modelo de cuidados. UGR
DESCRIPTION:Diálogos con Igualdad: Miradas ecofeministas al modelo de cuidados\, con Yayo Herrero y con Pilar Aranda UGR Rectora de la Universidad de Granada\nModera Marta Sánchez Romero\, Vicerrectora\nPodéis seguirlo a través del canal; https://m.youtube.com/c/UGRmedia\n#UGRencasa
URL:https://linagalvez.eu/agenda/dialogos-con-igualdad-miradas-ecofeministas-al-modelo-de-cuidados-ugr/
CATEGORIES:EMPL,FEMM
ATTACH;FMTTYPE=image/jpeg:https://linagalvez.eu/wp-content/uploads/2020/05/MiradasEcofeministas-scaled.jpg
END:VEVENT
BEGIN:VEVENT
DTSTART;TZID=Europe/Madrid:20200423T090000
DTEND;TZID=Europe/Madrid:20200423T100000
DTSTAMP:20260420T042759
CREATED:20200423T173525Z
LAST-MODIFIED:20200429T193436Z
UID:1446-1587632400-1587636000@linagalvez.eu
SUMMARY:Reunión con la European Trade Union
DESCRIPTION:Videoconferencia con la European Trade Union (ETUC) para intercambiar opiniones sobre los aspectos éticos de la Inteligencia Artificial aplicados al ámbito del trabajo.
URL:https://linagalvez.eu/agenda/reunion-con-la-european-trade-union/
CATEGORIES:EMPL
ATTACH;FMTTYPE=image/jpeg:https://linagalvez.eu/wp-content/uploads/2020/04/ETUC.jpeg
END:VEVENT
END:VCALENDAR