BEGIN:VCALENDAR
VERSION:2.0
PRODID:-//Lina Gálvez - ECPv6.15.20//NONSGML v1.0//EN
CALSCALE:GREGORIAN
METHOD:PUBLISH
X-WR-CALNAME:Lina Gálvez
X-ORIGINAL-URL:https://linagalvez.eu
X-WR-CALDESC:Eventos para Lina Gálvez
REFRESH-INTERVAL;VALUE=DURATION:PT1H
X-Robots-Tag:noindex
X-PUBLISHED-TTL:PT1H
BEGIN:VTIMEZONE
TZID:Europe/Madrid
BEGIN:DAYLIGHT
TZOFFSETFROM:+0100
TZOFFSETTO:+0200
TZNAME:CEST
DTSTART:20240331T010000
END:DAYLIGHT
BEGIN:STANDARD
TZOFFSETFROM:+0200
TZOFFSETTO:+0100
TZNAME:CET
DTSTART:20241027T010000
END:STANDARD
BEGIN:DAYLIGHT
TZOFFSETFROM:+0100
TZOFFSETTO:+0200
TZNAME:CEST
DTSTART:20250330T010000
END:DAYLIGHT
BEGIN:STANDARD
TZOFFSETFROM:+0200
TZOFFSETTO:+0100
TZNAME:CET
DTSTART:20251026T010000
END:STANDARD
BEGIN:DAYLIGHT
TZOFFSETFROM:+0100
TZOFFSETTO:+0200
TZNAME:CEST
DTSTART:20260329T010000
END:DAYLIGHT
BEGIN:STANDARD
TZOFFSETFROM:+0200
TZOFFSETTO:+0100
TZNAME:CET
DTSTART:20261025T010000
END:STANDARD
END:VTIMEZONE
BEGIN:VEVENT
DTSTART;TZID=Europe/Madrid:20250603T093000
DTEND;TZID=Europe/Madrid:20250603T100000
DTSTAMP:20260422T234752
CREATED:20250528T114846Z
LAST-MODIFIED:20250602T083347Z
UID:11938-1748943000-1748944800@linagalvez.eu
SUMMARY:Reunión con ClosinGap
DESCRIPTION:Lina Gálvez se reunirá con representantes de ClosinGap\, asociación formada por grandes empresas españolas\, para conocer su trabajo sobre el impacto económico de la brecha de género y explorar posibles vías de colaboración institucional. \nFuente de la imagen: web de la organización con la que se reúne Lina Gálvez. En esta web se realiza un uso justo y no comercial de la imagen para la difusión del evento.
URL:https://linagalvez.eu/agenda/reunion-closingap/
CATEGORIES:Actualidad,FEMM,Parlamento
ATTACH;FMTTYPE=image/jpeg:https://linagalvez.eu/wp-content/uploads/closingap.jpg
END:VEVENT
BEGIN:VEVENT
DTSTART;TZID=Europe/Madrid:20250603T123000
DTEND;TZID=Europe/Madrid:20250603T130000
DTSTAMP:20260422T234752
CREATED:20250528T065259Z
LAST-MODIFIED:20250602T085659Z
UID:11948-1748953800-1748955600@linagalvez.eu
SUMMARY:Reunión con Carina Ohlsson - Comité Europeo de las Regiones (COR)
DESCRIPTION:Lina Gálvez se reunirá con Carina Ohlsson\, miembro del Comité Europeo de las Regiones (CoR) y representante del Partido de Socialistas Europeos/as (PES)\, para abordar prioridades comunes en materia de igualdad de género y coordinar enfoques entre el Parlamento Europeo y los entes regionales en políticas de igualdad. \nFuente de la imagen: Parlamento Europeo. En esta web se realiza un uso justo y no comercial de la imagen para la difusión del evento.
URL:https://linagalvez.eu/agenda/reunion-carina-ohlsson-comite-europeo-regiones-cor-202506/
CATEGORIES:Actualidad,Autonomía estratégica,FEMM,Parlamento,S&D
ATTACH;FMTTYPE=image/jpeg:https://linagalvez.eu/wp-content/uploads/3528001977_daca6ae4b2_o.jpg
END:VEVENT
BEGIN:VEVENT
DTSTART;TZID=Europe/Madrid:20250604T120000
DTEND;TZID=Europe/Madrid:20250604T130000
DTSTAMP:20260422T234752
CREATED:20250528T104830Z
LAST-MODIFIED:20250602T092742Z
UID:11960-1749038400-1749042000@linagalvez.eu
SUMMARY:Reunión conjunta de la Comisión de Derechos de la Mujer e Igualdad de Género y la Comisión de Libertades Civiles\, Justicia y Asuntos de Interior
DESCRIPTION:Lina Gálvez participará\, en calidad de presidenta de la Comisión de Derechos de las Mujeres e Igualdad de Género (FEMM)\, en la audiencia conjunta con la Comisión de Libertades Civiles\, Justicia y Asuntos de Interior (LIBE)\, centrada en la problemática de la mutilación genital femenina y las estrategias para su erradicación. \nVer en streaming aquí
URL:https://linagalvez.eu/agenda/joint-meeting-femm-libe-2025-06/
CATEGORIES:Actualidad,FEMM,Parlamento
ATTACH;FMTTYPE=image/jpeg:https://linagalvez.eu/wp-content/uploads/2025/01/1733319039584_20241204_EP-176461A_AR2_018-scaled.jpg
END:VEVENT
BEGIN:VEVENT
DTSTART;TZID=Europe/Madrid:20250604T130000
DTEND;TZID=Europe/Madrid:20250604T140000
DTSTAMP:20260422T234752
CREATED:20250528T120324Z
LAST-MODIFIED:20250603T103135Z
UID:11952-1749042000-1749045600@linagalvez.eu
SUMMARY:Encuentro con creadoras y creadores de contenido
DESCRIPTION:Lina Gálvez participará en un encuentro con creadoras y creadores de contenido organizado por las representaciones de las instituciones europeas en Barcelona\, en el marco de un seminario celebrado en Bruselas. En su calidad de presidenta de la Comisión de Derechos de las Mujeres e Igualdad de Género (FEMM)\, intercambiará impresiones con el grupo sobre el papel de la comunicación digital en la promoción de la igualdad y los valores europeos. \nFuente de la imagen: Parlamento Europeo. En esta web se realiza un uso justo y no comercial de la imagen para la difusión del evento.
URL:https://linagalvez.eu/agenda/encuentro-content-creators-2025-06/
CATEGORIES:Actualidad,FEMM,Parlamento
ATTACH;FMTTYPE=image/jpeg:https://linagalvez.eu/wp-content/uploads/23072636861_f0ee88519c_o.jpg
END:VEVENT
BEGIN:VEVENT
DTSTART;TZID=Europe/Madrid:20250604T153000
DTEND;TZID=Europe/Madrid:20250604T170000
DTSTAMP:20260422T234752
CREATED:20250528T084748Z
LAST-MODIFIED:20250602T131221Z
UID:11970-1749051000-1749056400@linagalvez.eu
SUMMARY:Mesa redonda de alto nivel con la Fundación Women4Cyber
DESCRIPTION:Lina Gálvez participará como anfitriona del evento organizado junto con la Fundación Women4cyber en la apertura del debate de alto nivel «50/50 para 2050: Las mujeres en la ciberseguridad» que se celebrará en el Parlamento Europeo. En este evento se abordará el papel y la representación de las mujeres en el campo de la ciberseguridad\, presentando estrategias para aumentar la presencia femenina en este ámbito. \nFuente de la imagen: Entidad organizadora del evento en el que participa Lina Gálvez. En esta web se realiza un uso justo y no comercial de la imagen para la difusión del evento.
URL:https://linagalvez.eu/agenda/mesa-redonda-alto-nivel-fundacion-women4cyber/
CATEGORIES:Actualidad,Destacado,FEMM,ITRE
ATTACH;FMTTYPE=image/jpeg:https://linagalvez.eu/wp-content/uploads/women.jpg
END:VEVENT
BEGIN:VEVENT
DTSTART;TZID=Europe/Madrid:20250605T103000
DTEND;TZID=Europe/Madrid:20250605T110000
DTSTAMP:20260422T234752
CREATED:20250528T104901Z
LAST-MODIFIED:20250603T072713Z
UID:11977-1749119400-1749121200@linagalvez.eu
SUMMARY:Reunión con la jefa del Centro de Género y Ciencia del Instituto de Sociología de la Academia Checa de Ciencias
DESCRIPTION:Lina Gálvez se reunirá con Marcela Linková\, jefa del Centro de Género y Ciencia del Instituto de Sociología de la Academia Checa de Ciencias para intercambiar ideas acerca de los planes de igualdad de género como criterio de elegibilidad en el programa de trabajo.
URL:https://linagalvez.eu/agenda/reunion-jefa-centro-genero-ciencia-instituto-sociologia-academia-checa-ciencias/
CATEGORIES:Actualidad,FEMM,ITRE,Parlamento
ATTACH;FMTTYPE=image/jpeg:https://linagalvez.eu/wp-content/uploads/2022/10/Lina-Galvez-Jornadas-PE.jpg
END:VEVENT
BEGIN:VEVENT
DTSTART;TZID=Europe/Madrid:20250610T130000
DTEND;TZID=Europe/Madrid:20250610T140000
DTSTAMP:20260422T234752
CREATED:20250606T114846Z
LAST-MODIFIED:20250609T103709Z
UID:11988-1749560400-1749564000@linagalvez.eu
SUMMARY:Debate sobre brecha de género en inversión
DESCRIPTION:Lina Gálvez participa en el panel “Reforzar la competitividad de Europa – La hoja de ruta de la UE para cerrar la brecha de género en inversión en innovación”\, en el marco del evento «La brecha de género en inversión que afecta tanto a empresas lideradas por mujeres como a fondos gestionados por mujeres«\, celebrado en Madrid. \nEn el debate\, moderado por Kasia Piasecki\, directora general de European Women in VC\, intervienen también Jean-David Malo\, director del Consejo Europeo de Innovación y de la Agencia Ejecutiva para las PYMEs; Laura González-Estéfani\, socia fundadora de TheVentureCity; y Sonia Fernández\, socia de Kibo Ventures. \nEn el debate se abordarán los retos y oportunidades para combatir la brecha de género en inversión en el ámbito de la innovación\, y su impacto en la competitividad europea. \nMás información (en inglés) aquí \nFuente de la imagen: gendergap-investments.eu. Imagen de archivo de Lina Gálvez interviniendo en el lanzamiento del proyecto en Bruselas en 2024. En esta web se realiza un uso justo y no comercial de la imagen para la difusión del evento.
URL:https://linagalvez.eu/agenda/debate-brecha-genero-inversion-madrid/
CATEGORIES:Actualidad,Destacado,FEMM,Parlamento
ATTACH;FMTTYPE=image/jpeg:https://linagalvez.eu/wp-content/uploads/Lina-Galvez-en-GenderGap-Investments-Bruselas-2024.jpg
END:VEVENT
BEGIN:VEVENT
DTSTART;TZID=Europe/Madrid:20250611T130000
DTEND;TZID=Europe/Madrid:20250611T170000
DTSTAMP:20260422T234752
CREATED:20250606T092200Z
LAST-MODIFIED:20250609T110148Z
UID:12000-1749646800-1749661200@linagalvez.eu
SUMMARY:Grupos de trabajo horizontales del Grupo S&D
DESCRIPTION:Lina Gálvez participará en los grupos de trabajo horizontales organizados en el marco de la semana externa del Grupo S&D en Lisboa\, donde miembros del grupo debatirán junto a especialistas y representantes institucionales sobre propuestas legislativas y estrategias progresistas en distintas áreas clave para el futuro de la Unión Europea.
URL:https://linagalvez.eu/agenda/sd-horizontal-working-groups-2506-lisbon/
CATEGORIES:Actualidad,FEMM,Parlamento,S&D
ATTACH;FMTTYPE=image/png:https://linagalvez.eu/wp-content/uploads/2020/05/digital-europe.png
END:VEVENT
BEGIN:VEVENT
DTSTART;TZID=Europe/Madrid:20250614T093000
DTEND;TZID=Europe/Madrid:20250614T123000
DTSTAMP:20260422T234752
CREATED:20250606T093953Z
LAST-MODIFIED:20251013T122733Z
UID:12012-1749893400-1749904200@linagalvez.eu
SUMMARY:Reunión Estatutaria de PES Women
DESCRIPTION:Lina Gálvez participará en la Reunión Estatutaria de PES Women que se celebrará el 14 de junio en Malta\, junto a otras representantes socialistas europeas para debatir prioridades comunes en materia de igualdad de género y avanzar en la agenda feminista del Partido Socialista Europeo.
URL:https://linagalvez.eu/agenda/red-igualdad-genero-pes-women-25-6/
CATEGORIES:Destacado,FEMM,Parlamento,S&D
ATTACH;FMTTYPE=image/png:https://linagalvez.eu/wp-content/uploads/PES-Women-2_R.png
END:VEVENT
BEGIN:VEVENT
DTSTART;TZID=Europe/Madrid:20250617T090000
DTEND;TZID=Europe/Madrid:20250617T094500
DTSTAMP:20260422T234752
CREATED:20250613T073947Z
LAST-MODIFIED:20250616T092212Z
UID:12029-1750150800-1750153500@linagalvez.eu
SUMMARY:S&D FEMM Working Group meeting
DESCRIPTION:Lina Gálvez asistirá la reunión de trabajo del grupo S&D Socialistas y Demócratas de la Comisión de Derechos de la Mujer e Igualdad de Género (FEMM)\, de la que es presidenta.
URL:https://linagalvez.eu/agenda/sd-femm-working-group-meeting-2506/
CATEGORIES:Actualidad,Destacado,FEMM,Parlamento,S&D
ATTACH;FMTTYPE=image/png:https://linagalvez.eu/wp-content/uploads/2023/01/femm_logo.png
END:VEVENT
BEGIN:VEVENT
DTSTART;TZID=Europe/Madrid:20250617T150000
DTEND;TZID=Europe/Madrid:20250617T170000
DTSTAMP:20260422T234752
CREATED:20250613T131425Z
LAST-MODIFIED:20250616T092648Z
UID:12037-1750172400-1750179600@linagalvez.eu
SUMMARY:Conference of Committee Chairs - CCC
DESCRIPTION:Conference of Committee Chairs (CCC) \nLina Gálvez participará\, como presidenta del Comité de Derechos de las Mujeres e Igualdad de Género (FEMM)\, en la reunión de Presidentas y Presidentes de las Comisiones del Parlamento Europeo.
URL:https://linagalvez.eu/agenda/conference-committee-chairs-ccc-2506/
CATEGORIES:Actualidad,FEMM,Parlamento
ATTACH;FMTTYPE=image/jpeg:https://linagalvez.eu/wp-content/uploads/2024/09/1726593435288_20240917_EP-172216A_EGZ_0333-Enhanced-NR_MOBILE.jpg
END:VEVENT
BEGIN:VEVENT
DTSTART;TZID=Europe/Madrid:20250619T090000
DTEND;TZID=Europe/Madrid:20250619T093000
DTSTAMP:20260422T234752
CREATED:20250613T092200Z
LAST-MODIFIED:20250616T104718Z
UID:12068-1750323600-1750325400@linagalvez.eu
SUMMARY:Reunión de Committee Chairs de S&D
DESCRIPTION:Lina Gálvez participará\, como presidenta del Comité de Derechos de las Mujeres e Igualdad de Género (FEMM)\, en la reunión de Presidentas y Presidentes de las Comisiones del Grupo de Socialistas y Demócratas del Parlamento Europeo.
URL:https://linagalvez.eu/agenda/sd-committee-chairs-2506/
CATEGORIES:Actualidad,FEMM,Parlamento
ATTACH;FMTTYPE=image/png:https://linagalvez.eu/wp-content/uploads/2020/05/digital-europe.png
END:VEVENT
BEGIN:VEVENT
DTSTART;TZID=Europe/Madrid:20250624T150000
DTEND;TZID=Europe/Madrid:20250624T160000
DTSTAMP:20260422T234752
CREATED:20250620T103015Z
LAST-MODIFIED:20250620T122440Z
UID:12092-1750777200-1750780800@linagalvez.eu
SUMMARY:Encuentro con periodistas de Austria sobre igualdad de género
DESCRIPTION:Lina Gálvez mantendrá un encuentro con periodistas de los principales medios de comunicación austríacos en el marco del seminario de prensa organizado por la Oficina del Parlamento Europeo en Austria. Durante la reunión\, abordará las iniciativas clave del Parlamento Europeo en materia de igualdad de género\, incluyendo los avances legislativos y los debates actuales\, con el objetivo de proporcionar herramientas informativas rigurosas para una cobertura periodística sólida y fundamentada. Tras una breve presentación inicial\, habrá un espacio de intercambio y preguntas con las personas participantes.
URL:https://linagalvez.eu/agenda/encuentro-periodistas-austria-igualdad-genero/
CATEGORIES:Actualidad,Destacado,FEMM
ATTACH;FMTTYPE=image/png:https://linagalvez.eu/wp-content/uploads/Mujer-joven-bandera-UE-horizonte.png
END:VEVENT
BEGIN:VEVENT
DTSTART;TZID=Europe/Madrid:20250625T090000
DTEND;TZID=Europe/Madrid:20250625T100000
DTSTAMP:20260422T234752
CREATED:20250620T073947Z
LAST-MODIFIED:20250624T093535Z
UID:12110-1750842000-1750845600@linagalvez.eu
SUMMARY:Reunión de la Comisión de Derechos de las Mujeres e Igualdad de Género (FEMM)
DESCRIPTION:Lina Gálvez presidirá la Comisión de Derechos de las Mujeres e Igualdad de Género (FEMM). \nEl miércoles en la Comisión FEMM se llevará a cabo una audiencia sobre iniciativa empresarial femenina en zonas rurales\, insulares y ultraperiféricas\, con participación de la Comisión de Agricultura y Desarrollo Rural (AGRI). \nVer en streaming aquí
URL:https://linagalvez.eu/agenda/reunion-comite-femm-2025-06/
CATEGORIES:Actualidad,FEMM,Parlamento
ATTACH;FMTTYPE=image/jpeg:https://linagalvez.eu/wp-content/uploads/2025/01/1734010167128_20241212_EP-177604A_35A_198-scaled.jpg
END:VEVENT
BEGIN:VEVENT
DTSTART;TZID=Europe/Madrid:20250625T133000
DTEND;TZID=Europe/Madrid:20250625T173000
DTSTAMP:20260422T234752
CREATED:20250620T094730Z
LAST-MODIFIED:20250624T095108Z
UID:12119-1750858200-1750872600@linagalvez.eu
SUMMARY:Reunión del Grupo de Alto Nivel sobre Igualdad de Género y Diversidad
DESCRIPTION:Lina Gálvez asistirá a la reunión del Grupo de Alto Nivel sobre Igualdad de Género y Diversidad\, donde se presentará y debatirá el borrador del nuevo Plan de Acción de Género. El encuentro contará también con la participación de las eurodiputadas responsables de la transversalidad de género en el Parlamento Europeo.
URL:https://linagalvez.eu/agenda/reunion-grupo-alto-nivel-igualdad-genero-diversidad/
CATEGORIES:Actualidad,FEMM
ATTACH;FMTTYPE=image/png:https://linagalvez.eu/wp-content/uploads/Mujer-joven-bandera-UE-horizonte.png
END:VEVENT
BEGIN:VEVENT
DTSTART;TZID=Europe/Madrid:20250625T153000
DTEND;TZID=Europe/Madrid:20250625T183000
DTSTAMP:20260422T234753
CREATED:20250620T073947Z
LAST-MODIFIED:20250624T094234Z
UID:12112-1750865400-1750876200@linagalvez.eu
SUMMARY:Reunión de la Comisión de Derechos de las Mujeres e Igualdad de Género (FEMM)
DESCRIPTION:Lina Gálvez presidirá la Comisión de Derechos de las Mujeres e Igualdad de Género (FEMM)\, donde presentará la opinión sobre “Ayuda humanitaria en tiempos de policrisis: reafirmamos nuestros principios para una respuesta más eficaz y ambiciosa a las crisis humanitarias”\, de la que también es ponente. \nVer en streaming aquí
URL:https://linagalvez.eu/agenda/reunion-comite-femm-2025-06-2/
CATEGORIES:Actualidad,FEMM,Parlamento
ATTACH;FMTTYPE=image/jpeg:https://linagalvez.eu/wp-content/uploads/2025/01/1733319067420_20241204_EP-176461A_AR2_025_R-scaled.jpg
END:VEVENT
BEGIN:VEVENT
DTSTART;TZID=Europe/Madrid:20250625T190000
DTEND;TZID=Europe/Madrid:20250625T220000
DTSTAMP:20260422T234753
CREATED:20250620T103502Z
LAST-MODIFIED:20250624T095335Z
UID:12121-1750878000-1750888800@linagalvez.eu
SUMMARY:Trílogo sobre los derechos de las víctimas
DESCRIPTION:Lina Gálvez presidirá el cuarto trílogo sobre la Directiva de Derechos de las Víctimas en el Parlamento Europeo\, como presidenta de la Comisión de Derechos de las Mujeres e Igualdad de Género.
URL:https://linagalvez.eu/agenda/trilogo-derechos-victimas-04/
CATEGORIES:Actualidad,FEMM,Parlamento
ATTACH;FMTTYPE=image/jpeg:https://linagalvez.eu/wp-content/uploads/2023/11/lina_R.jpg
END:VEVENT
BEGIN:VEVENT
DTSTART;TZID=Europe/Madrid:20250626T090000
DTEND;TZID=Europe/Madrid:20250626T110000
DTSTAMP:20260422T234753
CREATED:20250620T073947Z
LAST-MODIFIED:20250624T094056Z
UID:12114-1750928400-1750935600@linagalvez.eu
SUMMARY:Reunión de la Comisión de Derechos de las Mujeres e Igualdad de Género (FEMM)
DESCRIPTION:Lina Gálvez presidirá la Comisión de Derechos de las Mujeres e Igualdad de Género (FEMM)\, donde se llevará a cabo una audiencia acerca de la violencia sexual basada en imágenes en el contexto de la IA y las redes sociales\, explorando específicamente el papel de las aplicaciones de desnudez y las responsabilidades de las plataformas. \nVer en streaming aquí
URL:https://linagalvez.eu/agenda/reunion-comite-femm-2025-06-3/
CATEGORIES:Actualidad,FEMM,Parlamento
ATTACH;FMTTYPE=image/png:https://linagalvez.eu/wp-content/uploads/2023/01/femm_logo.png
END:VEVENT
BEGIN:VEVENT
DTSTART;TZID=Europe/Madrid:20250626T174500
DTEND;TZID=Europe/Madrid:20250626T183000
DTSTAMP:20260422T234753
CREATED:20250620T102518Z
LAST-MODIFIED:20250624T103726Z
UID:12138-1750959900-1750962600@linagalvez.eu
SUMMARY:Panel "Europa de los derechos" en la Escuela de Verano del Partido Democrático italiano
DESCRIPTION:Lina Gálvez intervendrá en el seminario «Europa de los derechos» (l’Europa dei diritti)\, organizado en el marco de la Escuela de Verano del Partido Democrático italiano en el Parlamento Europeo. En calidad de presidenta de la Comisión de Derechos de las Mujeres e Igualdad de Género (FEMM)\, la eurodiputada aportará una perspectiva de género al debate sobre los derechos fundamentales en la Unión Europea\, dirigido a jóvenes activistas y miembros del partido.
URL:https://linagalvez.eu/agenda/panel-europa-derechos-escuela-verano-partido-democratico-italiano/
CATEGORIES:Actualidad,FEMM,Parlamento,S&D
ATTACH;FMTTYPE=image/png:https://linagalvez.eu/wp-content/uploads/partitodemocraticoitaliano.png
END:VEVENT
END:VCALENDAR