BEGIN:VCALENDAR
VERSION:2.0
PRODID:-//Lina Gálvez - ECPv6.15.20//NONSGML v1.0//EN
CALSCALE:GREGORIAN
METHOD:PUBLISH
X-WR-CALNAME:Lina Gálvez
X-ORIGINAL-URL:https://linagalvez.eu
X-WR-CALDESC:Eventos para Lina Gálvez
REFRESH-INTERVAL;VALUE=DURATION:PT1H
X-Robots-Tag:noindex
X-PUBLISHED-TTL:PT1H
BEGIN:VTIMEZONE
TZID:Europe/Madrid
BEGIN:DAYLIGHT
TZOFFSETFROM:+0100
TZOFFSETTO:+0200
TZNAME:CEST
DTSTART:20240331T010000
END:DAYLIGHT
BEGIN:STANDARD
TZOFFSETFROM:+0200
TZOFFSETTO:+0100
TZNAME:CET
DTSTART:20241027T010000
END:STANDARD
BEGIN:DAYLIGHT
TZOFFSETFROM:+0100
TZOFFSETTO:+0200
TZNAME:CEST
DTSTART:20250330T010000
END:DAYLIGHT
BEGIN:STANDARD
TZOFFSETFROM:+0200
TZOFFSETTO:+0100
TZNAME:CET
DTSTART:20251026T010000
END:STANDARD
BEGIN:DAYLIGHT
TZOFFSETFROM:+0100
TZOFFSETTO:+0200
TZNAME:CEST
DTSTART:20260329T010000
END:DAYLIGHT
BEGIN:STANDARD
TZOFFSETFROM:+0200
TZOFFSETTO:+0100
TZNAME:CET
DTSTART:20261025T010000
END:STANDARD
END:VTIMEZONE
BEGIN:VEVENT
DTSTART;TZID=Europe/Madrid:20251001T130000
DTEND;TZID=Europe/Madrid:20251001T140000
DTSTAMP:20260420T050101
CREATED:20250926T125027Z
LAST-MODIFIED:20250929T125547Z
UID:12528-1759323600-1759327200@linagalvez.eu
SUMMARY:Leibniz Mentoring Programme
DESCRIPTION:Reunión con un grupo de científicas para intercambiar opiniones con actores clave en la financiación de la investigación en la UE y sobre las políticas y la política que hay detrás. \nMás información (en inglés) aquí
URL:https://linagalvez.eu/agenda/leibniz-mentoring-programme/
CATEGORIES:Actualidad,FEMM,ITRE
ATTACH;FMTTYPE=image/png:https://linagalvez.eu/wp-content/uploads/Helmholtz_.png
END:VEVENT
BEGIN:VEVENT
DTSTART;TZID=Europe/Madrid:20251009T090000
DTEND;TZID=Europe/Madrid:20251009T093000
DTSTAMP:20260420T050101
CREATED:20251002T101816Z
LAST-MODIFIED:20251003T115227Z
UID:12547-1760000400-1760002200@linagalvez.eu
SUMMARY:Debate y votación de la Declaración de principios para una sociedad igualitaria en materia de género
DESCRIPTION:Lina Gálvez\, como Presidenta de la Comisión de Derechos de la Mujer e Igualdad de Género\, realiza esta pregunta oral a la Comisión en relación con la hoja de ruta para los derechos de las mujeres: \nEl 8 de marzo de 2025\, la Comisión publicó su hoja de ruta sobre los derechos de la mujer\, que establece su visión política a largo plazo para avanzar en los derechos de la mujer. Adjunta a ella\, se encuentra la Declaración de principios para una sociedad igualitaria en materia de género. En la hoja de ruta\, la Comisión invita a todas las partes interesadas\, especialmente el Parlamento y el Consejo\, los interlocutores sociales\, los agentes de la sociedad civil y otras organizaciones pertinentes\, a que\, en el transcurso de 2025\, respalden los principios incluidos en la Declaración sobre los derechos de la mujer adjunta a la hoja de ruta. \nEn los últimos cinco años\, la Unión ha logrado avances históricos con la adopción de una serie de actos legislativos muy importantes en materia de transparencia salarial\, equilibrio de género en los consejos de administración de las empresas y lucha contra la violencia contra las mujeres. No obstante\, los avances hacia la igualdad de género siguen siendo lentos. Todavía queda mucho por hacer y la hoja de ruta debe proporcionar orientaciones sobre las medidas que podrían adoptarse en la próxima Estrategia para la Igualdad de Género. El Parlamento está deseando la puesta en marcha de la estrategia y está elaborando su aportación con un informe de propia iniciativa sobre la Estrategia para la Igualdad de Género 2025. \n1. ¿Cómo garantizará la Comisión que las posiciones del Parlamento en relación con los derechos de la mujer y la igualdad de género se plasmen en la Estrategia para la Igualdad de Género posterior a 2025?\n2. El Parlamento ha pedido en reiteradas ocasiones nuevas propuestas legislativas en el ámbito de los derechos de la mujer y la igualdad de género: ¿qué podemos esperar de la Comisión en la próxima Estrategia de Igualdad de Género a este respecto? \nSe puede seguir la intervención en el siguiente enlace: AQUÍ
URL:https://linagalvez.eu/agenda/debate-votacion-declaracion-principios-sociedad-igualitaria-genero/
CATEGORIES:Actualidad,Destacado,FEMM,ITRE,Parlamento
ATTACH;FMTTYPE=image/png:https://linagalvez.eu/wp-content/uploads/2025-05-06_Lina-Galvez-mep_pleno-pe-str_gender-budget_1.png
END:VEVENT
BEGIN:VEVENT
DTSTART;TZID=Europe/Madrid:20251013T150000
DTEND;TZID=Europe/Madrid:20251013T183000
DTSTAMP:20260420T050101
CREATED:20251010T073947Z
LAST-MODIFIED:20251012T173221Z
UID:12587-1760367600-1760380200@linagalvez.eu
SUMMARY:Reunión del Comité FEMM
DESCRIPTION:El foco principal de la sesión del Comité FEMM es la adopción de dos proyectos de opinión de los cuales la eurodiputada Lina Gálvez es la ponente (Rapporteur for the opinion): \n\nDesarrollo de una nueva estrategia de la UE contra la pobreza (Developing a new EU anti-poverty strategy – 2025/2095(INI))\nPonente para la Opinión (S&D)\nAyuda humanitaria en tiempos de policrisis – reafirmación de nuestros principios para una respuesta más eficaz y ambiciosa (Humanitarian aid in a time of polycrisis\n\nVer en streaming aquí
URL:https://linagalvez.eu/agenda/reunion-comite-femm-2025-10/
CATEGORIES:Actualidad,Destacado,FEMM,Parlamento
ATTACH;FMTTYPE=image/jpeg:https://linagalvez.eu/wp-content/uploads/2025/01/1733319067420_20241204_EP-176461A_AR2_025_R-scaled.jpg
END:VEVENT
BEGIN:VEVENT
DTSTART;TZID=Europe/Madrid:20251014T094500
DTEND;TZID=Europe/Madrid:20251014T103000
DTSTAMP:20260420T050101
CREATED:20251010T093801Z
LAST-MODIFIED:20251016T164123Z
UID:12589-1760435100-1760437800@linagalvez.eu
SUMMARY:Las ciudades feministas son ciudades progresistas: diseñar espacios urbanos para tod@s
DESCRIPTION:La Eurodiputada Lina Gálvez participa como panelista en el debate político organizado por el Grupo del Party of European Socialists (PES) en el Comité Europeo de las Regiones (COR) en el marco de la Semana Europea de las Regiones y Ciudades. En el encuentro se discutirá cómo el urbanismo feminista y la integración de la perspectiva de género pueden crear comunidades más inclusivas y sostenibles. \nPanel ¿Qué medida urbanística pides tú para hacer de tu ciudad un lugar más seguro e igualitario? Poniendo la Política Feminista en Práctica \nMás información (en inglés) aquí \nVer en streaming aquí \nFuente de la imagen: evento anunciado en el que participa Lina Gálvez. En esta web se realiza un uso justo y no comercial de la imagen para la difusión del evento.
URL:https://linagalvez.eu/agenda/ciudades-feministas-ciudades-progresistas-disenar-espacios-urbanos-todas/
CATEGORIES:Actualidad,Destacado,FEMM,Parlamento,S&D
ATTACH;FMTTYPE=image/jpeg:https://linagalvez.eu/wp-content/uploads/Lina-Galvez-MEP_cartel-feminist-cities_14oct2025.jpg
END:VEVENT
BEGIN:VEVENT
DTSTART;TZID=Europe/Madrid:20251014T150000
DTEND;TZID=Europe/Madrid:20251014T160000
DTSTAMP:20260420T050101
CREATED:20251013T062259Z
LAST-MODIFIED:20251013T181259Z
UID:12598-1760454000-1760457600@linagalvez.eu
SUMMARY:Declaración del Comité Europeo de las Regiones (COR) sobre el fortalecimiento de los derechos de las mujeres en la UE
DESCRIPTION:La Eurodiputada Lina Gálvez\, en su calidad de Presidenta del Comité FEMM del Parlamento Europeo\, está invitada a hacer una declaración en relación a la opinión “Strengthening women’s rights in the EU” («El fortalecimiento de los derechos de las mujeres en la UE»)\, ante la 168º sesión plenaria del Comité Europeo de las Regiones (CoR). \nMás información (en inglés) aquí \nFuente de la imagen: Lina Gálvez en el CoR. En esta web se realiza un uso justo y no comercial de la imagen para la difusión del evento.
URL:https://linagalvez.eu/agenda/declaracion-comite-europeo-regiones-cor-fortalecimiento-derechos-mujeres-ue/
CATEGORIES:Actualidad,Destacado,FEMM,Parlamento
ATTACH;FMTTYPE=image/jpeg:https://linagalvez.eu/wp-content/uploads/2023/12/Lina-Galvez_COMITE-REGIONES-PE_30nov2023_photo.jpg
END:VEVENT
BEGIN:VEVENT
DTSTART;TZID=Europe/Madrid:20251016T123000
DTEND;TZID=Europe/Madrid:20251016T133000
DTSTAMP:20260420T050101
CREATED:20251016T073347Z
LAST-MODIFIED:20251016T165634Z
UID:12653-1760617800-1760621400@linagalvez.eu
SUMMARY:Rueda de prensa conjunta con Ana Redondo\, Ministra de Igualdad\, sobre el aborto en España y la UE
DESCRIPTION:La eurodiputada Lina Gálvez comparecerá en rueda de prensa junto a Ana Redondo\, Ministra de Igualdad del Gobierno de España. Será a las 12:30h EN DIRECTO desde el Parlamento Europeo en Bruselas para hablar sobre la situación del aborto en España y la Unión Europea UE. \nVer en streaming aquí \nFuente de la imagen: Lina Gálvez en el Parlamento Europeo. En esta web se realiza un uso justo y no comercial de la imagen para la difusión del evento.
URL:https://linagalvez.eu/agenda/rueda-prensa-con-ana-redondo-ministra-igualdad-aborto-espana-ue/
CATEGORIES:Actualidad,Destacado,FEMM,Parlamento,S&D
ATTACH;FMTTYPE=image/jpeg:https://linagalvez.eu/wp-content/uploads/Lina-Galvez_cartel-rueda-prensa-con-Redondo_16oct2025.jpg
END:VEVENT
BEGIN:VEVENT
DTSTART;TZID=Europe/Madrid:20251016T150000
DTEND;TZID=Europe/Madrid:20251016T173000
DTSTAMP:20260420T050101
CREATED:20251013T073247Z
LAST-MODIFIED:20251015T120748Z
UID:12616-1760626800-1760635800@linagalvez.eu
SUMMARY:Presentación de la hoja de ruta de la igualdad de género de la Comisión Europea
DESCRIPTION:La eurodiputada Lina Gálvez acudirá al acto de presentación de la hoja de ruta de la igualdad de género\, evento de alta importancia institucional organizado por la Comisión Europea\, en su calidad de Presidenta de la FEMM\, Comisión de los Derechos de las Mujeres y la Igualdad de Género del Parlamento Europeo. \nEl objetivo es mostrar el compromiso unificado de las instituciones europeas y de los Estados Miembros de la UE con los ocho principios clave de igualdad de género\, en un contexto de tendencias anti-género y retos como la tecnología y la Inteligencia Artificial (IA). \nFuente de la imagen: Lina Gálvez en el Parlamento Europeo. En esta web se realiza un uso justo y no comercial de la imagen para la difusión del evento.
URL:https://linagalvez.eu/agenda/presentacion-hoja-ruta-igualdad-de-genero-comision-europea/
CATEGORIES:Actualidad,Destacado,FEMM,Parlamento
ATTACH;FMTTYPE=image/jpeg:https://linagalvez.eu/wp-content/uploads/1675349217227_20230201_EP-144284A_AH1_brut_122-scaled.jpg
END:VEVENT
BEGIN:VEVENT
DTSTART;TZID=Europe/Madrid:20251018T090000
DTEND;TZID=Europe/Madrid:20251018T093000
DTSTAMP:20260420T050101
CREATED:20251013T110353Z
LAST-MODIFIED:20251013T124646Z
UID:12638-1760778000-1760779800@linagalvez.eu
SUMMARY:Reunión de mujeres líderes de PES Women
DESCRIPTION:Lina Gálvez participará en el desayuno de trabajo a puerta cerrada que se celebrará en el marco del Congreso PES de Ámsterdam\, en su doble calidad de presidenta de la Comisión de Derechos de las Mujeres e Igualdad de Género (FEMM) del Parlamento Europeo y delegada al Congreso. \nPES Women es la organización de mujeres del Partido Socialista Europeo – Party of European Socialists (PES) que trabaja por los derechos de las mujeres y la igualdad de género en el seno del partido.
URL:https://linagalvez.eu/agenda/reunion-mujeres-lideres-pes-woman-2025-10/
CATEGORIES:Actualidad,FEMM,Parlamento,S&D
ATTACH;FMTTYPE=image/png:https://linagalvez.eu/wp-content/uploads/2020/10/PES-Women.png_20619903.png
END:VEVENT
BEGIN:VEVENT
DTSTART;TZID=Europe/Madrid:20251018T133000
DTEND;TZID=Europe/Madrid:20251018T153000
DTSTAMP:20260420T050101
CREATED:20251013T112853Z
LAST-MODIFIED:20251017T114226Z
UID:12641-1760794200-1760801400@linagalvez.eu
SUMMARY:Conferencia 'Poder compartido\, progreso compartido: los hombres como aliados en la igualdad de género'
DESCRIPTION:La eurodiputada Lina Gálvez intervendrá como ponente en la conferencia organizada por el PES Women y la CEE Gender Network con el título ‘Poder compartido\, progreso compartido: los hombres como aliados en la igualdad de género’ (‘Shared power\, shared progress: men as allies in gender equality’ en inglés). \nPES Women es la organización de mujeres del Partido Socialista Europeo – Party of European Socialists (PES) que trabaja por los derechos de las mujeres y la igualdad de género en el seno del partido. \nLa Red de Género de Europa del Este y Central (CEE Gender Network\, Central & South Eastern European Gender Network) es un reconocido grupo de personas expertas de estas regiones geográficas que se centra en políticas progresistas y socialdemócratas para promover la igualdad de género. \nEsta actividad se encuadra en la agenda de actividades dentro del Congreso PES que se celebrará en Ámsterdam del 16 al 18 de octubre de 2025.
URL:https://linagalvez.eu/agenda/conferencia-poder-progreso-compartido-hombres-aliados-igualdad-genero/
CATEGORIES:Actualidad,Destacado,FEMM,Parlamento,S&D
ATTACH;FMTTYPE=image/jpeg:https://linagalvez.eu/wp-content/uploads/1T8A6422_Lina-Galvez_octubre-2025.jpg
END:VEVENT
BEGIN:VEVENT
DTSTART;TZID=Europe/Madrid:20251021T090000
DTEND;TZID=Europe/Madrid:20251021T094500
DTSTAMP:20260420T050101
CREATED:20251017T073947Z
LAST-MODIFIED:20251017T120425Z
UID:12667-1761037200-1761039900@linagalvez.eu
SUMMARY:S&D FEMM Working Group meeting
DESCRIPTION:Lina Gálvez presidirá y participará en la reunión de trabajo del grupo S&D Socialistas y Demócratas de la Comisión de Derechos de la Mujer e Igualdad de Género (FEMM).
URL:https://linagalvez.eu/agenda/sd-femm-working-group-meeting-25-10/
CATEGORIES:Actualidad,FEMM,Parlamento,S&D
ATTACH;FMTTYPE=image/png:https://linagalvez.eu/wp-content/uploads/2023/01/femm_logo.png
END:VEVENT
BEGIN:VEVENT
DTSTART;TZID=Europe/Madrid:20251021T200000
DTEND;TZID=Europe/Madrid:20251021T210000
DTSTAMP:20260420T050101
CREATED:20251017T092018Z
LAST-MODIFIED:20251020T084644Z
UID:12685-1761076800-1761080400@linagalvez.eu
SUMMARY:Intervención en Pleno en el debate sobre el Presupuesto General de la Unión Europea 2026
DESCRIPTION:Lina Gálvez tendrá la palabra en el debate sobre el Presupuesto General de la Unión Europea para el ejercicio financiero de 2026\, en el Parlamento Europeo. \nSe podrán seguir todas las sesiones del pleno en el siguiente enlace AQUÍ
URL:https://linagalvez.eu/agenda/intervencion-pleno-debate-presupuesto-ue-2026/
CATEGORIES:Actualidad,Destacado,FEMM,Parlamento
ATTACH;FMTTYPE=image/webp:https://linagalvez.eu/wp-content/uploads/LGM-Pleno-Skills-202503112.webp
END:VEVENT
BEGIN:VEVENT
DTSTART;TZID=Europe/Madrid:20251023T091500
DTEND;TZID=Europe/Madrid:20251023T100000
DTSTAMP:20260420T050101
CREATED:20251017T104830Z
LAST-MODIFIED:20251022T093436Z
UID:12688-1761210900-1761213600@linagalvez.eu
SUMMARY:"Avanzando hacia una sociedad del cuidado: abordar la brecha de género en el cuidado" Reunión conjunta extraordinaria de las Comisiónes FEMM y EMPL
DESCRIPTION:Reunión conjunta de la Comisión de Derechos de la Mujer e Igualdad de Género\, que preside Lina Gálvez\, y la Comisión de Empleo y Asuntos Sociales sobre el informe Avanzando hacia una sociedad del cuidado: abordar la brecha de género en el cuidado. \n\n\n\nSitio web de la Comisión de Derechos de la Mujer e Igualdad de Género\n\n\n\n\n\n\n\n\nVer en streaming aquí
URL:https://linagalvez.eu/agenda/joint-meeting-committees-empl-femm-25-10/
CATEGORIES:Actualidad,Destacado,EMPL,FEMM,Parlamento
ATTACH;FMTTYPE=image/jpeg:https://linagalvez.eu/wp-content/uploads/2025/01/1734010167128_20241212_EP-177604A_35A_198-scaled.jpg
END:VEVENT
BEGIN:VEVENT
DTSTART;TZID=Europe/Madrid:20251023T094500
DTEND;TZID=Europe/Madrid:20251023T100000
DTSTAMP:20260420T050101
CREATED:20251017T092018Z
LAST-MODIFIED:20251022T094416Z
UID:12692-1761212700-1761213600@linagalvez.eu
SUMMARY:Intervención en Pleno: Lucha contra la violencia hacia las mujeres y las niñas\, incluida la explotación de la maternidad
DESCRIPTION:Lina Gálvez tendrá la palabra en el plenario en el debate: «Declaraciones del Consejo y de la Comisión: Lucha contra la violencia hacia las mujeres y las niñas\, incluida la explotación de la maternidad» \nSe podrán seguir todas las sesiones del pleno en el siguiente enlace AQUÍ
URL:https://linagalvez.eu/agenda/intervencion-pleno-lucha-violencia-mujeres-ninas-explotacion-maternidad-25-10/
CATEGORIES:Actualidad,Destacado,FEMM,Parlamento
ATTACH;FMTTYPE=image/jpeg:https://linagalvez.eu/wp-content/uploads/2025-09-10_lgm-mep-pleno-estr_socialistas-pe-scaled.jpeg
END:VEVENT
BEGIN:VEVENT
DTSTART;TZID=Europe/Madrid:20251023T094500
DTEND;TZID=Europe/Madrid:20251023T100000
DTSTAMP:20260420T050101
CREATED:20251017T092018Z
LAST-MODIFIED:20251022T094919Z
UID:12696-1761212700-1761213600@linagalvez.eu
SUMMARY:Intervención en el debate Cáncer de mama: la importancia de la detección temprana
DESCRIPTION:Lina Gálvez tendrá la palabra en el debate: «Declaraciones del Consejo y de la Comisión: Cáncer de mama: la importancia de la detección temprana» en el plenario del Parlamento en Estrasburgo. \nSe podrán seguir todas las sesiones del pleno en el siguiente enlace AQUÍ
URL:https://linagalvez.eu/agenda/intervencion-pleno-cancer-mama-importancia-deteccion-temprana-25-10/
CATEGORIES:Actualidad,FEMM,Parlamento
ATTACH;FMTTYPE=image/jpeg:https://linagalvez.eu/wp-content/uploads/LGM_EP-184318G_LD1_PB_062-1024x683-1.jpg
END:VEVENT
BEGIN:VEVENT
DTSTART;VALUE=DATE:20251027
DTEND;VALUE=DATE:20251101
DTSTAMP:20260420T050101
CREATED:20251024T172822Z
LAST-MODIFIED:20251027T095443Z
UID:12711-1761523200-1761955199@linagalvez.eu
SUMMARY:Misión especial de la Comisión FEMM en Corea del Sur
DESCRIPTION:La eurodiputada participará junto a otros MEPs en esta misión especial en Corea del Sur de la Comisión de de Derechos de las Mujeres e Igualdad de Género del Parlamento Europeo  con el objetivo de profundizar en las relaciones con Corea del Sur en relación a los trabajos que se desarrollan en relación a la igualdad de género y los derechos de las mujeres.
URL:https://linagalvez.eu/agenda/mision-especial-femm-corea-del-sur-2025/
CATEGORIES:Actualidad,Destacado,DKOR,FEMM
ATTACH;FMTTYPE=image/jpeg:https://linagalvez.eu/wp-content/uploads/img-topic_eu_korea.jpg
END:VEVENT
BEGIN:VEVENT
DTSTART;TZID=Europe/Madrid:20251028T080000
DTEND;TZID=Europe/Madrid:20251028T090000
DTSTAMP:20260420T050101
CREATED:20251024T185513Z
LAST-MODIFIED:20251027T111114Z
UID:12719-1761638400-1761642000@linagalvez.eu
SUMMARY:Reunión preparatoria junto con otros miembros de la misión FEMM a Corea
DESCRIPTION:Lina Gálvez\, se reunirá con las otras personas que forman parte de la misión FEMM a Corea del Sur\, en calidad de presidenta de la Delegación de Derechos de las Mujeres e Igualdad de Género del Parlamento Europeo. \nFuente de la imagen: The European Commission’s trade department. En esta web se realiza un uso justo y no comercial de la imagen para la difusión del evento. \n 16:00 – 17:00 hora local de Seúl
URL:https://linagalvez.eu/agenda/reunion-preparatoria-mision-femm-a-corea/
CATEGORIES:Actualidad,FEMM,Parlamento
ATTACH;FMTTYPE=image/jpeg:https://linagalvez.eu/wp-content/uploads/img-topic_eu_korea.jpg
END:VEVENT
BEGIN:VEVENT
DTSTART;TZID=Europe/Madrid:20251029T010000
DTEND;TZID=Europe/Madrid:20251029T020000
DTSTAMP:20260420T050101
CREATED:20251024T185513Z
LAST-MODIFIED:20251027T120333Z
UID:12732-1761699600-1761703200@linagalvez.eu
SUMMARY:Reunión con la Asamblea Nacional de Corea del Sur - Comité de Igualdad de Género y Familia
DESCRIPTION:9:00 – 10:00 hora local de Seúl
URL:https://linagalvez.eu/agenda/reunion-asamblea-nacional-de-corea-del-sur-comite-igualdad-genero-2025/
CATEGORIES:Actualidad,Destacado,FEMM,Parlamento
ATTACH;FMTTYPE=image/png:https://linagalvez.eu/wp-content/uploads/2022/07/Flag_of_South_Korea.svg.png
END:VEVENT
BEGIN:VEVENT
DTSTART;TZID=Europe/Madrid:20251029T023000
DTEND;TZID=Europe/Madrid:20251029T033000
DTSTAMP:20260420T050101
CREATED:20251024T185513Z
LAST-MODIFIED:20251027T111553Z
UID:12737-1761705000-1761708600@linagalvez.eu
SUMMARY:Reunión con el Embajador de la UE ante la República de Corea
DESCRIPTION:Lina Gálvez\, se reunirá con el Embajador de la Unión Europea ante la República de Corea sobre los acontecimientos actuales en la Península de Corea y las políticas de género en Corea del Sur\, durante la misión FEMM a Corea del Sur\, en calidad de presidenta de la Delegación de Derechos de las Mujeres e Igualdad de Género del Parlamento Europeo. \nFuente de la imagen: The European Commission’s trade department. En esta web se realiza un uso justo y no comercial de la imagen para la difusión del evento. \n 10:30 – 11:30 hora local de Seúl
URL:https://linagalvez.eu/agenda/reunion-embajador-ue-en-corea-2025/
CATEGORIES:Actualidad,FEMM,Parlamento
ATTACH;FMTTYPE=image/jpeg:https://linagalvez.eu/wp-content/uploads/img-topic_eu_korea.jpg
END:VEVENT
BEGIN:VEVENT
DTSTART;TZID=Europe/Madrid:20251029T063000
DTEND;TZID=Europe/Madrid:20251029T074500
DTSTAMP:20260420T050101
CREATED:20251024T185513Z
LAST-MODIFIED:20251027T112015Z
UID:12740-1761719400-1761723900@linagalvez.eu
SUMMARY:Reunión sobre Mujeres en STEM con el Prof. Suklyun Hong\, Presidente de la Sociedad Física de Corea
DESCRIPTION:14:30 – 15:45 hora local de Seúl
URL:https://linagalvez.eu/agenda/reunion-sobre-mujeres-en-stem-con-presidente-sociedad-fisica-corea/
CATEGORIES:Actualidad,FEMM,Parlamento
ATTACH;FMTTYPE=image/png:https://linagalvez.eu/wp-content/uploads/2022/07/Flag_of_South_Korea.svg.png
END:VEVENT
BEGIN:VEVENT
DTSTART;TZID=Europe/Madrid:20251029T074500
DTEND;TZID=Europe/Madrid:20251029T090000
DTSTAMP:20260420T050101
CREATED:20251024T185513Z
LAST-MODIFIED:20251027T112409Z
UID:12743-1761723900-1761728400@linagalvez.eu
SUMMARY:Reunión con sindicatos que trabajan por los derechos de las mujeres - Confederación Coreana de Sindicatos
DESCRIPTION:15:45 – 17:00 hora local de Seúl
URL:https://linagalvez.eu/agenda/reunion-sindicatos-derechos-mujeres-confederacion-coreana-sindicatos/
CATEGORIES:Actualidad,FEMM,Parlamento
ATTACH;FMTTYPE=image/png:https://linagalvez.eu/wp-content/uploads/2022/07/Flag_of_South_Korea.svg.png
END:VEVENT
BEGIN:VEVENT
DTSTART;TZID=Europe/Madrid:20251029T100000
DTEND;TZID=Europe/Madrid:20251029T120000
DTSTAMP:20260420T050101
CREATED:20251024T185513Z
LAST-MODIFIED:20251027T113529Z
UID:12746-1761732000-1761739200@linagalvez.eu
SUMMARY:Recepción ofrecida por el Embajador de la UE ante la República de Corea
DESCRIPTION:Lina Gálvez asistirá a la recepción ofrecida por el Embajador de la Unión Europea ante la República de Corea\, en la sede de la Delegación de la UE\, con motivo de la misión de la Delegación de Derechos de las Mujeres e Igualdad de Género del Parlamento Europeo a dicho país. \n 18:00 – 20:00 hora local de Seúl \nFuente de la imagen: Acción Exterior de la Unión Europea. Edificio en el que se encuentran las oficinas de la UE en Seúl en 2017. En esta web se realiza un uso justo y no comercial de la imagen para la difusión del evento.
URL:https://linagalvez.eu/agenda/recepcion-embajador-ue-en-corea-2025/
CATEGORIES:Actualidad,FEMM,Parlamento
ATTACH;FMTTYPE=image/jpeg:https://linagalvez.eu/wp-content/uploads/facade-EU-building-in-korea.jpg
END:VEVENT
BEGIN:VEVENT
DTSTART;TZID=Europe/Madrid:20251030T010000
DTEND;TZID=Europe/Madrid:20251030T030000
DTSTAMP:20260420T050101
CREATED:20251024T185513Z
LAST-MODIFIED:20251027T114138Z
UID:12750-1761786000-1761793200@linagalvez.eu
SUMMARY:Reunión con ONGs que trabajan en temas de derechos de las mujeres en Corea del Sur
DESCRIPTION:Lina Gálvez se reunirá con organizaciones no gubernamentales que trabajan en temas de derechos de las mujeres en Corea del Sur\, con motivo de la misión de la Delegación de Derechos de las Mujeres e Igualdad de Género del Parlamento Europeo a dicho país. \nParticipantes:\n• Minbyun (Chun Dawoon\, Presidenta del Comité de Derechos de las Mujeres)\n• Amnistía Internacional Corea\n• Solidaridad Nacional para la Eliminación de la Prostitución\n• Centro de Ayuda para Víctimas de Violencia Sexual de Corea\n• Asociación Unida de Mujeres Coreanas\n• Línea de Ayuda para Mujeres de Corea \n 9:00 – 11:00 hora local de Seúl
URL:https://linagalvez.eu/agenda/reunion-ongs-trabajan-derechos-mujeres-corea-del-sur-2025/
CATEGORIES:Actualidad,FEMM,Parlamento
ATTACH;FMTTYPE=image/png:https://linagalvez.eu/wp-content/uploads/2022/07/Flag_of_South_Korea.svg.png
END:VEVENT
BEGIN:VEVENT
DTSTART;TZID=Europe/Madrid:20251030T040000
DTEND;TZID=Europe/Madrid:20251030T043000
DTSTAMP:20260420T050101
CREATED:20251024T185513Z
LAST-MODIFIED:20251027T114739Z
UID:12753-1761796800-1761798600@linagalvez.eu
SUMMARY:Reunión informal con personas refugiadas norcoreanas al margen del seminario
DESCRIPTION:12:00 – 12:30 hora local de Seúl
URL:https://linagalvez.eu/agenda/reunion-informal-personas-refugiadas-norcoreanas-al-margen-seminario-2025/
CATEGORIES:Actualidad,FEMM,Parlamento
END:VEVENT
BEGIN:VEVENT
DTSTART;TZID=Europe/Madrid:20251030T050000
DTEND;TZID=Europe/Madrid:20251030T060000
DTSTAMP:20260420T050101
CREATED:20251024T185513Z
LAST-MODIFIED:20251027T121059Z
UID:12762-1761800400-1761804000@linagalvez.eu
SUMMARY:Seminario Internacional sobre la Restauración del Derecho a la Salud de las Mujeres y Niños de Corea del Norte
DESCRIPTION:Lina Gálvez participará en el Seminario Internacional sobre la Restauración del Derecho a la Salud de las Mujeres y Niños de Corea del Norte – Organizado por la ONG coreana Tongil Mom – Derechos para las Mujeres Norcoreanas\nLas palabras de apertura correrán a cargo de la Oficina de la ONU en la zona. Lina Gálvez intervendrá como presidenta de FEMM para felicitarlas. \n 13:00 – 14:00 hora local de Seúl
URL:https://linagalvez.eu/agenda/seminario-internacional-derecho-salud-mujeres-ninos-corea-del-norte/
CATEGORIES:Actualidad,Destacado,FEMM,Parlamento
ATTACH;FMTTYPE=image/png:https://linagalvez.eu/wp-content/uploads/2022/07/Flag_of_South_Korea.svg.png
END:VEVENT
BEGIN:VEVENT
DTSTART;TZID=Europe/Madrid:20251030T063000
DTEND;TZID=Europe/Madrid:20251030T073000
DTSTAMP:20260420T050101
CREATED:20251024T185513Z
LAST-MODIFIED:20251027T115844Z
UID:12756-1761805800-1761809400@linagalvez.eu
SUMMARY:Reunión con el Sr. Chang Ho Ahn\, Presidente de la Comisión Nacional de Derechos Humanos de Corea (NHRCK)
DESCRIPTION:14:30 – 15:30 hora local de Seúl
URL:https://linagalvez.eu/agenda/reunion-presidente-comision-nacional-ddhh-corea-nhrck-2025/
CATEGORIES:Actualidad,FEMM,Parlamento
ATTACH;FMTTYPE=image/png:https://linagalvez.eu/wp-content/uploads/2022/07/Flag_of_South_Korea.svg.png
END:VEVENT
BEGIN:VEVENT
DTSTART;TZID=Europe/Madrid:20251030T080000
DTEND;TZID=Europe/Madrid:20251030T090000
DTSTAMP:20260420T050101
CREATED:20251024T185513Z
LAST-MODIFIED:20251027T105911Z
UID:12728-1761811200-1761814800@linagalvez.eu
SUMMARY:Reunión con Hyunback Chung\, exministra de Igualdad de Género y Familia de Corea del Sur
DESCRIPTION:Lina Gálvez se reunirá con la Sra. Hyunback Chung\, profesora emérita surcoreana de historia en la Universidad Sungkyunkwan\, que fue Ministra de Igualdad de Género y Familia del gobierno de Corea del Sur (2017-18)\, durante el mandato del presidente Moon Jae-in\, como parte de la misión especial en dicho país de la Comisión de de Derechos de las Mujeres e Igualdad de Género del Parlamento Europeo. \nFuente de la imagen: L’express. JUNG Yeon-Je: Chung Hyun-Back en 2017. En esta web se realiza un uso justo y no comercial de la imagen para la difusión del evento.
URL:https://linagalvez.eu/agenda/reunion-hyunback-chung-exministra-igualdad-corea-del-sur-2502/
CATEGORIES:Actualidad,Destacado,FEMM,Parlamento
ATTACH;FMTTYPE=image/jpeg:https://linagalvez.eu/wp-content/uploads/Chung-Hyun-Back-2017-apf-com-JUNG-Yeon-Je.jpg
END:VEVENT
BEGIN:VEVENT
DTSTART;TZID=Europe/Madrid:20251030T093000
DTEND;TZID=Europe/Madrid:20251030T103000
DTSTAMP:20260420T050101
CREATED:20251024T185513Z
LAST-MODIFIED:20251027T120202Z
UID:12759-1761816600-1761820200@linagalvez.eu
SUMMARY:Reunión con la Sra. Lee Hae Hoon\, Representante Permanente de la Red Parlamentaria de Mujeres de Corea
DESCRIPTION:17:30 – 18:30 hora local de Seúl
URL:https://linagalvez.eu/agenda/reunion-representante-permanente-red-parlamentaria-mujeres-corea-2025/
CATEGORIES:Actualidad,FEMM,Parlamento
ATTACH;FMTTYPE=image/png:https://linagalvez.eu/wp-content/uploads/2022/07/Flag_of_South_Korea.svg.png
END:VEVENT
BEGIN:VEVENT
DTSTART;TZID=Europe/Madrid:20251031T020000
DTEND;TZID=Europe/Madrid:20251031T030000
DTSTAMP:20260420T050101
CREATED:20251024T185513Z
LAST-MODIFIED:20251027T121208Z
UID:12724-1761876000-1761879600@linagalvez.eu
SUMMARY:Reunión con la Ministra de Igualdad de Género y Familia de Corea del Sur
DESCRIPTION:Lina Gálvez se reunirá con la Sra. Won Min-kyung\, Ministra de Igualdad de Género y Familia del gobierno de Corea del Sur\, como parte de la misión especial en dicho país de la Comisión de de Derechos de las Mujeres e Igualdad de Género del Parlamento Europeo. \nFuente de la imagen: Wikimedia Commons. En esta web se realiza un uso justo y no comercial de la imagen para la difusión del evento.
URL:https://linagalvez.eu/agenda/reunion-ministra-igualdad-corea-del-sur-2502/
CATEGORIES:Actualidad,FEMM,Parlamento
ATTACH;FMTTYPE=image/png:https://linagalvez.eu/wp-content/uploads/Logo-ministerio-igualdad-Corea-2025.png
END:VEVENT
END:VCALENDAR