BEGIN:VCALENDAR
VERSION:2.0
PRODID:-//Lina Gálvez - ECPv6.15.20//NONSGML v1.0//EN
CALSCALE:GREGORIAN
METHOD:PUBLISH
X-WR-CALNAME:Lina Gálvez
X-ORIGINAL-URL:https://linagalvez.eu
X-WR-CALDESC:Eventos para Lina Gálvez
REFRESH-INTERVAL;VALUE=DURATION:PT1H
X-Robots-Tag:noindex
X-PUBLISHED-TTL:PT1H
BEGIN:VTIMEZONE
TZID:Europe/Madrid
BEGIN:DAYLIGHT
TZOFFSETFROM:+0100
TZOFFSETTO:+0200
TZNAME:CEST
DTSTART:20240331T010000
END:DAYLIGHT
BEGIN:STANDARD
TZOFFSETFROM:+0200
TZOFFSETTO:+0100
TZNAME:CET
DTSTART:20241027T010000
END:STANDARD
BEGIN:DAYLIGHT
TZOFFSETFROM:+0100
TZOFFSETTO:+0200
TZNAME:CEST
DTSTART:20250330T010000
END:DAYLIGHT
BEGIN:STANDARD
TZOFFSETFROM:+0200
TZOFFSETTO:+0100
TZNAME:CET
DTSTART:20251026T010000
END:STANDARD
BEGIN:DAYLIGHT
TZOFFSETFROM:+0100
TZOFFSETTO:+0200
TZNAME:CEST
DTSTART:20260329T010000
END:DAYLIGHT
BEGIN:STANDARD
TZOFFSETFROM:+0200
TZOFFSETTO:+0100
TZNAME:CET
DTSTART:20261025T010000
END:STANDARD
END:VTIMEZONE
BEGIN:VEVENT
DTSTART;TZID=Europe/Madrid:20250514T164500
DTEND;TZID=Europe/Madrid:20250514T173000
DTSTAMP:20260423T031335
CREATED:20250509T120245Z
LAST-MODIFIED:20250509T120245Z
UID:11724-1747241100-1747243800@linagalvez.eu
SUMMARY:Stronger together: Towards a truly European innovation model
DESCRIPTION:Lina Gálvez participará en la sesión inaugural del simposio “Stronger together: Towards a truly European innovation model”\, organizado por SINTEF\, uno de los mayores centros de investigación independientes de Europa y el tercero en participación en el programa Horizonte Europa. En calidad de eurodiputada experta en innovación y presidenta de la Comisión FEMM\, Lina Gálvez ofrecerá sus reflexiones iniciales para dar comienzo a las discusiones de la jornada. \nEl evento\, que se celebrará en la EFTA House (Bruselas)\, reunirá a start-ups\, empresas\, fondos de inversión\, laboratorios e investigadores líderes para debatir sobre un modelo de innovación más ambicioso y eficaz para Europa. \nFuente de la imagen: Wikipedia. En esta web se realiza un uso justo y no comercial de la imagen para la difusión del evento.
URL:https://linagalvez.eu/agenda/stronger-together-towards-a-truly-european-innovation-model/
CATEGORIES:Actualidad,FEMM,INTA,ITRE,Parlamento
ATTACH;FMTTYPE=image/jpeg:https://linagalvez.eu/wp-content/uploads/SINTEF_road_sign-wikipedia.jpg
END:VEVENT
BEGIN:VEVENT
DTSTART;TZID=Europe/Madrid:20250514T180000
DTEND;TZID=Europe/Madrid:20250514T190000
DTSTAMP:20260423T031335
CREATED:20250509T120245Z
LAST-MODIFIED:20250509T123229Z
UID:11728-1747245600-1747249200@linagalvez.eu
SUMMARY:“Los derechos de las mujeres contados a través de la bicicleta de Alfonsina Strada”
DESCRIPTION:Lina Gálvez participará como ponente en la sesión inaugural del evento “Los derechos de las mujeres contados a través de la bicicleta de Alfonsina Strada: del Giro de Italia de 1924 a la Europa de 2025”\, en calidad de presidenta de la Comisión de Derechos de las Mujeres e Igualdad de Género (FEMM)\,  que se celebrará en la Sala Yehudi Menuhin del Parlamento Europeo. \nLina Gálvez abrirá el acto con una conversación informal sobre cómo se abordan las desigualdades de género en Europa\, moderada por la organizadora del evento\, en la que intervendrán también la senadora italiana Alessandra Maiorino y la eurodiputada irlandesa Kathleen Funchion (The Left). La conversación será seguida por la representación teatral\, en italiano\, de “Finisce per A”\, una obra que narra la historia de Alfonsina Strada\, la única mujer que compitió junto a hombres en el Giro d’Italia de 1924\, convirtiéndose en un símbolo de lucha y emancipación femenina. \nFuente de la imagen: Wikipedia. En esta web se realiza un uso justo y no comercial de la imagen para la difusión del evento.
URL:https://linagalvez.eu/agenda/derechos-mujeres-bicicleta-alfonsina-strada/
CATEGORIES:Actualidad,Destacado,FEMM,Parlamento
ATTACH;FMTTYPE=image/jpeg:https://linagalvez.eu/wp-content/uploads/Alfonsina_Strada_esce_dal_suo_negozio-16-9.jpg
END:VEVENT
END:VCALENDAR