BEGIN:VCALENDAR
VERSION:2.0
PRODID:-//Lina Gálvez - ECPv6.15.20//NONSGML v1.0//EN
CALSCALE:GREGORIAN
METHOD:PUBLISH
X-WR-CALNAME:Lina Gálvez
X-ORIGINAL-URL:https://linagalvez.eu
X-WR-CALDESC:Eventos para Lina Gálvez
REFRESH-INTERVAL;VALUE=DURATION:PT1H
X-Robots-Tag:noindex
X-PUBLISHED-TTL:PT1H
BEGIN:VTIMEZONE
TZID:Europe/Madrid
BEGIN:DAYLIGHT
TZOFFSETFROM:+0100
TZOFFSETTO:+0200
TZNAME:CEST
DTSTART:20240331T010000
END:DAYLIGHT
BEGIN:STANDARD
TZOFFSETFROM:+0200
TZOFFSETTO:+0100
TZNAME:CET
DTSTART:20241027T010000
END:STANDARD
BEGIN:DAYLIGHT
TZOFFSETFROM:+0100
TZOFFSETTO:+0200
TZNAME:CEST
DTSTART:20250330T010000
END:DAYLIGHT
BEGIN:STANDARD
TZOFFSETFROM:+0200
TZOFFSETTO:+0100
TZNAME:CET
DTSTART:20251026T010000
END:STANDARD
BEGIN:DAYLIGHT
TZOFFSETFROM:+0100
TZOFFSETTO:+0200
TZNAME:CEST
DTSTART:20260329T010000
END:DAYLIGHT
BEGIN:STANDARD
TZOFFSETFROM:+0200
TZOFFSETTO:+0100
TZNAME:CET
DTSTART:20261025T010000
END:STANDARD
END:VTIMEZONE
BEGIN:VEVENT
DTSTART;TZID=Europe/Madrid:20251018T090000
DTEND;TZID=Europe/Madrid:20251018T093000
DTSTAMP:20260421T180330
CREATED:20251013T110353Z
LAST-MODIFIED:20251013T124646Z
UID:12638-1760778000-1760779800@linagalvez.eu
SUMMARY:Reunión de mujeres líderes de PES Women
DESCRIPTION:Lina Gálvez participará en el desayuno de trabajo a puerta cerrada que se celebrará en el marco del Congreso PES de Ámsterdam\, en su doble calidad de presidenta de la Comisión de Derechos de las Mujeres e Igualdad de Género (FEMM) del Parlamento Europeo y delegada al Congreso. \nPES Women es la organización de mujeres del Partido Socialista Europeo – Party of European Socialists (PES) que trabaja por los derechos de las mujeres y la igualdad de género en el seno del partido.
URL:https://linagalvez.eu/agenda/reunion-mujeres-lideres-pes-woman-2025-10/
CATEGORIES:Actualidad,FEMM,Parlamento,S&D
ATTACH;FMTTYPE=image/png:https://linagalvez.eu/wp-content/uploads/2020/10/PES-Women.png_20619903.png
END:VEVENT
BEGIN:VEVENT
DTSTART;TZID=Europe/Madrid:20251018T133000
DTEND;TZID=Europe/Madrid:20251018T153000
DTSTAMP:20260421T180330
CREATED:20251013T112853Z
LAST-MODIFIED:20251017T114226Z
UID:12641-1760794200-1760801400@linagalvez.eu
SUMMARY:Conferencia 'Poder compartido\, progreso compartido: los hombres como aliados en la igualdad de género'
DESCRIPTION:La eurodiputada Lina Gálvez intervendrá como ponente en la conferencia organizada por el PES Women y la CEE Gender Network con el título ‘Poder compartido\, progreso compartido: los hombres como aliados en la igualdad de género’ (‘Shared power\, shared progress: men as allies in gender equality’ en inglés). \nPES Women es la organización de mujeres del Partido Socialista Europeo – Party of European Socialists (PES) que trabaja por los derechos de las mujeres y la igualdad de género en el seno del partido. \nLa Red de Género de Europa del Este y Central (CEE Gender Network\, Central & South Eastern European Gender Network) es un reconocido grupo de personas expertas de estas regiones geográficas que se centra en políticas progresistas y socialdemócratas para promover la igualdad de género. \nEsta actividad se encuadra en la agenda de actividades dentro del Congreso PES que se celebrará en Ámsterdam del 16 al 18 de octubre de 2025.
URL:https://linagalvez.eu/agenda/conferencia-poder-progreso-compartido-hombres-aliados-igualdad-genero/
CATEGORIES:Actualidad,Destacado,FEMM,Parlamento,S&D
ATTACH;FMTTYPE=image/jpeg:https://linagalvez.eu/wp-content/uploads/1T8A6422_Lina-Galvez_octubre-2025.jpg
END:VEVENT
END:VCALENDAR