BEGIN:VCALENDAR
VERSION:2.0
PRODID:-//Lina Gálvez - ECPv6.15.20//NONSGML v1.0//EN
CALSCALE:GREGORIAN
METHOD:PUBLISH
X-ORIGINAL-URL:https://linagalvez.eu
X-WR-CALDESC:Eventos para Lina Gálvez
REFRESH-INTERVAL;VALUE=DURATION:PT1H
X-Robots-Tag:noindex
X-PUBLISHED-TTL:PT1H
BEGIN:VTIMEZONE
TZID:Europe/Madrid
BEGIN:DAYLIGHT
TZOFFSETFROM:+0100
TZOFFSETTO:+0200
TZNAME:CEST
DTSTART:20230326T010000
END:DAYLIGHT
BEGIN:STANDARD
TZOFFSETFROM:+0200
TZOFFSETTO:+0100
TZNAME:CET
DTSTART:20231029T010000
END:STANDARD
BEGIN:DAYLIGHT
TZOFFSETFROM:+0100
TZOFFSETTO:+0200
TZNAME:CEST
DTSTART:20240331T010000
END:DAYLIGHT
BEGIN:STANDARD
TZOFFSETFROM:+0200
TZOFFSETTO:+0100
TZNAME:CET
DTSTART:20241027T010000
END:STANDARD
BEGIN:DAYLIGHT
TZOFFSETFROM:+0100
TZOFFSETTO:+0200
TZNAME:CEST
DTSTART:20250330T010000
END:DAYLIGHT
BEGIN:STANDARD
TZOFFSETFROM:+0200
TZOFFSETTO:+0100
TZNAME:CET
DTSTART:20251026T010000
END:STANDARD
END:VTIMEZONE
BEGIN:VEVENT
DTSTART;TZID=Europe/Madrid:20241202T150000
DTEND;TZID=Europe/Madrid:20241202T154500
DTSTAMP:20260423T012421
CREATED:20241129T103955Z
LAST-MODIFIED:20241202T095723Z
UID:10298-1733151600-1733154300@linagalvez.eu
SUMMARY:Reunión de la Comisión INTA
DESCRIPTION:La eurodiputada Lina Gálvez participará como miembro en esta sesión de la Comisión de Comercio Internacional (INTA)\, donde se desarrollará el debate sobre cómo podrían las políticas comerciales ser más inclusivas y\, al mismo tiempo\, aportar más beneficios económicos a los socios comerciales. \nEs un debate organizado en el marco de la Semana de la discapacidad y la Semana de la igualdad de género organizadas en el parlamento europeo.
URL:https://linagalvez.eu/agenda/reunion-comision-inta-2412-2/
CATEGORIES:Actualidad,INTA,Parlamento
ATTACH;FMTTYPE=image/jpeg:https://linagalvez.eu/wp-content/uploads/2024/09/INTA-16-9.jpeg
END:VEVENT
BEGIN:VEVENT
DTSTART;TZID=Europe/Madrid:20241203T090000
DTEND;TZID=Europe/Madrid:20241203T100000
DTSTAMP:20260423T012421
CREATED:20241129T103955Z
LAST-MODIFIED:20241202T090643Z
UID:10304-1733216400-1733220000@linagalvez.eu
SUMMARY:Comisión de Comercio Internacional (INTA)
DESCRIPTION:Lina Gálvez asistirá a esta sesión de la Comisión INTA. En esta sesión se votará el consentimiento para adoptar la Convención de las Naciones Unidas sobre la transparencia en los arbitrajes entre inversionistas y Estados en el marco de un tratado\, expediente del que Lina Gálvez es relatora en la sombra por el grupo de socialistas y demócratas.
URL:https://linagalvez.eu/agenda/reunion-comision-inta-2024-12-2/
CATEGORIES:Actualidad,INTA,Parlamento
ATTACH;FMTTYPE=image/jpeg:https://linagalvez.eu/wp-content/uploads/2024/09/INTA-16-9.jpeg
END:VEVENT
BEGIN:VEVENT
DTSTART;VALUE=DATE:20241209
DTEND;VALUE=DATE:20241216
DTSTAMP:20260423T012421
CREATED:20241128T065256Z
LAST-MODIFIED:20241202T101253Z
UID:10331-1733702400-1734307199@linagalvez.eu
SUMMARY:Semana Europea de la Igualdad de Género: promoviendo los derechos de las mujeres
DESCRIPTION:El Parlamento Europeo defiende los derechos de las mujeres en toda la UE. Sus esfuerzos por garantizar la igualdad de género en el trabajo\, en la política y en otros ámbitos han dado lugar a una legislación sin precedentes. Las nuevas medidas jurídicamente vinculantes abarcan una amplia variedad de cuestiones: ayudar a acabar con la desigualdad salarial\, eliminar la discriminación por motivos de género\, impulsar la presencia de las mujeres en los consejos de administración y combatir la violencia contra las mujeres. \nEl Parlamento celebra cada año una Semana de la igualdad de género para hacer balance de los logros e identificar nuevas medidas para promover los derechos de las niñas y las mujeres y garantizar la igualdad de género. Los actos son organizados por las comisiones\, las delegaciones\, los grupos políticos y la administración del Parlamento. La primera edición se celebró en 2020\, a iniciativa de la Comisión de Derechos de la Mujer e Igualdad de Género. \nEn 2024\, el tema principal de la Semana Europea de la Igualdad de Género es Las mujeres en el mundo digital: seguridad y empoderamiento. El Parlamento quiere destacar y buscar soluciones a la creciente cuestión del acoso en línea y la ciberviolencia. \n\n\n#EPGenderEqualityWeek. \nPrograma \nConsulta el borrador del programa que se actualiza periódicamente con nuevos eventos y que contiene una lista de diversos eventos que tienen lugar en el Parlamento y en otras instituciones\, organismos\, agencias u otros socios de la UE.
URL:https://linagalvez.eu/agenda/semana-europea-igualdad-genero-2024/
CATEGORIES:Actualidad,Destacado,FEMM,INTA,ITRE,Parlamento
ATTACH;FMTTYPE=image/png:https://linagalvez.eu/wp-content/uploads/2020/10/Semana-Europea-Igualdad-de-genero-2024.png
END:VEVENT
BEGIN:VEVENT
DTSTART;TZID=Europe/Madrid:20241210T090000
DTEND;TZID=Europe/Madrid:20241210T094500
DTSTAMP:20260423T012421
CREATED:20241209T070923Z
LAST-MODIFIED:20241209T071645Z
UID:10344-1733821200-1733823900@linagalvez.eu
SUMMARY:Reunión INTA WorkGroup S&D
DESCRIPTION:INTA WG S&D \nLa eurodiputada Lina Gálvez participará en la reunión del grupo S&D del Comité de Comercio Internacional (INTA) del Parlamento Europeo.
URL:https://linagalvez.eu/agenda/reunion-grupo-trabajo-sd-inta-24-12/
CATEGORIES:Actualidad,INTA,Parlamento,S&D
ATTACH;FMTTYPE=image/jpeg:https://linagalvez.eu/wp-content/uploads/2024/05/Lina-Galvez-UPO--scaled.jpeg
END:VEVENT
END:VCALENDAR