BEGIN:VCALENDAR
VERSION:2.0
PRODID:-//Lina Gálvez - ECPv6.15.20//NONSGML v1.0//EN
CALSCALE:GREGORIAN
METHOD:PUBLISH
X-ORIGINAL-URL:https://linagalvez.eu
X-WR-CALDESC:Eventos para Lina Gálvez
REFRESH-INTERVAL;VALUE=DURATION:PT1H
X-Robots-Tag:noindex
X-PUBLISHED-TTL:PT1H
BEGIN:VTIMEZONE
TZID:Europe/Madrid
BEGIN:DAYLIGHT
TZOFFSETFROM:+0100
TZOFFSETTO:+0200
TZNAME:CEST
DTSTART:20240331T010000
END:DAYLIGHT
BEGIN:STANDARD
TZOFFSETFROM:+0200
TZOFFSETTO:+0100
TZNAME:CET
DTSTART:20241027T010000
END:STANDARD
BEGIN:DAYLIGHT
TZOFFSETFROM:+0100
TZOFFSETTO:+0200
TZNAME:CEST
DTSTART:20250330T010000
END:DAYLIGHT
BEGIN:STANDARD
TZOFFSETFROM:+0200
TZOFFSETTO:+0100
TZNAME:CET
DTSTART:20251026T010000
END:STANDARD
BEGIN:DAYLIGHT
TZOFFSETFROM:+0100
TZOFFSETTO:+0200
TZNAME:CEST
DTSTART:20260329T010000
END:DAYLIGHT
BEGIN:STANDARD
TZOFFSETFROM:+0200
TZOFFSETTO:+0100
TZNAME:CET
DTSTART:20261025T010000
END:STANDARD
END:VTIMEZONE
BEGIN:VEVENT
DTSTART;TZID=Europe/Madrid:20250114T080000
DTEND;TZID=Europe/Madrid:20250114T084500
DTSTAMP:20260422T234810
CREATED:20250110T131123Z
LAST-MODIFIED:20250113T090124Z
UID:10437-1736841600-1736844300@linagalvez.eu
SUMMARY:Reunión INTA WorkGroup S&D
DESCRIPTION:INTA WG S&D \nLa eurodiputada Lina Gálvez participará en la reunión del grupo S&D del Comité de Comercio Internacional (INTA) del Parlamento Europeo.
URL:https://linagalvez.eu/agenda/reunion-grupo-trabajo-sd-inta-25-01/
CATEGORIES:Actualidad,INTA,Parlamento,S&D
ATTACH;FMTTYPE=image/jpeg:https://linagalvez.eu/wp-content/uploads/2024/05/Lina-Galvez-UPO--scaled.jpeg
END:VEVENT
BEGIN:VEVENT
DTSTART;TZID=Europe/Madrid:20250122T170000
DTEND;TZID=Europe/Madrid:20250122T174500
DTSTAMP:20260422T234810
CREATED:20250116T131123Z
LAST-MODIFIED:20250120T094716Z
UID:10471-1737565200-1737567900@linagalvez.eu
SUMMARY:Reunión INTA WorkGroup S&D
DESCRIPTION:INTA WG S&D \nLa eurodiputada Lina Gálvez participará en la reunión del grupo S&D del Comité de Comercio Internacional (INTA) del Parlamento Europeo.
URL:https://linagalvez.eu/agenda/reunion-grupo-trabajo-sd-inta-25-01-2/
CATEGORIES:Actualidad,INTA,Parlamento,S&D
ATTACH;FMTTYPE=image/jpeg:https://linagalvez.eu/wp-content/uploads/2024/05/Lina-Galvez-UPO--scaled.jpeg
END:VEVENT
BEGIN:VEVENT
DTSTART;TZID=Europe/Madrid:20250128T130000
DTEND;TZID=Europe/Madrid:20250128T140000
DTSTAMP:20260422T234810
CREATED:20250124T103955Z
LAST-MODIFIED:20250127T101012Z
UID:10570-1738069200-1738072800@linagalvez.eu
SUMMARY:Monitoring group de INTA sobre Singapur
DESCRIPTION:Grupo de seguimiento de la Comisión de Comercio Internacional (INTA)\, de la que Lina Gálvez forma parte\, para valorar las perspectivas del comercio entre la Unión Europea y Singapur.
URL:https://linagalvez.eu/agenda/monitoring-group-inta-singapur/
CATEGORIES:Actualidad,INTA,Parlamento
ATTACH;FMTTYPE=image/jpeg:https://linagalvez.eu/wp-content/uploads/2024/09/INTA-16-9.jpeg
END:VEVENT
END:VCALENDAR