BEGIN:VCALENDAR
VERSION:2.0
PRODID:-//Lina Gálvez - ECPv6.15.20//NONSGML v1.0//EN
CALSCALE:GREGORIAN
METHOD:PUBLISH
X-WR-CALNAME:Lina Gálvez
X-ORIGINAL-URL:https://linagalvez.eu
X-WR-CALDESC:Eventos para Lina Gálvez
REFRESH-INTERVAL;VALUE=DURATION:PT1H
X-Robots-Tag:noindex
X-PUBLISHED-TTL:PT1H
BEGIN:VTIMEZONE
TZID:Europe/Madrid
BEGIN:DAYLIGHT
TZOFFSETFROM:+0100
TZOFFSETTO:+0200
TZNAME:CEST
DTSTART:20240331T010000
END:DAYLIGHT
BEGIN:STANDARD
TZOFFSETFROM:+0200
TZOFFSETTO:+0100
TZNAME:CET
DTSTART:20241027T010000
END:STANDARD
BEGIN:DAYLIGHT
TZOFFSETFROM:+0100
TZOFFSETTO:+0200
TZNAME:CEST
DTSTART:20250330T010000
END:DAYLIGHT
BEGIN:STANDARD
TZOFFSETFROM:+0200
TZOFFSETTO:+0100
TZNAME:CET
DTSTART:20251026T010000
END:STANDARD
BEGIN:DAYLIGHT
TZOFFSETFROM:+0100
TZOFFSETTO:+0200
TZNAME:CEST
DTSTART:20260329T010000
END:DAYLIGHT
BEGIN:STANDARD
TZOFFSETFROM:+0200
TZOFFSETTO:+0100
TZNAME:CET
DTSTART:20261025T010000
END:STANDARD
END:VTIMEZONE
BEGIN:VEVENT
DTSTART;TZID=Europe/Madrid:20250618T110000
DTEND;TZID=Europe/Madrid:20250618T120000
DTSTAMP:20260420T050448
CREATED:20250613T093955Z
LAST-MODIFIED:20250616T100710Z
UID:12060-1750244400-1750248000@linagalvez.eu
SUMMARY:Reunión con el Embajador de Singapur
DESCRIPTION:En el marco de su actividad como miembro de la Comisión de Comercio Internacional (INTA)\, Lina Gálvez mantendrá una reunión con el Embajador de Singapur en Estrasburgo a fin de intercambiar impresiones sobre las relaciones comerciales entre la UE y Singapur\, con especial atención al Acuerdo de Comercio Digital UE-Singapur (EUSDTA).
URL:https://linagalvez.eu/agenda/reunion-embajador-singapur-2025-06/
CATEGORIES:Actualidad,INTA,Parlamento
ATTACH;FMTTYPE=image/jpeg:https://linagalvez.eu/wp-content/uploads/Europe-flag_2608475_1920_No-name-13_free-pixabay.jpg
END:VEVENT
END:VCALENDAR