BEGIN:VCALENDAR
VERSION:2.0
PRODID:-//Lina Gálvez - ECPv6.15.20//NONSGML v1.0//EN
CALSCALE:GREGORIAN
METHOD:PUBLISH
X-ORIGINAL-URL:https://linagalvez.eu
X-WR-CALDESC:Eventos para Lina Gálvez
REFRESH-INTERVAL;VALUE=DURATION:PT1H
X-Robots-Tag:noindex
X-PUBLISHED-TTL:PT1H
BEGIN:VTIMEZONE
TZID:Europe/Madrid
BEGIN:DAYLIGHT
TZOFFSETFROM:+0100
TZOFFSETTO:+0200
TZNAME:CEST
DTSTART:20250330T010000
END:DAYLIGHT
BEGIN:STANDARD
TZOFFSETFROM:+0200
TZOFFSETTO:+0100
TZNAME:CET
DTSTART:20251026T010000
END:STANDARD
BEGIN:DAYLIGHT
TZOFFSETFROM:+0100
TZOFFSETTO:+0200
TZNAME:CEST
DTSTART:20260329T010000
END:DAYLIGHT
BEGIN:STANDARD
TZOFFSETFROM:+0200
TZOFFSETTO:+0100
TZNAME:CET
DTSTART:20261025T010000
END:STANDARD
BEGIN:DAYLIGHT
TZOFFSETFROM:+0100
TZOFFSETTO:+0200
TZNAME:CEST
DTSTART:20270328T010000
END:DAYLIGHT
BEGIN:STANDARD
TZOFFSETFROM:+0200
TZOFFSETTO:+0100
TZNAME:CET
DTSTART:20271031T010000
END:STANDARD
END:VTIMEZONE
BEGIN:VEVENT
DTSTART;TZID=Europe/Madrid:20260126T170000
DTEND;TZID=Europe/Madrid:20260126T180000
DTSTAMP:20260420T055751
CREATED:20260123T095804Z
LAST-MODIFIED:20260126T095856Z
UID:13383-1769446800-1769450400@linagalvez.eu
SUMMARY:Intervención en la reunión de DLAT. Pacto Birregional por los Cuidados tras la 4ª Cumbre CELAC-UE
DESCRIPTION:Lina Gálvez participará en la reunión de la Delegación en la Asamblea Parlamentaria Euro-Latinoamericana (DLAT). \nLa eurodiputada intervendrá en el eje estratégico: Puesta en marcha del Pacto Birregional por los Cuidados\, tras la IV Cumbre CELAC-UE de Santa Marta. También formarán parte de la sesión\, Bibiana Aído Almagro\, directora regional de ONU Mujeres para las Américas y el Caribe y otras personas expertas destacadas de la Comisión Europea\, la Organización Panamericana de la Salud y ONU Mujeres. \nVer en streaming aquí
URL:https://linagalvez.eu/agenda/intervencion-reunion-dlat-pacto-birregional-cuidados-tras-4a-cumbre-celac-ue/
CATEGORIES:Actualidad,FEMM,INTA,Parlamento
ATTACH;FMTTYPE=image/jpeg:https://linagalvez.eu/wp-content/uploads/PE_Lina-Galvez_ITRE_Exchange-of-views-with-commisioner-Ekaterina-Zaharieva-2025-2.jpg
END:VEVENT
END:VCALENDAR