BEGIN:VCALENDAR
VERSION:2.0
PRODID:-//Lina Gálvez - ECPv6.15.20//NONSGML v1.0//EN
CALSCALE:GREGORIAN
METHOD:PUBLISH
X-WR-CALNAME:Lina Gálvez
X-ORIGINAL-URL:https://linagalvez.eu
X-WR-CALDESC:Eventos para Lina Gálvez
REFRESH-INTERVAL;VALUE=DURATION:PT1H
X-Robots-Tag:noindex
X-PUBLISHED-TTL:PT1H
BEGIN:VTIMEZONE
TZID:Europe/Madrid
BEGIN:DAYLIGHT
TZOFFSETFROM:+0100
TZOFFSETTO:+0200
TZNAME:CEST
DTSTART:20250330T010000
END:DAYLIGHT
BEGIN:STANDARD
TZOFFSETFROM:+0200
TZOFFSETTO:+0100
TZNAME:CET
DTSTART:20251026T010000
END:STANDARD
BEGIN:DAYLIGHT
TZOFFSETFROM:+0100
TZOFFSETTO:+0200
TZNAME:CEST
DTSTART:20260329T010000
END:DAYLIGHT
BEGIN:STANDARD
TZOFFSETFROM:+0200
TZOFFSETTO:+0100
TZNAME:CET
DTSTART:20261025T010000
END:STANDARD
BEGIN:DAYLIGHT
TZOFFSETFROM:+0100
TZOFFSETTO:+0200
TZNAME:CEST
DTSTART:20270328T010000
END:DAYLIGHT
BEGIN:STANDARD
TZOFFSETFROM:+0200
TZOFFSETTO:+0100
TZNAME:CET
DTSTART:20271031T010000
END:STANDARD
END:VTIMEZONE
BEGIN:VEVENT
DTSTART;TZID=Europe/Madrid:20260113T150000
DTEND;TZID=Europe/Madrid:20260113T170000
DTSTAMP:20260425T125818
CREATED:20260107T174752Z
LAST-MODIFIED:20260113T092321Z
UID:13251-1768316400-1768323600@linagalvez.eu
SUMMARY:Conferencia Anual de STOA 2026 sobre la Libertad Académica en los EE.UU.
DESCRIPTION:La conferencia anual del Panel para el Futuro de la Ciencia y la Tecnología del Parlamento Europeo (STOA) tendrá lugar el día 13 de enero de 2026\, con el tema ‘Libertad académica en los Estados Unidos’. \nLina Gálvez Muñoz\, en su calidad de diputada al Parlamento Europeo y vicepresidenta de STOA\, moderará el panel de intercambio de opiniones en que se abordarán cuestiones transatlánticas clave como: ¿cuáles son las principales diferencias entre el enfoque de la libertad académica en EE. UU. y en la UE?¿Qué lecciones políticas\, si las hay\, puede extraer la UE? ¿Cuáles son las consecuencias para las relaciones académicas entre la UE y EE. UU.? \n\nSe espera de las universidades que proporcionen un entorno propicio para la enseñanza y la investigación. Se espera de los gobiernos que proporcionen el marco jurídico para los centros educativos y financien los programas de investigación clave. Siempre existe la posibilidad de que surjan conflictos entre los intereses de ambas instituciones. En el último año\, las tensiones entre la administración estadounidense y muchas de las principales universidades del país han llegado a un punto crítico. ¿Cuáles son los verdaderos conflictos en juego? ¿Cuáles son las consecuencias dentro de los Estados Unidos y para la cooperación transatlántica? ¿Cuál es el equilibrio adecuado entre los intereses legítimos del gobierno y las instituciones académicas? ¿Cuáles son las similitudes y diferencias en la relación entre las universidades y los gobiernos de EE. UU. y la UE? \nLa ponencia principal del profesor David Rabban y el debate posterior con un panel de representantes de la academia y la política abordarán estos y otros temas complejos\, cruciales para establecer una relación saludable entre las políticas públicas y la búsqueda del conocimiento. \nMás información y programa (en inglés) aquí \nVer en streaming aquí \nFuente de la imagen: evento anunciado en el que participa Lina Gálvez. En esta web se realiza un uso justo y no comercial de la imagen para la difusión del evento.
URL:https://linagalvez.eu/agenda/conferencia-anual-stoa-2026-libertad-academica-eeuu/
CATEGORIES:Actualidad,Destacado,ITRE,STOA
ATTACH;FMTTYPE=image/jpeg:https://linagalvez.eu/wp-content/uploads/STOA-annual-lecture-2026-academic-freedom-US-harvard-ml.jpg
END:VEVENT
BEGIN:VEVENT
DTSTART;TZID=Europe/Madrid:20260115T093000
DTEND;TZID=Europe/Madrid:20260115T103000
DTSTAMP:20260425T125818
CREATED:20260107T083947Z
LAST-MODIFIED:20260113T101036Z
UID:13265-1768469400-1768473000@linagalvez.eu
SUMMARY:Reunión de la Comisión de Industria\, Investigación y Energía (ITRE)
DESCRIPTION:Lina Gálvez asistirá a la reunión de la Comisión de Industria\, Investigación y Energía (ITRE)\, de la que forma parte. \nTemas destacados a tratar: \n\nIntercambio de puntos de vista sobre proyectos de interés común (PCI) y mutuo (PMI) en energía con Ditte Juul Jørgensen (Directora General de Energía de la Comisión Europea).\nIntercambio de puntos de vista sobre la estrategia de baterías y automoción con Kerstin Jorna (Directora General de Mercado Interior\, Industria\, Emprendimiento y Pymes de la Comisión Europea).\n\nVer en streaming aquí
URL:https://linagalvez.eu/agenda/reunion-comision-industria-investigacion-energia-itre-2026-01/
CATEGORIES:Actualidad,ITRE,Parlamento
ATTACH;FMTTYPE=image/png:https://linagalvez.eu/wp-content/uploads/2020/09/ITRE.-Logo.png
END:VEVENT
BEGIN:VEVENT
DTSTART;TZID=Europe/Madrid:20260120T094500
DTEND;TZID=Europe/Madrid:20260120T100000
DTSTAMP:20260425T125818
CREATED:20260116T111816Z
LAST-MODIFIED:20260120T102211Z
UID:13321-1768902300-1768903200@linagalvez.eu
SUMMARY:Debate sobre deepfakes e IA: lucha contra la explotación sexual en redes sociales
DESCRIPTION:La eurodiputada Lina Gálvez intervendrá en el debate ‘Deepfakes e IA: sobre la lucha contra la explotación sexual en redes sociales y el uso de las reglas digitales de la UE para proteger a mujeres y menores’\, en el plenario del Parlamento Europeo en Estrasburgo. \nSe puede seguir la intervención en el siguiente enlace: AQUÍ
URL:https://linagalvez.eu/agenda/debate-deepfakes-ia-lucha-explotacion-sexual-redes-sociales-2026/
CATEGORIES:Actualidad,FEMM,ITRE,Parlamento
ATTACH;FMTTYPE=image/jpeg:https://linagalvez.eu/wp-content/uploads/LGM_EP-184318G_LD1_PB_062-1024x683-1.jpg
END:VEVENT
BEGIN:VEVENT
DTSTART;TZID=Europe/Madrid:20260120T110000
DTEND;TZID=Europe/Madrid:20260120T120000
DTSTAMP:20260425T125818
CREATED:20260116T094153Z
LAST-MODIFIED:20260120T103654Z
UID:13323-1768906800-1768910400@linagalvez.eu
SUMMARY:Liderazgo Digital Europeo: Audiencia sobre el Fondo de Competitividad Europea
DESCRIPTION:Reunión del grupo de trabajo digital del Grupo de Socialistas y Demócratas de ITRE. Liderazgo Digital Europeo: Audiencia sobre el Fondo de Competitividad Europea con Roberto Viola\, Director General de la DG CONNECT (Dirección General de Comunicación\, Redes\, Contenidos y Tecnologías) de la Comisión Europea. \nFuente de la imagen: Parlamento Europeo. En esta web se realiza un uso justo y no comercial de la imagen para la difusión del evento.
URL:https://linagalvez.eu/agenda/liderazgo-digital-europeo-audiencia-fondo-competitividad-europea-2026-01/
CATEGORIES:Actualidad,Destacado,ITRE,Parlamento,S&D
ATTACH;FMTTYPE=image/jpeg:https://linagalvez.eu/wp-content/uploads/20250707PHT29482-ml-Recurso-chip-UE-destacados-ITRE.jpeg
END:VEVENT
BEGIN:VEVENT
DTSTART;TZID=Europe/Madrid:20260121T090000
DTEND;TZID=Europe/Madrid:20260121T120000
DTSTAMP:20260425T125818
CREATED:20260116T111816Z
LAST-MODIFIED:20260120T125926Z
UID:13346-1768986000-1768996800@linagalvez.eu
SUMMARY:Debate Intervención sobre una Europa más fuerte y soberana ante las tensiones geopolíticas actuales
DESCRIPTION:La eurodiputada Lina Gálvez tomará la palabra en el debate ‘El Consejo Europeo: Intervención sobre una Europa más fuerte y soberana ante las tensiones geopolíticas actuales’\, en el plenario del Parlamento Europeo en Estrasburgo. \nVer en streaming aquí
URL:https://linagalvez.eu/agenda/debate-intervencion-europa-fuerte-soberana-tensiones-geopoliticas-actuales-2026/
CATEGORIES:Actualidad,FEMM,ITRE,Parlamento
ATTACH;FMTTYPE=image/jpeg:https://linagalvez.eu/wp-content/uploads/2023/12/LGM.jpg
END:VEVENT
BEGIN:VEVENT
DTSTART;TZID=Europe/Madrid:20260121T100000
DTEND;TZID=Europe/Madrid:20260121T103000
DTSTAMP:20260425T125818
CREATED:20260116T083947Z
LAST-MODIFIED:20260120T124900Z
UID:13344-1768989600-1768991400@linagalvez.eu
SUMMARY:Reunión con el ministro de Investigación de Irlanda (IE)
DESCRIPTION:Lina Gálvez se reunirá con James Lawless\, ministro de Investigación (Minister for Further & Higher Education\, Research\, Innovation & Science) del gobierno de la República de Irlanda (IE).
URL:https://linagalvez.eu/agenda/reunion-ministro-investigacion-irlanda-ie-2026-01/
CATEGORIES:Actualidad,ITRE,Parlamento
ATTACH;FMTTYPE=image/jpeg:https://linagalvez.eu/wp-content/uploads/15652694953_e902ea5c26_o.jpg
END:VEVENT
BEGIN:VEVENT
DTSTART;TZID=Europe/Madrid:20260128T090000
DTEND;TZID=Europe/Madrid:20260128T113000
DTSTAMP:20260425T125818
CREATED:20260123T143737Z
LAST-MODIFIED:20260127T082502Z
UID:13393-1769590800-1769599800@linagalvez.eu
SUMMARY:Reunión de la Comisión ITRE: Intercambio de puntos de vista sobre Horizonte Europa
DESCRIPTION:Lina Gálvez participará en la reunión de la Comisión de Industria\, Investigación y Energía (ITRE)\, en la que se realizará un primer intercambio de puntos de vista sobre Horizonte Europa. \nLa eurodiputada Gálvez es relatora en la sombra (shadow rapporteur) por parte del Grupo S&D del programa Horizonte Europa (2028-2034)\, principal instrumento de financiación de la Unión Europea para la investigación\, el desarrollo tecnológico y la innovación. \nVer en streaming aquí
URL:https://linagalvez.eu/agenda/reunion-comision-industria-investigacion-energia-itre-2026-01-2-horizonte-europa/
CATEGORIES:ITRE,S&D
ATTACH;FMTTYPE=image/jpeg:https://linagalvez.eu/wp-content/uploads/horizonEurope.jpg
END:VEVENT
BEGIN:VEVENT
DTSTART;TZID=Europe/Madrid:20260128T110000
DTEND;TZID=Europe/Madrid:20260128T120000
DTSTAMP:20260425T125818
CREATED:20260123T160744Z
LAST-MODIFIED:20260126T104739Z
UID:13396-1769598000-1769601600@linagalvez.eu
SUMMARY:Reunión abierta con los principales colectivos en defensa de la sanidad pública
DESCRIPTION:Lina Gálvez asistirá a la reunión abierta con representantes de los principales colectivos en defensa de la sanidad pública española\, incluyendo a la asociación andaluza AMAMA\, organizada por la eurodiputada Estrella Galán\, del Grupo de la Izquierda en el Parlamento Europeo.
URL:https://linagalvez.eu/agenda/reunion-abierta-colectivos-defensa-sanidad-publica/
CATEGORIES:Actualidad,ITRE,S&D
ATTACH;FMTTYPE=image/jpeg:https://linagalvez.eu/wp-content/uploads/53595298976_9758b85d6b_k.jpg
END:VEVENT
BEGIN:VEVENT
DTSTART;TZID=Europe/Madrid:20260129T090000
DTEND;TZID=Europe/Madrid:20260129T103000
DTSTAMP:20260425T125818
CREATED:20260123T094153Z
LAST-MODIFIED:20260126T115310Z
UID:13398-1769677200-1769682600@linagalvez.eu
SUMMARY:Reunión de la Comisión ITRE: Audiencia pública sobre ciberdefensa y ciberseguridad
DESCRIPTION:Lina Gálvez participará en la reunión de la Comisión de Industria\, Investigación y Energía (ITRE)\, en la que se realizará una Audiencia pública sobre ciberdefensa y ciberseguridad. \nVer en streaming aquí \nFuente de la imagen: Parlamento Europeo. En esta web se realiza un uso justo y no comercial de la imagen para la difusión del evento.
URL:https://linagalvez.eu/agenda/reunion-comision-industria-investigacion-energia-itre-2026-01-3/
CATEGORIES:Actualidad,ITRE,Parlamento
ATTACH;FMTTYPE=image/jpeg:https://linagalvez.eu/wp-content/uploads/20250707PHT29482-ml-Recurso-chip-UE-destacados-ITRE.jpeg
END:VEVENT
BEGIN:VEVENT
DTSTART;TZID=Europe/Madrid:20260129T143000
DTEND;TZID=Europe/Madrid:20260129T163000
DTSTAMP:20260425T125818
CREATED:20260123T090656Z
LAST-MODIFIED:20260126T112359Z
UID:13404-1769697000-1769704200@linagalvez.eu
SUMMARY:Horizon Europe Shadows Meeting
DESCRIPTION:La eurodiputada Lina Gálvez participará en esta primera reunión de ponentes en la sombra sobre el programa Horizonte Europa\, de la que es shadow rapporteur en la Comisión ITRE del Parlamento Europeo.
URL:https://linagalvez.eu/agenda/horizon-europe-shadows-meeting-2026-01/
CATEGORIES:Actualidad,Horizon Europe,ITRE,Parlamento
ATTACH;FMTTYPE=image/jpeg:https://linagalvez.eu/wp-content/uploads/horizonEurope.jpg
END:VEVENT
END:VCALENDAR