BEGIN:VCALENDAR
VERSION:2.0
PRODID:-//Lina Gálvez - ECPv6.15.20//NONSGML v1.0//EN
CALSCALE:GREGORIAN
METHOD:PUBLISH
X-WR-CALNAME:Lina Gálvez
X-ORIGINAL-URL:https://linagalvez.eu
X-WR-CALDESC:Eventos para Lina Gálvez
REFRESH-INTERVAL;VALUE=DURATION:PT1H
X-Robots-Tag:noindex
X-PUBLISHED-TTL:PT1H
BEGIN:VTIMEZONE
TZID:Europe/Madrid
BEGIN:DAYLIGHT
TZOFFSETFROM:+0100
TZOFFSETTO:+0200
TZNAME:CEST
DTSTART:20240331T010000
END:DAYLIGHT
BEGIN:STANDARD
TZOFFSETFROM:+0200
TZOFFSETTO:+0100
TZNAME:CET
DTSTART:20241027T010000
END:STANDARD
BEGIN:DAYLIGHT
TZOFFSETFROM:+0100
TZOFFSETTO:+0200
TZNAME:CEST
DTSTART:20250330T010000
END:DAYLIGHT
BEGIN:STANDARD
TZOFFSETFROM:+0200
TZOFFSETTO:+0100
TZNAME:CET
DTSTART:20251026T010000
END:STANDARD
BEGIN:DAYLIGHT
TZOFFSETFROM:+0100
TZOFFSETTO:+0200
TZNAME:CEST
DTSTART:20260329T010000
END:DAYLIGHT
BEGIN:STANDARD
TZOFFSETFROM:+0200
TZOFFSETTO:+0100
TZNAME:CET
DTSTART:20261025T010000
END:STANDARD
END:VTIMEZONE
BEGIN:VEVENT
DTSTART;TZID=Europe/Madrid:20250203T103000
DTEND;TZID=Europe/Madrid:20250203T113000
DTSTAMP:20260425T184420
CREATED:20250201T121735Z
LAST-MODIFIED:20250203T104130Z
UID:10614-1738578600-1738582200@linagalvez.eu
SUMMARY:Rueda de prensa ponencia marco del 15º Congreso del PSOE Andalucía
DESCRIPTION:Rueda de prensa en Sevilla sobre la ponencia marco del 15º Congreso del PSOE Andalucía. \nSe puede seguir la retransmisión aquí.
URL:https://linagalvez.eu/agenda/rueda-prensa-ponencia-15-congreso-psoe-andalucia/
CATEGORIES:Actualidad,Andalucía,S&D
ATTACH;FMTTYPE=image/png:https://linagalvez.eu/wp-content/uploads/2025/02/Andalucia-gana-15Congreso-PSOE-A.png
END:VEVENT
BEGIN:VEVENT
DTSTART;TZID=Europe/Madrid:20250204T103000
DTEND;TZID=Europe/Madrid:20250204T111500
DTSTAMP:20260425T184420
CREATED:20250130T083947Z
LAST-MODIFIED:20250203T083736Z
UID:10622-1738665000-1738667700@linagalvez.eu
SUMMARY:S&D ITRE Working Group meeting
DESCRIPTION:Lina Gálvez asistirá a la reunión del grupo S&D como parte de de la Comisión de Industria\, Investigación y Energía (ITRE).
URL:https://linagalvez.eu/agenda/sd-itre-working-group-meeting-25-02/
CATEGORIES:Actualidad,ITRE,Parlamento,S&D
ATTACH;FMTTYPE=image/png:https://linagalvez.eu/wp-content/uploads/2020/06/ITRE-1.png
END:VEVENT
BEGIN:VEVENT
DTSTART;TZID=Europe/Madrid:20250204T123000
DTEND;TZID=Europe/Madrid:20250204T133000
DTSTAMP:20260425T184420
CREATED:20250130T083947Z
LAST-MODIFIED:20250210T090027Z
UID:10467-1738672200-1738675800@linagalvez.eu
SUMMARY:S&D Reunión de la Delegación Socialista Española.
DESCRIPTION:Lina Gálvez asistirá a la reunión de la Delegación Socialista Española para debatir y coordinar estrategias sobre temas clave de la agenda política.
URL:https://linagalvez.eu/agenda/sd-reunion-delegacion-socialista-espanola-dse-25-02/
CATEGORIES:Actualidad,Parlamento,S&D
ATTACH;FMTTYPE=image/jpeg:https://linagalvez.eu/wp-content/uploads/2024/07/GP-Socialista-X-Legislatura.jpeg
END:VEVENT
BEGIN:VEVENT
DTSTART;TZID=Europe/Madrid:20250205T090000
DTEND;TZID=Europe/Madrid:20250205T120000
DTSTAMP:20260425T184420
CREATED:20250130T083948Z
LAST-MODIFIED:20250203T095120Z
UID:10633-1738746000-1738756800@linagalvez.eu
SUMMARY:Reunión de grupo de S&D
DESCRIPTION:Lina Gálvez asistirá a la reunión de grupo de Socialists & Democrats donde participará en un intercambio de opiniones y puntos de vista con otros miembros del grupo\, para debatir y coordinar estrategias sobre temas clave de la agenda política.
URL:https://linagalvez.eu/agenda/reunion-grupo-sd-2025-02/
CATEGORIES:Actualidad,Parlamento,S&D
ATTACH;FMTTYPE=image/png:https://linagalvez.eu/wp-content/uploads/2020/01/1-S&D.svg.png
END:VEVENT
BEGIN:VEVENT
DTSTART;TZID=Europe/Madrid:20250205T130000
DTEND;TZID=Europe/Madrid:20250205T140000
DTSTAMP:20260425T184420
CREATED:20250129T142958Z
LAST-MODIFIED:20250203T095421Z
UID:10635-1738760400-1738764000@linagalvez.eu
SUMMARY:Reunión de la Fundacion Europea de Estudios Progresistas (FEPS)
DESCRIPTION:Lina Gálvez participará en la reunión de la Fundación Europea de Estudios Progresistas (FEPS) como presidenta de su comité científico.
URL:https://linagalvez.eu/agenda/reunion-feps-2025-02/
CATEGORIES:Actualidad,FEPS,S&D
ATTACH;FMTTYPE=image/jpeg:https://linagalvez.eu/wp-content/uploads/2023/06/2023-06-16_Lina-Galvez_FEPS_SD.jpeg
END:VEVENT
BEGIN:VEVENT
DTSTART;TZID=Europe/Madrid:20250210T160000
DTEND;TZID=Europe/Madrid:20250210T170000
DTSTAMP:20260425T184420
CREATED:20250207T083948Z
LAST-MODIFIED:20250210T085319Z
UID:10665-1739203200-1739206800@linagalvez.eu
SUMMARY:Reunión de grupo de S&D
DESCRIPTION:Lina Gálvez asistirá a la reunión de grupo de Socialists & Democrats donde participará en un intercambio de opiniones y puntos de vista con otros miembros del grupo\, para debatir y coordinar estrategias sobre temas clave de la agenda política.
URL:https://linagalvez.eu/agenda/reunion-grupo-sd-2025-02-2/
CATEGORIES:Actualidad,Parlamento,S&D
ATTACH;FMTTYPE=image/png:https://linagalvez.eu/wp-content/uploads/2020/01/1-S&D.svg.png
END:VEVENT
BEGIN:VEVENT
DTSTART;TZID=Europe/Madrid:20250211T110000
DTEND;TZID=Europe/Madrid:20250211T120000
DTSTAMP:20260425T184420
CREATED:20250207T083947Z
LAST-MODIFIED:20250210T085510Z
UID:10667-1739271600-1739275200@linagalvez.eu
SUMMARY:S&D ITRE Working Group meeting
DESCRIPTION:Lina Gálvez asistirá a la reunión del grupo S&D de la Comisión de Industria\, Investigación y Energía (ITRE)\, de la que la eurodiputada forma parte.
URL:https://linagalvez.eu/agenda/sd-itre-working-group-meeting-25-02-2/
CATEGORIES:Actualidad,ITRE,Parlamento,S&D
ATTACH;FMTTYPE=image/png:https://linagalvez.eu/wp-content/uploads/2020/05/digital-europe.png
END:VEVENT
BEGIN:VEVENT
DTSTART;TZID=Europe/Madrid:20250211T130000
DTEND;TZID=Europe/Madrid:20250211T140000
DTSTAMP:20260425T184420
CREATED:20250207T083947Z
LAST-MODIFIED:20250210T090640Z
UID:10674-1739278800-1739282400@linagalvez.eu
SUMMARY:S&D Reunión de la Delegación Socialista Española.
DESCRIPTION:Lina Gálvez asistirá a la reunión de la Delegación Socialista Española para debatir y coordinar estrategias sobre temas clave de la agenda política.
URL:https://linagalvez.eu/agenda/sd-reunion-delegacion-socialista-espanola-dse-25-02-2/
CATEGORIES:Actualidad,Parlamento,S&D
ATTACH;FMTTYPE=image/jpeg:https://linagalvez.eu/wp-content/uploads/2024/07/GP-Socialista-X-Legislatura.jpeg
END:VEVENT
BEGIN:VEVENT
DTSTART;TZID=Europe/Madrid:20250211T180000
DTEND;TZID=Europe/Madrid:20250211T200000
DTSTAMP:20260425T184420
CREATED:20250207T083948Z
LAST-MODIFIED:20250210T091038Z
UID:10678-1739296800-1739304000@linagalvez.eu
SUMMARY:Reunión de grupo de S&D
DESCRIPTION:LGM asistirá a la reunión de grupo de Socialists & Democrats donde participará en un intercambio de opiniones y puntos de vista con otros miembros del grupo\, para debatir y coordinar estrategias sobre temas clave de la agenda política.
URL:https://linagalvez.eu/agenda/reunion-grupo-sd-2025-02-3/
CATEGORIES:Actualidad,Parlamento,S&D
ATTACH;FMTTYPE=image/png:https://linagalvez.eu/wp-content/uploads/2020/01/1-S&D.svg.png
END:VEVENT
BEGIN:VEVENT
DTSTART;TZID=Europe/Madrid:20250212T100000
DTEND;TZID=Europe/Madrid:20250212T110000
DTSTAMP:20260425T184420
CREATED:20250207T083947Z
LAST-MODIFIED:20250210T092346Z
UID:10688-1739354400-1739358000@linagalvez.eu
SUMMARY:S&D FEMM Working Group meeting
DESCRIPTION:Lina Gálvez asistirá la reunión de trabajo del grupo S&D Socialistas y Demócratas de la Comisión de Derechos de la Mujer e Igualdad de Género (FEMM)\, de la que es presidenta.
URL:https://linagalvez.eu/agenda/sd-femm-working-group-meeting-2502/
CATEGORIES:Actualidad,Destacado,FEMM,Parlamento,S&D
ATTACH;FMTTYPE=image/png:https://linagalvez.eu/wp-content/uploads/2023/01/femm_logo.png
END:VEVENT
BEGIN:VEVENT
DTSTART;TZID=Europe/Madrid:20250212T140000
DTEND;TZID=Europe/Madrid:20250212T143000
DTSTAMP:20260425T184420
CREATED:20250207T141053Z
LAST-MODIFIED:20250214T155750Z
UID:10693-1739368800-1739370600@linagalvez.eu
SUMMARY:Entrevista en 7tv para el programa de actualidad Acento Andaluz
DESCRIPTION:La eurodiputada Lina Gálvez intervendrá este miércoles 12 de febrero en Acento Andaluz \, un programa de actualidad andaluza\, dirigido y presentado por Fernando Pérez Monguió\, que se emitirá  a las 23:00 horas por todas las televisiones de 7TV en Andalucía. \nEl periodista Fernando Pérez Monguió -también jefe de informativos de la Cadena SER Andalucía- entrevistará a Lina Gálvez. \nVer noticia relacionada AQUÍ
URL:https://linagalvez.eu/agenda/entrevista-acento-andaluz-7tv-andalucia/
CATEGORIES:Actualidad,Andalucía,Destacado,Parlamento,S&D
ATTACH;FMTTYPE=image/jpeg:https://linagalvez.eu/wp-content/uploads/2023/10/neuroderechos.jpg
END:VEVENT
BEGIN:VEVENT
DTSTART;TZID=Europe/Madrid:20250212T170000
DTEND;TZID=Europe/Madrid:20250212T174500
DTSTAMP:20260425T184420
CREATED:20250207T131123Z
LAST-MODIFIED:20250210T092659Z
UID:10691-1739379600-1739382300@linagalvez.eu
SUMMARY:Reunión INTA WorkGroup S&D
DESCRIPTION:INTA WG S&D \nLa eurodiputada Lina Gálvez participará en la reunión del grupo S&D del Comité de Comercio Internacional (INTA) del Parlamento Europeo.
URL:https://linagalvez.eu/agenda/reunion-grupo-trabajo-sd-inta-25-02/
CATEGORIES:Actualidad,INTA,Parlamento,S&D
ATTACH;FMTTYPE=image/jpeg:https://linagalvez.eu/wp-content/uploads/2024/05/Lina-Galvez-UPO--scaled.jpeg
END:VEVENT
BEGIN:VEVENT
DTSTART;TZID=Europe/Madrid:20250212T181500
DTEND;TZID=Europe/Madrid:20250212T203000
DTSTAMP:20260425T184420
CREATED:20250207T083948Z
LAST-MODIFIED:20250210T091703Z
UID:10682-1739384100-1739392200@linagalvez.eu
SUMMARY:Reunión de grupo de S&D
DESCRIPTION:LGM asistirá a la reunión de grupo de Socialists & Democrats donde participará en un intercambio de opiniones y puntos de vista con otros miembros del grupo\, para debatir y coordinar estrategias sobre temas clave de la agenda política.
URL:https://linagalvez.eu/agenda/reunion-grupo-sd-2025-02-4/
CATEGORIES:Actualidad,Parlamento,S&D
ATTACH;FMTTYPE=image/png:https://linagalvez.eu/wp-content/uploads/2020/01/1-S&D.svg.png
END:VEVENT
BEGIN:VEVENT
DTSTART;TZID=Europe/Madrid:20250218T140000
DTEND;TZID=Europe/Madrid:20250218T143000
DTSTAMP:20260425T184420
CREATED:20250214T142958Z
LAST-MODIFIED:20250217T105911Z
UID:10862-1739887200-1739889000@linagalvez.eu
SUMMARY:Encuentro FEPS con jóvenes académicas y académicos
DESCRIPTION:Encuentro con jóvenes académicas y académicos organizado por la Fundación Europea de Estudios Progresistas (FEPS) al que Lina Gálvez asistirá como vicepresidenta.
URL:https://linagalvez.eu/agenda/encuentro-feps-jovenes-academics-2025-02/
CATEGORIES:Actualidad,FEPS,S&D
ATTACH;FMTTYPE=image/jpeg:https://linagalvez.eu/wp-content/uploads/2023/06/2023-06-16_Lina-Galvez_FEPS_SD.jpeg
END:VEVENT
BEGIN:VEVENT
DTSTART;TZID=Europe/Madrid:20250220T150000
DTEND;TZID=Europe/Madrid:20250220T160000
DTSTAMP:20260425T184420
CREATED:20250214T131016Z
LAST-MODIFIED:20250217T112757Z
UID:10879-1740063600-1740067200@linagalvez.eu
SUMMARY:Entrevista con organizaciones de la sociedad civil por el 8-M
DESCRIPTION:Lina Gálvez se entrevistará y grabará un encuentro con distintas organizaciones de la sociedad civil con motivo del próximo 8 de marzo\, Día Internacional de las Mujeres. \n#8Marzo2025
URL:https://linagalvez.eu/agenda/entrevista-organizaciones-sociedad-civil-8m/
CATEGORIES:Actualidad,Destacado,FEMM,Parlamento,S&D
ATTACH;FMTTYPE=image/png:https://linagalvez.eu/wp-content/uploads/2022/03/2022-03-09.png
END:VEVENT
BEGIN:VEVENT
DTSTART;TZID=Europe/Madrid:20250221T093000
DTEND;TZID=Europe/Madrid:20250221T123000
DTSTAMP:20260425T184420
CREATED:20250214T142958Z
LAST-MODIFIED:20250217T111135Z
UID:10871-1740130200-1740141000@linagalvez.eu
SUMMARY:Reunión del Comité Científico de la Fundacion Europea de Estudios Progresistas (FEPS)
DESCRIPTION:Lina Gálvez participará en la reunión como presidenta del Comité Científico de la Fundación Europea de Estudios Progresistas (FEPS).
URL:https://linagalvez.eu/agenda/reunion-comite-cientifico-feps-2025-02/
CATEGORIES:Actualidad,FEPS,S&D
ATTACH;FMTTYPE=image/jpeg:https://linagalvez.eu/wp-content/uploads/2023/06/2023-06-16_Lina-Galvez_FEPS_SD.jpeg
END:VEVENT
BEGIN:VEVENT
DTSTART;TZID=Europe/Madrid:20250224T140000
DTEND;TZID=Europe/Madrid:20250224T153000
DTSTAMP:20260425T184420
CREATED:20250224T070558Z
LAST-MODIFIED:20250224T080034Z
UID:10919-1740405600-1740411000@linagalvez.eu
SUMMARY:Debate FEPS "Día de la Solidaridad con Ucrania: una perspectiva de género para la reconstrucción de Ucrania"
DESCRIPTION:Lina Gálvez participará en el panel del debate organizado por la Fundación Europea de Estudios Progresistas (FEPS) con motivo del tercer aniversario de la invasión de Ucrania. El debate de este año se centrará en la reconstrucción de Ucrania desde una perspectiva de género.
URL:https://linagalvez.eu/agenda/debate-feps-ucrenia-solidaridad-perspectiva-genero-2025-02/
CATEGORIES:Actualidad,FEPS,S&D
ATTACH;FMTTYPE=image/jpeg:https://linagalvez.eu/wp-content/uploads/2023/06/2023-06-16_Lina-Galvez_FEPS_SD.jpeg
END:VEVENT
BEGIN:VEVENT
DTSTART;TZID=Europe/Madrid:20250227T110000
DTEND;TZID=Europe/Madrid:20250227T200000
DTSTAMP:20260425T184420
CREATED:20250224T072016Z
LAST-MODIFIED:20250224T090159Z
UID:10925-1740654000-1740686400@linagalvez.eu
SUMMARY:Conmemoración del Día Internacional de las Mujeres en la EPLO de Barcelona
DESCRIPTION:La Oficina del Parlamento Europeo en Barcelona conmemora con Lina Gálvez el Día Internacional de las Mujeres el 27 de febrero. Durante el día\, la eurodiputada: \n– Se reunirá con la consellera de Igualdad y Feminismo del Gobierno de la Generalitat de Catalunya\, Eva Menor Cantador. \n– Se reunirá con la presidenta de la comisión de Igualdad de Foment\, Beatriz Fernández-Tubau\, la responsable de Igualdad en Foment\, Mireia Recio\, y el director de Laboral de Foment\, Javier Ibars. \n– Participará en un encuentro con creadoras de contenido. \n– Participará en el #afterwork de elPeriódico. Más información e inscripción AQUÍ. \n#8Marzo2025
URL:https://linagalvez.eu/agenda/conmemoracion-dia-mujeres-eplo-barcelona-2025/
CATEGORIES:Actualidad,Destacado,FEMM,Parlamento,S&D
ATTACH;FMTTYPE=image/jpeg:https://linagalvez.eu/wp-content/uploads/lina-galvez-afterowork-27F-2025.jpg
END:VEVENT
BEGIN:VEVENT
DTSTART;TZID=Europe/Madrid:20250228T120000
DTEND;TZID=Europe/Madrid:20250228T150000
DTSTAMP:20260425T184420
CREATED:20250224T074014Z
LAST-MODIFIED:20250224T094427Z
UID:10929-1740744000-1740754800@linagalvez.eu
SUMMARY:Acto de entrega de Medallas de Andalucía 2025
DESCRIPTION:Lina Gálvez asistirá al acto de entrega de Medallas de Andalucía 2025 de la Junta de Andalucía celebrado con motivo del Día de Andalucía el 28 de febrero.
URL:https://linagalvez.eu/agenda/acto-entregalmedallas-andalucia-2025/
CATEGORIES:Andalucía,Destacado,Parlamento,S&D
ATTACH;FMTTYPE=image/jpeg:https://linagalvez.eu/wp-content/uploads/2023/12/Lina-Galvez_G1A3197-scaled.jpg
END:VEVENT
END:VCALENDAR