BEGIN:VCALENDAR
VERSION:2.0
PRODID:-//Lina Gálvez - ECPv6.15.20//NONSGML v1.0//EN
CALSCALE:GREGORIAN
METHOD:PUBLISH
X-WR-CALNAME:Lina Gálvez
X-ORIGINAL-URL:https://linagalvez.eu
X-WR-CALDESC:Eventos para Lina Gálvez
REFRESH-INTERVAL;VALUE=DURATION:PT1H
X-Robots-Tag:noindex
X-PUBLISHED-TTL:PT1H
BEGIN:VTIMEZONE
TZID:Europe/Madrid
BEGIN:DAYLIGHT
TZOFFSETFROM:+0100
TZOFFSETTO:+0200
TZNAME:CEST
DTSTART:20240331T010000
END:DAYLIGHT
BEGIN:STANDARD
TZOFFSETFROM:+0200
TZOFFSETTO:+0100
TZNAME:CET
DTSTART:20241027T010000
END:STANDARD
BEGIN:DAYLIGHT
TZOFFSETFROM:+0100
TZOFFSETTO:+0200
TZNAME:CEST
DTSTART:20250330T010000
END:DAYLIGHT
BEGIN:STANDARD
TZOFFSETFROM:+0200
TZOFFSETTO:+0100
TZNAME:CET
DTSTART:20251026T010000
END:STANDARD
BEGIN:DAYLIGHT
TZOFFSETFROM:+0100
TZOFFSETTO:+0200
TZNAME:CEST
DTSTART:20260329T010000
END:DAYLIGHT
BEGIN:STANDARD
TZOFFSETFROM:+0200
TZOFFSETTO:+0100
TZNAME:CET
DTSTART:20261025T010000
END:STANDARD
END:VTIMEZONE
BEGIN:VEVENT
DTSTART;TZID=Europe/Madrid:20250501T100000
DTEND;TZID=Europe/Madrid:20250501T130000
DTSTAMP:20260426T000920
CREATED:20250423T224431Z
LAST-MODIFIED:20250429T092239Z
UID:11603-1746093600-1746104400@linagalvez.eu
SUMMARY:1 de mayo Día internacional lxs trabajadorxs. Participación en la convocatoria sindical. Sevilla
DESCRIPTION:La eurodiputada Lina Gálvez participará en las movilizaciones convocadas por los principales sindicatos con motivo del 1 de mayo sumándose a la manifestación de Sevilla junto al Secretario General de los socialistas Sevillanos Javier Fernández y la Secretaria General de los socialistas andaluces\, María Jesús Montero. \nFuente de la imagen: Foto de archivo. Lina Gálvez en la manifestación del Primero de Mayo de 2023. En esta web se realiza un uso justo y no comercial de la imagen.
URL:https://linagalvez.eu/agenda/1-de-mayo-dia-internacional-lxs-trabajadorxs-2025/
CATEGORIES:Actualidad,Andalucía,S&D
ATTACH;FMTTYPE=image/jpeg:https://linagalvez.eu/wp-content/uploads/2023/05/1MayoLGM.jpg
END:VEVENT
BEGIN:VEVENT
DTSTART;TZID=Europe/Madrid:20250505T160000
DTEND;TZID=Europe/Madrid:20250505T170000
DTSTAMP:20260426T000920
CREATED:20250502T073948Z
LAST-MODIFIED:20250505T073547Z
UID:11637-1746460800-1746464400@linagalvez.eu
SUMMARY:Reunión de grupo de S&D
DESCRIPTION:LGM asistirá a la reunión de grupo de Socialists & Democrats donde participará en un intercambio de opiniones y puntos de vista con otros miembros del grupo\, para debatir y coordinar estrategias sobre temas clave de la agenda política.
URL:https://linagalvez.eu/agenda/reunion-grupo-sd-2025-05/
CATEGORIES:Actualidad,Parlamento,S&D
ATTACH;FMTTYPE=image/png:https://linagalvez.eu/wp-content/uploads/2020/01/1-S&D.svg.png
END:VEVENT
BEGIN:VEVENT
DTSTART;TZID=Europe/Madrid:20250505T183000
DTEND;TZID=Europe/Madrid:20250505T193000
DTSTAMP:20260426T000920
CREATED:20250502T075215Z
LAST-MODIFIED:20250505T073803Z
UID:11639-1746469800-1746473400@linagalvez.eu
SUMMARY:Reunión PSOE
DESCRIPTION:Reunión de coordinación del Partido Socialista.
URL:https://linagalvez.eu/agenda/reunion-psoe-202505/
CATEGORIES:Actualidad,S&D
ATTACH;FMTTYPE=image/jpeg:https://linagalvez.eu/wp-content/uploads/2024/05/Mas-Europa.jpeg
END:VEVENT
BEGIN:VEVENT
DTSTART;TZID=Europe/Madrid:20250506T090000
DTEND;TZID=Europe/Madrid:20250506T094500
DTSTAMP:20260426T000920
CREATED:20250502T073947Z
LAST-MODIFIED:20250505T071952Z
UID:11629-1746522000-1746524700@linagalvez.eu
SUMMARY:S&D FEMM Working Group meeting
DESCRIPTION:Lina Gálvez asistirá la reunión de trabajo del grupo S&D Socialistas y Demócratas de la Comisión de Derechos de la Mujer e Igualdad de Género (FEMM)\, de la que es presidenta.
URL:https://linagalvez.eu/agenda/sd-femm-working-group-meeting-2505/
CATEGORIES:Actualidad,Destacado,FEMM,Parlamento,S&D
ATTACH;FMTTYPE=image/png:https://linagalvez.eu/wp-content/uploads/2023/01/femm_logo.png
END:VEVENT
BEGIN:VEVENT
DTSTART;TZID=Europe/Madrid:20250506T110000
DTEND;TZID=Europe/Madrid:20250506T120000
DTSTAMP:20260426T000920
CREATED:20250502T073947Z
LAST-MODIFIED:20250505T074256Z
UID:11644-1746529200-1746532800@linagalvez.eu
SUMMARY:S&D ITRE Working Group meeting
DESCRIPTION:Lina Gálvez asistirá a la reunión del grupo S&D de la Comisión de Industria\, Investigación y Energía (ITRE)\, de la que la eurodiputada forma parte.
URL:https://linagalvez.eu/agenda/sd-itre-working-group-meeting-25-05/
CATEGORIES:Actualidad,ITRE,Parlamento,S&D
ATTACH;FMTTYPE=image/jpeg:https://linagalvez.eu/wp-content/uploads/2025_01-Lina-ITRE.jpg
END:VEVENT
BEGIN:VEVENT
DTSTART;TZID=Europe/Madrid:20250506T130000
DTEND;TZID=Europe/Madrid:20250506T140000
DTSTAMP:20260426T000920
CREATED:20250502T073947Z
LAST-MODIFIED:20250505T074601Z
UID:11648-1746536400-1746540000@linagalvez.eu
SUMMARY:Reunión de trabajo de la DSE.
DESCRIPTION:Lina Gálvez asistirá a la reunión de la Delegación Socialista Española para debatir y coordinar estrategias sobre temas clave de la agenda política.
URL:https://linagalvez.eu/agenda/sd-reunion-delegacion-socialista-espanola-dse-25-05/
CATEGORIES:Actualidad,Parlamento,S&D
ATTACH;FMTTYPE=image/jpeg:https://linagalvez.eu/wp-content/uploads/2024/07/GP-Socialista-X-Legislatura.jpeg
END:VEVENT
BEGIN:VEVENT
DTSTART;TZID=Europe/Madrid:20250506T183000
DTEND;TZID=Europe/Madrid:20250506T210000
DTSTAMP:20260426T000920
CREATED:20250502T073948Z
LAST-MODIFIED:20250505T073926Z
UID:11642-1746556200-1746565200@linagalvez.eu
SUMMARY:Reunión de grupo de S&D
DESCRIPTION:LGM asistirá a la reunión de grupo de Socialists & Democrats donde participará en un intercambio de opiniones y puntos de vista con otros miembros del grupo\, para debatir y coordinar estrategias sobre temas clave de la agenda política.
URL:https://linagalvez.eu/agenda/reunion-grupo-sd-2025-05-2/
CATEGORIES:Actualidad,Parlamento,S&D
ATTACH;FMTTYPE=image/png:https://linagalvez.eu/wp-content/uploads/2020/01/1-S&D.svg.png
END:VEVENT
BEGIN:VEVENT
DTSTART;TZID=Europe/Madrid:20250508T173000
DTEND;TZID=Europe/Madrid:20250508T183000
DTSTAMP:20260426T000920
CREATED:20250502T075215Z
LAST-MODIFIED:20250505T074944Z
UID:11656-1746725400-1746729000@linagalvez.eu
SUMMARY:Reunión PSOE
DESCRIPTION:Reunión de coordinación del Partido Socialista.
URL:https://linagalvez.eu/agenda/reunion-psoe-202505-2/
CATEGORIES:Actualidad,S&D
ATTACH;FMTTYPE=image/jpeg:https://linagalvez.eu/wp-content/uploads/2024/05/Mas-Europa.jpeg
END:VEVENT
BEGIN:VEVENT
DTSTART;TZID=Europe/Madrid:20250516T103000
DTEND;TZID=Europe/Madrid:20250516T113000
DTSTAMP:20260426T000920
CREATED:20250509T075215Z
LAST-MODIFIED:20250512T080412Z
UID:11745-1747391400-1747395000@linagalvez.eu
SUMMARY:Reunión del Consejo Asesor de la Secretaría de Política Internacional y Cooperación al Desarrollo del PSOE
DESCRIPTION:Lina Gálvez participará en la reunión de coordinación de la Secretaria de Política Internacional y Cooperación al Desarrollo del Partido Socialista en calidad de Secretaria para la Unión Europea e Internacional de la Ejecutiva del PSOE de Andalucía (2021-actualidad). El encuentro se celebrará en formato presencial (sede federal del PSOE en Ferraz) y virtual.
URL:https://linagalvez.eu/agenda/reunion-politica-internacional-cooperacion-psoe-202505/
CATEGORIES:Actualidad,S&D
ATTACH;FMTTYPE=image/jpeg:https://linagalvez.eu/wp-content/uploads/2024/05/Mas-Europa.jpeg
END:VEVENT
BEGIN:VEVENT
DTSTART;TZID=Europe/Madrid:20250516T120000
DTEND;TZID=Europe/Madrid:20250516T130000
DTSTAMP:20260426T000920
CREATED:20250509T065259Z
LAST-MODIFIED:20250512T080951Z
UID:11748-1747396800-1747400400@linagalvez.eu
SUMMARY:Reunión de coordinación con el Comité Europeo de las Regiones (COR)
DESCRIPTION:Lina Gálvez se reunirá con responsables de coordinación de políticas del Grupo del Partido Socialista Europeo (PES) en el Comité Europeo de las Regiones. Se abordará el trabajo conjunto en materia de igualdad de género\, especialmente con la portavoz del CoR en este ámbito.
URL:https://linagalvez.eu/agenda/reunion-coordinacion-comite-europeo-regiones-cor-202505/
CATEGORIES:Actualidad,Andalucía,Autonomía estratégica,Parlamento,S&D
ATTACH;FMTTYPE=image/jpeg:https://linagalvez.eu/wp-content/uploads/Intervencion-LGM-Pleno-PE-investigadorxs-europeos-en-EEUU-20250331.jpg
END:VEVENT
BEGIN:VEVENT
DTSTART;TZID=Europe/Madrid:20250520T110000
DTEND;TZID=Europe/Madrid:20250520T123000
DTSTAMP:20260426T000920
CREATED:20250516T133737Z
LAST-MODIFIED:20250519T081422Z
UID:11788-1747738800-1747744200@linagalvez.eu
SUMMARY:Grupo de Trabajo Horizonte Europa. ITRE.
DESCRIPTION:Lina Gálvez asistirá al grupo de trabajo sobre Horizonte Europa de la Comisión de Industria\, Investigación y Energía (ITRE)\, como miembro de la Comisión\, donde el Director General de I+D\, Marc Lemaître\, presentará la evaluación intermedia de Horizonte Europa.
URL:https://linagalvez.eu/agenda/grupo-trabajo-horizonte-europa-itre-25-05/
CATEGORIES:ITRE,S&D,STOA
ATTACH;FMTTYPE=image/jpeg:https://linagalvez.eu/wp-content/uploads/horizonEurope.jpg
END:VEVENT
BEGIN:VEVENT
DTSTART;TZID=Europe/Madrid:20250526T200000
DTEND;TZID=Europe/Madrid:20250526T210000
DTSTAMP:20260426T000920
CREATED:20250523T070015Z
LAST-MODIFIED:20250526T084812Z
UID:11876-1748289600-1748293200@linagalvez.eu
SUMMARY:Encuentro comarcal del PSOE de la Janda en Barbate
DESCRIPTION:El PSOE de la Janda en Barbate llevará a cabo un encuentro comarcal con Lina Gálvez sobre las políticas europeas que afectan a los municipios de La Janda.
URL:https://linagalvez.eu/agenda/encuentro-comarcal-psoe-la-janda-barbate-202505/
CATEGORIES:Actualidad,Andalucía,Destacado,S&D
ATTACH;FMTTYPE=image/jpeg:https://linagalvez.eu/wp-content/uploads/2025/02/2025-02-03_Lina-Galvez_PSOE-A.jpg
END:VEVENT
END:VCALENDAR