BEGIN:VCALENDAR
VERSION:2.0
PRODID:-//Lina Gálvez - ECPv6.15.20//NONSGML v1.0//EN
CALSCALE:GREGORIAN
METHOD:PUBLISH
X-WR-CALNAME:Lina Gálvez
X-ORIGINAL-URL:https://linagalvez.eu
X-WR-CALDESC:Eventos para Lina Gálvez
REFRESH-INTERVAL;VALUE=DURATION:PT1H
X-Robots-Tag:noindex
X-PUBLISHED-TTL:PT1H
BEGIN:VTIMEZONE
TZID:Europe/Madrid
BEGIN:DAYLIGHT
TZOFFSETFROM:+0100
TZOFFSETTO:+0200
TZNAME:CEST
DTSTART:20230326T010000
END:DAYLIGHT
BEGIN:STANDARD
TZOFFSETFROM:+0200
TZOFFSETTO:+0100
TZNAME:CET
DTSTART:20231029T010000
END:STANDARD
BEGIN:DAYLIGHT
TZOFFSETFROM:+0100
TZOFFSETTO:+0200
TZNAME:CEST
DTSTART:20240331T010000
END:DAYLIGHT
BEGIN:STANDARD
TZOFFSETFROM:+0200
TZOFFSETTO:+0100
TZNAME:CET
DTSTART:20241027T010000
END:STANDARD
BEGIN:DAYLIGHT
TZOFFSETFROM:+0100
TZOFFSETTO:+0200
TZNAME:CEST
DTSTART:20250330T010000
END:DAYLIGHT
BEGIN:STANDARD
TZOFFSETFROM:+0200
TZOFFSETTO:+0100
TZNAME:CET
DTSTART:20251026T010000
END:STANDARD
END:VTIMEZONE
BEGIN:VEVENT
DTSTART;TZID=Europe/Madrid:20240917T090000
DTEND;TZID=Europe/Madrid:20240917T094500
DTSTAMP:20260426T020847
CREATED:20240916T103014Z
LAST-MODIFIED:20240916T123735Z
UID:9669-1726563600-1726566300@linagalvez.eu
SUMMARY:S&D FEMM Working Group meeting
DESCRIPTION:Lina Gálvez participará en la reunión del grupo de Socialistas y Demócratas de la Comisión de Derechos de la Mujer e Igualdad de Género\, de la que es presidenta.
URL:https://linagalvez.eu/agenda/sd-femm-working-group-meeting-2409-2/
CATEGORIES:Actualidad,FEMM,Parlamento,S&D
ATTACH;FMTTYPE=image/png:https://linagalvez.eu/wp-content/uploads/2023/01/femm_logo.png
END:VEVENT
BEGIN:VEVENT
DTSTART;TZID=Europe/Madrid:20240917T110000
DTEND;TZID=Europe/Madrid:20240917T120000
DTSTAMP:20260426T020847
CREATED:20240913T093955Z
LAST-MODIFIED:20240916T101839Z
UID:9671-1726570800-1726574400@linagalvez.eu
SUMMARY:S&D ITRE Working Group meeting
DESCRIPTION:Lina Gálvez asistirá a la reunión del grupo S&D de la Comisión de Industria\, Investigación y Energía (ITRE).
URL:https://linagalvez.eu/agenda/sd-itre-working-group-meeting-4-2/
CATEGORIES:Actualidad,ITRE,Parlamento,S&D
ATTACH;FMTTYPE=image/png:https://linagalvez.eu/wp-content/uploads/2020/09/ITRE.-Logo.png
END:VEVENT
BEGIN:VEVENT
DTSTART;TZID=Europe/Madrid:20240917T170000
DTEND;TZID=Europe/Madrid:20240917T183000
DTSTAMP:20260426T020847
CREATED:20240913T103920Z
LAST-MODIFIED:20240916T105129Z
UID:9676-1726592400-1726597800@linagalvez.eu
SUMMARY:Entrevista para Televisión Española
DESCRIPTION:Lina Gálvez ofrecerá una entrevista para TVE\, en la que abordará temas relacionados con su trabajo y la agenda de igualdad en Europa.
URL:https://linagalvez.eu/agenda/entrevista-rtve-202409/
CATEGORIES:Actualidad,Parlamento,S&D
ATTACH;FMTTYPE=image/jpeg:https://linagalvez.eu/wp-content/uploads/2023/01/hq720.jpg
END:VEVENT
BEGIN:VEVENT
DTSTART;TZID=Europe/Madrid:20240917T183000
DTEND;TZID=Europe/Madrid:20240917T210000
DTSTAMP:20260426T020847
CREATED:20240916T103014Z
LAST-MODIFIED:20240916T105656Z
UID:9687-1726597800-1726606800@linagalvez.eu
SUMMARY:Reunión de trabajo del grupo S&D
DESCRIPTION:LGM asistirá a la reunión de grupo de Socialists & Democrats donde participará en un intercambio de opiniones y puntos de vista con otros miembros del grupo\, para debatir y coordinar estrategias sobre temas clave de la agenda política.
URL:https://linagalvez.eu/agenda/reunion-grupo-sd-2409-3/
CATEGORIES:Actualidad,Parlamento,S&D
ATTACH;FMTTYPE=image/jpeg:https://linagalvez.eu/wp-content/uploads/2023/01/weekly-update-sd.jpg
END:VEVENT
END:VCALENDAR