BEGIN:VCALENDAR
VERSION:2.0
PRODID:-//Lina Gálvez - ECPv6.15.20//NONSGML v1.0//EN
CALSCALE:GREGORIAN
METHOD:PUBLISH
X-WR-CALNAME:Lina Gálvez
X-ORIGINAL-URL:https://linagalvez.eu
X-WR-CALDESC:Eventos para Lina Gálvez
REFRESH-INTERVAL;VALUE=DURATION:PT1H
X-Robots-Tag:noindex
X-PUBLISHED-TTL:PT1H
BEGIN:VTIMEZONE
TZID:Europe/Madrid
BEGIN:DAYLIGHT
TZOFFSETFROM:+0100
TZOFFSETTO:+0200
TZNAME:CEST
DTSTART:20230326T010000
END:DAYLIGHT
BEGIN:STANDARD
TZOFFSETFROM:+0200
TZOFFSETTO:+0100
TZNAME:CET
DTSTART:20231029T010000
END:STANDARD
BEGIN:DAYLIGHT
TZOFFSETFROM:+0100
TZOFFSETTO:+0200
TZNAME:CEST
DTSTART:20240331T010000
END:DAYLIGHT
BEGIN:STANDARD
TZOFFSETFROM:+0200
TZOFFSETTO:+0100
TZNAME:CET
DTSTART:20241027T010000
END:STANDARD
BEGIN:DAYLIGHT
TZOFFSETFROM:+0100
TZOFFSETTO:+0200
TZNAME:CEST
DTSTART:20250330T010000
END:DAYLIGHT
BEGIN:STANDARD
TZOFFSETFROM:+0200
TZOFFSETTO:+0100
TZNAME:CET
DTSTART:20251026T010000
END:STANDARD
END:VTIMEZONE
BEGIN:VEVENT
DTSTART;TZID=Europe/Madrid:20241009T104500
DTEND;TZID=Europe/Madrid:20241009T111500
DTSTAMP:20260426T000910
CREATED:20241004T190556Z
LAST-MODIFIED:20241014T073826Z
UID:9846-1728470700-1728472500@linagalvez.eu
SUMMARY:Reunión con el Presidente del Comité Económico y Social Europeo
DESCRIPTION:Lina Gálvez mantendrá una reunión con el Sr. Oliver Röpke\, Presidente del Comité Económico y Social Europeo
URL:https://linagalvez.eu/agenda/reunion-presidente-comite-economico-social-europeo/
CATEGORIES:Destacado,Parlamento,S&D
ATTACH;FMTTYPE=image/png:https://linagalvez.eu/wp-content/uploads/2024/10/EESC-2-LGM_.png
END:VEVENT
BEGIN:VEVENT
DTSTART;TZID=Europe/Madrid:20241009T170000
DTEND;TZID=Europe/Madrid:20241009T174500
DTSTAMP:20260426T000910
CREATED:20241004T121123Z
LAST-MODIFIED:20241007T084700Z
UID:9852-1728493200-1728495900@linagalvez.eu
SUMMARY:Reunión INTA WorkGroup S&D
DESCRIPTION:INTA WG S&D \nLa eurodiputada Lina Gálvez participará en la reunión del grupo S&D del Comité de Comercio Internacional (INTA) del Parlamento Europeo.
URL:https://linagalvez.eu/agenda/reunion-grupo-trabajo-sd-inta-24-10/
CATEGORIES:Actualidad,INTA,Parlamento,S&D
ATTACH;FMTTYPE=image/jpeg:https://linagalvez.eu/wp-content/uploads/2024/05/Lina-Galvez-UPO--scaled.jpeg
END:VEVENT
BEGIN:VEVENT
DTSTART;TZID=Europe/Madrid:20241009T181500
DTEND;TZID=Europe/Madrid:20241009T203000
DTSTAMP:20260426T000910
CREATED:20241004T103014Z
LAST-MODIFIED:20241007T084955Z
UID:9854-1728497700-1728505800@linagalvez.eu
SUMMARY:Reunión de grupo de S&D
DESCRIPTION:LGM asistirá a la reunión de grupo de Socialists & Democrats donde participará en un intercambio de opiniones y puntos de vista con otros miembros del grupo\, para debatir y coordinar estrategias sobre temas clave de la agenda política.
URL:https://linagalvez.eu/agenda/reunion-grupo-sd-2024-10/
CATEGORIES:Actualidad,Parlamento,S&D
ATTACH;FMTTYPE=image/png:https://linagalvez.eu/wp-content/uploads/2020/01/1-S&D.svg.png
END:VEVENT
END:VCALENDAR