BEGIN:VCALENDAR
VERSION:2.0
PRODID:-//Lina Gálvez - ECPv6.15.20//NONSGML v1.0//EN
CALSCALE:GREGORIAN
METHOD:PUBLISH
X-WR-CALNAME:Lina Gálvez
X-ORIGINAL-URL:https://linagalvez.eu
X-WR-CALDESC:Eventos para Lina Gálvez
REFRESH-INTERVAL;VALUE=DURATION:PT1H
X-Robots-Tag:noindex
X-PUBLISHED-TTL:PT1H
BEGIN:VTIMEZONE
TZID:Europe/Madrid
BEGIN:DAYLIGHT
TZOFFSETFROM:+0100
TZOFFSETTO:+0200
TZNAME:CEST
DTSTART:20240331T010000
END:DAYLIGHT
BEGIN:STANDARD
TZOFFSETFROM:+0200
TZOFFSETTO:+0100
TZNAME:CET
DTSTART:20241027T010000
END:STANDARD
BEGIN:DAYLIGHT
TZOFFSETFROM:+0100
TZOFFSETTO:+0200
TZNAME:CEST
DTSTART:20250330T010000
END:DAYLIGHT
BEGIN:STANDARD
TZOFFSETFROM:+0200
TZOFFSETTO:+0100
TZNAME:CET
DTSTART:20251026T010000
END:STANDARD
BEGIN:DAYLIGHT
TZOFFSETFROM:+0100
TZOFFSETTO:+0200
TZNAME:CEST
DTSTART:20260329T010000
END:DAYLIGHT
BEGIN:STANDARD
TZOFFSETFROM:+0200
TZOFFSETTO:+0100
TZNAME:CET
DTSTART:20261025T010000
END:STANDARD
END:VTIMEZONE
BEGIN:VEVENT
DTSTART;TZID=Europe/Madrid:20250129T170000
DTEND;TZID=Europe/Madrid:20250129T183000
DTSTAMP:20260425T184442
CREATED:20250124T142958Z
LAST-MODIFIED:20250127T141001Z
UID:10583-1738170000-1738175400@linagalvez.eu
SUMMARY:Recepción de nuevo año y lanzamiento del Anuario Progresista 2025 de la FEPS
DESCRIPTION:Lina Gálvez\, como miembro de la Fundación para los Estudios Progresistas Europeos (FEPS)\, asistirá a la reunión en la que se lanzará la sexta edición del Anuario Progresista\, publicación anual de la FEPS que tiene como objetivo captar el sentido de los debates europeos y globales más relevantes en 2024.
URL:https://linagalvez.eu/agenda/recepcion-nuevo-ano-lanzamiento-anuario-progresista-2025-feps/
CATEGORIES:Actualidad,FEPS,S&D
ATTACH;FMTTYPE=image/jpeg:https://linagalvez.eu/wp-content/uploads/2023/06/2023-06-16_Lina-Galvez_FEPS_SD.jpeg
END:VEVENT
END:VCALENDAR