BEGIN:VCALENDAR
VERSION:2.0
PRODID:-//Lina Gálvez - ECPv6.15.20//NONSGML v1.0//EN
CALSCALE:GREGORIAN
METHOD:PUBLISH
X-ORIGINAL-URL:https://linagalvez.eu
X-WR-CALDESC:Eventos para Lina Gálvez
REFRESH-INTERVAL;VALUE=DURATION:PT1H
X-Robots-Tag:noindex
X-PUBLISHED-TTL:PT1H
BEGIN:VTIMEZONE
TZID:Europe/Madrid
BEGIN:DAYLIGHT
TZOFFSETFROM:+0100
TZOFFSETTO:+0200
TZNAME:CEST
DTSTART:20240331T010000
END:DAYLIGHT
BEGIN:STANDARD
TZOFFSETFROM:+0200
TZOFFSETTO:+0100
TZNAME:CET
DTSTART:20241027T010000
END:STANDARD
BEGIN:DAYLIGHT
TZOFFSETFROM:+0100
TZOFFSETTO:+0200
TZNAME:CEST
DTSTART:20250330T010000
END:DAYLIGHT
BEGIN:STANDARD
TZOFFSETFROM:+0200
TZOFFSETTO:+0100
TZNAME:CET
DTSTART:20251026T010000
END:STANDARD
BEGIN:DAYLIGHT
TZOFFSETFROM:+0100
TZOFFSETTO:+0200
TZNAME:CEST
DTSTART:20260329T010000
END:DAYLIGHT
BEGIN:STANDARD
TZOFFSETFROM:+0200
TZOFFSETTO:+0100
TZNAME:CET
DTSTART:20261025T010000
END:STANDARD
END:VTIMEZONE
BEGIN:VEVENT
DTSTART;TZID=Europe/Madrid:20250626T110000
DTEND;TZID=Europe/Madrid:20250626T123000
DTSTAMP:20260426T053345
CREATED:20250620T073947Z
LAST-MODIFIED:20250624T100239Z
UID:12123-1750935600-1750941000@linagalvez.eu
SUMMARY:Reunión de la Comisión de Industria\, Investigación y Energía (ITRE)
DESCRIPTION:Lina Gálvez asistirá a la reunión de la Comisión de Industria\, Investigación y Energía (ITRE)\, de la que forma parte\, donde se llevará a cabo un intercambio de puntos de vista con Ekaterina Zaharieva\, comisaria de Startups\, Investigación e Innovación\, sobre la estrategia de la UE para las empresas emergentes y en expansión. \nVer en streaming aquí
URL:https://linagalvez.eu/agenda/reunion-comision-industria-investigacion-energia-itre-25-06-2/
CATEGORIES:Actualidad,ITRE,Parlamento,S&D
ATTACH;FMTTYPE=image/png:https://linagalvez.eu/wp-content/uploads/2020/09/ITRE.-Logo.png
END:VEVENT
BEGIN:VEVENT
DTSTART;TZID=Europe/Madrid:20250626T170000
DTEND;TZID=Europe/Madrid:20250626T174500
DTSTAMP:20260426T053345
CREATED:20250620T102518Z
LAST-MODIFIED:20250624T103330Z
UID:12134-1750957200-1750959900@linagalvez.eu
SUMMARY:Panel "Make Europe Trade Again" en la Escuela de Verano del Partido Democrático italiano
DESCRIPTION:Lina Gálvez participará como ponente en el panel «Make Europe Trade Again»\, organizado en el marco de la Escuela de Verano del Partido Democrático italiano\, que se celebra en Bruselas del 25 al 28 de junio. El debate tendrá lugar el jueves 26 de junio a las 17:00 en el Parlamento Europeo (sala 3H1)\, y se centrará en las relaciones comerciales entre la Unión Europea y Estados Unidos\, así como en los retos que enfrenta Europa ante la incertidumbre comercial global. Lina compartirá mesa con figuras como el senador italiano Antonio Misiani y el director general adjunto de Comercio de la Comisión Europea\, Leopoldo Rubinacci.
URL:https://linagalvez.eu/agenda/panel-make-europe-trade-again-escuela-verano-partido-democratico-italiano/
CATEGORIES:Actualidad,INTA,Parlamento,S&D
ATTACH;FMTTYPE=image/png:https://linagalvez.eu/wp-content/uploads/partitodemocraticoitaliano.png
END:VEVENT
BEGIN:VEVENT
DTSTART;TZID=Europe/Madrid:20250626T174500
DTEND;TZID=Europe/Madrid:20250626T183000
DTSTAMP:20260426T053345
CREATED:20250620T102518Z
LAST-MODIFIED:20250624T103726Z
UID:12138-1750959900-1750962600@linagalvez.eu
SUMMARY:Panel "Europa de los derechos" en la Escuela de Verano del Partido Democrático italiano
DESCRIPTION:Lina Gálvez intervendrá en el seminario «Europa de los derechos» (l’Europa dei diritti)\, organizado en el marco de la Escuela de Verano del Partido Democrático italiano en el Parlamento Europeo. En calidad de presidenta de la Comisión de Derechos de las Mujeres e Igualdad de Género (FEMM)\, la eurodiputada aportará una perspectiva de género al debate sobre los derechos fundamentales en la Unión Europea\, dirigido a jóvenes activistas y miembros del partido.
URL:https://linagalvez.eu/agenda/panel-europa-derechos-escuela-verano-partido-democratico-italiano/
CATEGORIES:Actualidad,FEMM,Parlamento,S&D
ATTACH;FMTTYPE=image/png:https://linagalvez.eu/wp-content/uploads/partitodemocraticoitaliano.png
END:VEVENT
END:VCALENDAR