BEGIN:VCALENDAR
VERSION:2.0
PRODID:-//Lina Gálvez - ECPv6.15.20//NONSGML v1.0//EN
CALSCALE:GREGORIAN
METHOD:PUBLISH
X-ORIGINAL-URL:https://linagalvez.eu
X-WR-CALDESC:Eventos para Lina Gálvez
REFRESH-INTERVAL;VALUE=DURATION:PT1H
X-Robots-Tag:noindex
X-PUBLISHED-TTL:PT1H
BEGIN:VTIMEZONE
TZID:Europe/Madrid
BEGIN:DAYLIGHT
TZOFFSETFROM:+0100
TZOFFSETTO:+0200
TZNAME:CEST
DTSTART:20240331T010000
END:DAYLIGHT
BEGIN:STANDARD
TZOFFSETFROM:+0200
TZOFFSETTO:+0100
TZNAME:CET
DTSTART:20241027T010000
END:STANDARD
BEGIN:DAYLIGHT
TZOFFSETFROM:+0100
TZOFFSETTO:+0200
TZNAME:CEST
DTSTART:20250330T010000
END:DAYLIGHT
BEGIN:STANDARD
TZOFFSETFROM:+0200
TZOFFSETTO:+0100
TZNAME:CET
DTSTART:20251026T010000
END:STANDARD
BEGIN:DAYLIGHT
TZOFFSETFROM:+0100
TZOFFSETTO:+0200
TZNAME:CEST
DTSTART:20260329T010000
END:DAYLIGHT
BEGIN:STANDARD
TZOFFSETFROM:+0200
TZOFFSETTO:+0100
TZNAME:CET
DTSTART:20261025T010000
END:STANDARD
END:VTIMEZONE
BEGIN:VEVENT
DTSTART;TZID=Europe/Madrid:20251118T090000
DTEND;TZID=Europe/Madrid:20251118T094500
DTSTAMP:20260420T025938
CREATED:20251114T111627Z
LAST-MODIFIED:20251117T104444Z
UID:12919-1763456400-1763459100@linagalvez.eu
SUMMARY:S&D INTA Working Group
DESCRIPTION:Lina Gálvez participará en la reunión del grupo S&D de la Comisión de Comercio Internacional (INTA) del Parlamento Europeo\, de la que forma parte.
URL:https://linagalvez.eu/agenda/sd-inta-working-group-meeting-25-11/
CATEGORIES:Actualidad,INTA,Parlamento,S&D
ATTACH;FMTTYPE=image/jpeg:https://linagalvez.eu/wp-content/uploads/2024/09/INTA-16-9.jpeg
END:VEVENT
BEGIN:VEVENT
DTSTART;TZID=Europe/Madrid:20251118T090000
DTEND;TZID=Europe/Madrid:20251118T104500
DTSTAMP:20260420T025938
CREATED:20260410T132958Z
LAST-MODIFIED:20260415T084041Z
UID:14021-1763456400-1763462700@linagalvez.eu
SUMMARY:Reunión del Comité Científico de la Fundacion Europea de Estudios Progresistas (FEPS)
DESCRIPTION:El Comité Científico de la Fundación Europea de Estudios Progresistas (FEPS)\, presidido por Lina Gálvez\, se reunirá en Barcelona en el contexto de la Global Progressive Mobilisation.
URL:https://linagalvez.eu/agenda/reunion-comite-cientifico-feps-2026-04/
CATEGORIES:Actualidad,FEPS,S&D
ATTACH;FMTTYPE=image/jpeg:https://linagalvez.eu/wp-content/uploads/2023/06/2023-06-16_Lina-Galvez_FEPS_SD.jpeg
END:VEVENT
BEGIN:VEVENT
DTSTART;TZID=Europe/Madrid:20251118T103000
DTEND;TZID=Europe/Madrid:20251118T111500
DTSTAMP:20260420T025938
CREATED:20251114T083947Z
LAST-MODIFIED:20251117T110128Z
UID:12923-1763461800-1763464500@linagalvez.eu
SUMMARY:S&D ITRE Working Group meeting
DESCRIPTION:Lina Gálvez participará en la reunión del grupo S&D de la Comisión de Industria\, Investigación y Energía (ITRE) para debatir sobre políticas energéticas y de investigación.
URL:https://linagalvez.eu/agenda/sd-itre-working-group-meeting-25-11/
CATEGORIES:Actualidad,ITRE,Parlamento,S&D
ATTACH;FMTTYPE=image/jpeg:https://linagalvez.eu/wp-content/uploads/2025_01-Lina-ITRE.jpg
END:VEVENT
BEGIN:VEVENT
DTSTART;TZID=Europe/Madrid:20251118T143000
DTEND;TZID=Europe/Madrid:20251118T163000
DTSTAMP:20260420T025938
CREATED:20251114T142958Z
LAST-MODIFIED:20251117T110417Z
UID:12925-1763476200-1763483400@linagalvez.eu
SUMMARY:Reunión del Comité Científico de la Fundacion Europea de Estudios Progresistas (FEPS)
DESCRIPTION:Lina Gálvez presidirá en Bruselas la reunión del Comité Científico de la Fundación Europea de Estudios Progresistas (FEPS).
URL:https://linagalvez.eu/agenda/reunion-comite-cientifico-feps-2025-11/
CATEGORIES:Actualidad,FEPS,S&D
ATTACH;FMTTYPE=image/jpeg:https://linagalvez.eu/wp-content/uploads/2023/06/2023-06-16_Lina-Galvez_FEPS_SD.jpeg
END:VEVENT
BEGIN:VEVENT
DTSTART;TZID=Europe/Madrid:20251118T183000
DTEND;TZID=Europe/Madrid:20251118T193000
DTSTAMP:20260420T025938
CREATED:20251114T083948Z
LAST-MODIFIED:20251117T130855Z
UID:12935-1763490600-1763494200@linagalvez.eu
SUMMARY:Reunión de grupo de S&D
DESCRIPTION:LGM asistirá a la reunión de grupo de Socialists & Democrats donde participará en un intercambio de opiniones y puntos de vista con otros miembros del grupo\, para debatir y coordinar estrategias sobre temas clave de la agenda política.
URL:https://linagalvez.eu/agenda/reunion-grupo-sd-2025-11-2/
CATEGORIES:Actualidad,Parlamento,S&D
ATTACH;FMTTYPE=image/png:https://linagalvez.eu/wp-content/uploads/2020/05/digital-europe.png
END:VEVENT
BEGIN:VEVENT
DTSTART;TZID=Europe/Madrid:20251118T190000
DTEND;TZID=Europe/Madrid:20251118T200000
DTSTAMP:20260420T025938
CREATED:20251114T095012Z
LAST-MODIFIED:20251118T111752Z
UID:12945-1763492400-1763496000@linagalvez.eu
SUMMARY:Acto del PSOE en Bruselas con la eurodiputada Lina Gálvez\, con motivo del 25N
DESCRIPTION:Con motivo de la celebración del Día Internacional de la Eliminación de la Violencia contra la Mujer\, el  PSOE de Bruselas organiza un acto donde participará Lina Gálvez\, eurodiputada y presidenta de la comisión FEMM\, en el evento: «La lucha contra la violencia de género\, una perspectiva europea». \n📅 Martes 18 de noviembre\n⏰ 19h\n📍Clos du Parnasse 13 y online
URL:https://linagalvez.eu/agenda/acto-psoe-bruselas-lina-galvez-25n-dia-internacional-violencia-genero-2025/
CATEGORIES:Actualidad,Destacado,FEMM,Igualdad eje central,S&D
ATTACH;FMTTYPE=image/png:https://linagalvez.eu/wp-content/uploads/Lucha-VG-2025-LGM-PSOE-Bruselas_R.png
END:VEVENT
BEGIN:VEVENT
DTSTART;TZID=Europe/Madrid:20251119T093000
DTEND;TZID=Europe/Madrid:20251119T100000
DTSTAMP:20260420T025938
CREATED:20251114T083947Z
LAST-MODIFIED:20251118T112147Z
UID:12953-1763544600-1763546400@linagalvez.eu
SUMMARY:Vistita Partido Socialista de la region de Murcia
DESCRIPTION:
URL:https://linagalvez.eu/agenda/vistita-partido-socialista-murcia-25-11/
CATEGORIES:Actualidad,S&D
ATTACH;FMTTYPE=image/png:https://linagalvez.eu/wp-content/uploads/territorial-PSOE-1400x475_16-9.png
END:VEVENT
BEGIN:VEVENT
DTSTART;TZID=Europe/Madrid:20251119T100000
DTEND;TZID=Europe/Madrid:20251119T130000
DTSTAMP:20260420T025938
CREATED:20251114T083948Z
LAST-MODIFIED:20251117T133845Z
UID:12939-1763546400-1763557200@linagalvez.eu
SUMMARY:Reunión del Grupo S&D preparatoria del pleno de Estrasburgo
DESCRIPTION:Lina Gálvez participará en la reunión del Grupo de la Alianza Progresista de Socialistas y Demócratas (S&D) en el Parlamento Europeo\, dedicada a preparar la sesión plenaria que se celebrará la semana siguiente en Estrasburgo. Durante el encuentro se coordinarán posiciones y se abordarán los principales temas del orden del día.
URL:https://linagalvez.eu/agenda/reunion-grupo-sd-2025-11-preparatoria-pleno-estrasburgo-2/
CATEGORIES:Actualidad,Parlamento,S&D
ATTACH;FMTTYPE=image/png:https://linagalvez.eu/wp-content/uploads/2020/01/1-S&D.svg.png
END:VEVENT
BEGIN:VEVENT
DTSTART;TZID=Europe/Madrid:20251120T093000
DTEND;TZID=Europe/Madrid:20251120T110000
DTSTAMP:20260420T025938
CREATED:20251114T080015Z
LAST-MODIFIED:20251119T090946Z
UID:12975-1763631000-1763636400@linagalvez.eu
SUMMARY:Visita de alcaldes y concejales del PSOE de Sevilla\, Aljarafe y Doñana
DESCRIPTION:Lina Gálvez recibirá a representantes de alcaldías y concejalías del PSOE de municipios de Sevilla\, Aljarafe y Doñana de visita en el Parlamento Europeo.
URL:https://linagalvez.eu/agenda/visita-de-alcaldes-y-concejales-del-psoe-de-sevilla-aljarafe-donana-2025-11/
CATEGORIES:Actualidad,Andalucía,Destacado,S&D
ATTACH;FMTTYPE=image/jpeg:https://linagalvez.eu/wp-content/uploads/53866525401_355632f3fa_k.jpg
END:VEVENT
BEGIN:VEVENT
DTSTART;TZID=Europe/Madrid:20251120T140000
DTEND;TZID=Europe/Madrid:20251120T143000
DTSTAMP:20260420T025938
CREATED:20251114T174752Z
LAST-MODIFIED:20251119T090831Z
UID:12980-1763647200-1763649000@linagalvez.eu
SUMMARY:"Empoderando a las Mujeres Científicas: 20 Años de EPWS y el Camino a Seguir"
DESCRIPTION:Lina Gálvez Muñoz\, intervendrá como oradora principal en su calidad de diputada al Parlamento Europeo\, presidenta de la Comisión de Derechos de la Mujer\ne Igualdad de Género (FEMM)\, miembro de la Comisión de Industria\, Investigación y Energía (ITRE) y vicepresidenta de STOA\, el Panel para el Futuro de la Ciencia y la Tecnología del Parlamento Europeo. Con el título: «Perspectiva de la Comisión FEMM sobre cuestiones de igualdad de género en la ciencia de la UE: problemas\, perspectivas y soluciones». \nLa conferencia anual tendrá lugar los días 20 y 21 de noviembre de 2025 y está organizada por la European Platform of Women Scientists (EPWS)\, asociación con sede en Bruselas que agrupa redes de mujeres científicas\, en su 20º aniversario. \nEl objetivo de la conferencia «Empoderando a las Mujeres Científicas: 20 Años de EPWS y el Camino a Seguir.» es celebrar los 20 años de la EPWS e impulsar la promoción de las mujeres en la investigación y la innovación\, así como la integración de la dimensión de género en la ciencia. \nMás información y programa (en inglés) aquí \nFuente de la imagen: evento anunciado en el que participa Lina Gálvez (detalle). En esta web se realiza un uso justo y no comercial de la imagen para la difusión del evento.
URL:https://linagalvez.eu/agenda/empoderando-mujeres-cientificas-20-anos-epws-camino-seguir/
CATEGORIES:Actualidad,Destacado,FEMM,ITRE,S&D,STOA
ATTACH;FMTTYPE=image/png:https://linagalvez.eu/wp-content/uploads/EPWS-ANNUAL-CONFERENCE-2025.png
END:VEVENT
BEGIN:VEVENT
DTSTART;TZID=Europe/Madrid:20251124T160000
DTEND;TZID=Europe/Madrid:20251124T170000
DTSTAMP:20260420T025938
CREATED:20251121T083948Z
LAST-MODIFIED:20251124T093440Z
UID:12997-1764000000-1764003600@linagalvez.eu
SUMMARY:Reunión del Grupo S&D preparatoria del pleno de Estrasburgo
DESCRIPTION:Lina Gálvez participará en la reunión del Grupo de la Alianza Progresista de Socialistas y Demócratas (S&D) en el Parlamento Europeo\, dedicada a preparar la sesión plenaria que se celebrará esta semana en Estrasburgo. Durante el encuentro se coordinarán posiciones y se abordarán los principales temas del orden del día.
URL:https://linagalvez.eu/agenda/reunion-grupo-sd-2025-11-preparatoria-pleno-estrasburgo-3/
CATEGORIES:Actualidad,Parlamento,S&D
ATTACH;FMTTYPE=image/png:https://linagalvez.eu/wp-content/uploads/2020/01/1-S&D.svg.png
END:VEVENT
BEGIN:VEVENT
DTSTART;TZID=Europe/Madrid:20251125T090000
DTEND;TZID=Europe/Madrid:20251125T094500
DTSTAMP:20260420T025938
CREATED:20251121T083947Z
LAST-MODIFIED:20251124T131345Z
UID:12999-1764061200-1764063900@linagalvez.eu
SUMMARY:S&D FEMM Working Group meeting
DESCRIPTION:Lina Gálvez participará en la reunión de trabajo del grupo S&D Socialistas y Demócratas de la Comisión de Derechos de la Mujer e Igualdad de Género (FEMM).
URL:https://linagalvez.eu/agenda/sd-femm-working-group-meeting-25-11/
CATEGORIES:Actualidad,FEMM,Parlamento,S&D
ATTACH;FMTTYPE=image/png:https://linagalvez.eu/wp-content/uploads/2023/01/femm_logo.png
END:VEVENT
BEGIN:VEVENT
DTSTART;TZID=Europe/Madrid:20251125T110000
DTEND;TZID=Europe/Madrid:20251125T114500
DTSTAMP:20260420T025938
CREATED:20251121T083947Z
LAST-MODIFIED:20251125T091721Z
UID:13004-1764068400-1764071100@linagalvez.eu
SUMMARY:S&D ITRE Working Group meeting
DESCRIPTION:Lina Gálvez participará en la reunión del grupo S&D de la Comisión de Industria\, Investigación y Energía (ITRE) para debatir sobre políticas energéticas y de investigación. En concreto\, se intercambiarán opiniones sobre los archivos relevantes del Marco Financiero Plurianual (MFF)\, incluyendo específicamente Horizonte Europa.
URL:https://linagalvez.eu/agenda/sd-itre-working-group-meeting-25-11-2/
CATEGORIES:Actualidad,Horizon Europe,ITRE,Parlamento,S&D
ATTACH;FMTTYPE=image/jpeg:https://linagalvez.eu/wp-content/uploads/2025_01-Lina-ITRE.jpg
END:VEVENT
BEGIN:VEVENT
DTSTART;TZID=Europe/Madrid:20251125T120000
DTEND;TZID=Europe/Madrid:20251125T123000
DTSTAMP:20260420T025938
CREATED:20251121T080018Z
LAST-MODIFIED:20251126T101742Z
UID:13029-1764072000-1764073800@linagalvez.eu
SUMMARY:Destacados del pleno. Debate Día Internacional de la Eliminación de la Violencia contra la Mujer - 25N 2025
DESCRIPTION:Asuntos destacados del pleno del Parlamento Europeo que se celebra hoy en  Estrasburgo: Día Internacional de la Eliminación de la Violencia contra la Mujer \nLa eurodiputada Lina Gálvez asistirá al debate del martes de la Sesión Plenaria de Estrasburgo\, con motivo del Día Internacional de la Eliminación de la Violencia contra la Mujer. \n\n\n\nTambién\, coincidiendo con la celebración del Día Internacional de la Eliminación de la Violencia contra la Mujer (25 de noviembre) la sedes del PE en Bruselas y Estrasburgo se iluminarán en naranja. \n\n\n\nVer en streaming aquí
URL:https://linagalvez.eu/agenda/plenario-debate-25n-dia-eliminacion-violencia-mujer-2025/
CATEGORIES:Actualidad,FEMM,Parlamento,S&D
ATTACH;FMTTYPE=image/jpeg:https://linagalvez.eu/wp-content/uploads/2023/09/LGM-Pleno-.jpg
END:VEVENT
BEGIN:VEVENT
DTSTART;TZID=Europe/Madrid:20251125T130000
DTEND;TZID=Europe/Madrid:20251125T143000
DTSTAMP:20260420T025938
CREATED:20251121T083947Z
LAST-MODIFIED:20251124T133555Z
UID:13006-1764075600-1764081000@linagalvez.eu
SUMMARY:Reunión de la Delegación Socialista Española (DSE)
DESCRIPTION:Lina Gálvez participará en la reunión de la Delegación Socialista Española\, en calidad de secretaria general adjunta\, para debatir y coordinar estrategias políticas.
URL:https://linagalvez.eu/agenda/sd-reunion-delegacion-socialista-espanola-dse-25-11-3/
CATEGORIES:Actualidad,Parlamento,S&D
ATTACH;FMTTYPE=image/jpeg:https://linagalvez.eu/wp-content/uploads/DSE-Delegacion-Socialista-Espanola-10legislatura-en-PE.jpeg
END:VEVENT
BEGIN:VEVENT
DTSTART;TZID=Europe/Madrid:20251125T153000
DTEND;TZID=Europe/Madrid:20251125T160000
DTSTAMP:20260420T025938
CREATED:20251121T113920Z
LAST-MODIFIED:20251125T094251Z
UID:13032-1764084600-1764086400@linagalvez.eu
SUMMARY:Debate sobre el 25N en RTVE
DESCRIPTION:Lina Gálvez participará en RTVE en el debate con motivo del 25 de noviembre\, Día Internacional para la Eliminación de la Violencia contra las Mujeres.
URL:https://linagalvez.eu/agenda/debate-25n-rtve-2025/
CATEGORIES:Actualidad,FEMM,Parlamento,S&D
ATTACH;FMTTYPE=image/jpeg:https://linagalvez.eu/wp-content/uploads/2023/01/hq720.jpg
END:VEVENT
BEGIN:VEVENT
DTSTART;TZID=Europe/Madrid:20251125T183000
DTEND;TZID=Europe/Madrid:20251125T210000
DTSTAMP:20260420T025938
CREATED:20251121T083948Z
LAST-MODIFIED:20251124T134003Z
UID:13010-1764095400-1764104400@linagalvez.eu
SUMMARY:Reunión de grupo de S&D
DESCRIPTION:LGM asistirá a la reunión de grupo de Socialists & Democrats donde participará en un intercambio de opiniones y puntos de vista con otros miembros del grupo\, para debatir y coordinar estrategias sobre temas clave de la agenda política.
URL:https://linagalvez.eu/agenda/reunion-grupo-sd-2025-11-3/
CATEGORIES:Actualidad,Parlamento,S&D
ATTACH;FMTTYPE=image/png:https://linagalvez.eu/wp-content/uploads/2020/05/digital-europe.png
END:VEVENT
BEGIN:VEVENT
DTSTART;TZID=Europe/Madrid:20251126T080000
DTEND;TZID=Europe/Madrid:20251126T090000
DTSTAMP:20260420T025938
CREATED:20251121T083947Z
LAST-MODIFIED:20251124T142358Z
UID:13024-1764144000-1764147600@linagalvez.eu
SUMMARY:Encuentro INTA S&D con el comisario de la UE Maroš Šefčovič
DESCRIPTION:
URL:https://linagalvez.eu/agenda/encuentro-inta-sd-comisario-ue-maros-sefcovic-2025-11/
CATEGORIES:Actualidad,INTA,Parlamento,S&D
ATTACH;FMTTYPE=image/jpeg:https://linagalvez.eu/wp-content/uploads/20250707PHT29482-ml-Recurso-chip-UE-destacados-ITRE.jpeg
END:VEVENT
BEGIN:VEVENT
DTSTART;TZID=Europe/Madrid:20251128T083000
DTEND;TZID=Europe/Madrid:20251128T143000
DTSTAMP:20260420T025938
CREATED:20251121T131627Z
LAST-MODIFIED:20251124T135805Z
UID:13012-1764318600-1764340200@linagalvez.eu
SUMMARY:Conferencia Call to Europe: El Bienestar para Tod@s en el centro del futuro de Europa (FEPS)
DESCRIPTION:Lina Gálvez\, participará como vicepresidenta de FEPS\, en  la conferencia «Call to Europe: El Bienestar para Tod@s en el centro del futuro de Europa»\, que se celebra con el objetivo de aprovechar la Presidencia danesa del Consejo de la UE para situar el «Bienestar para tod@s» como eje central\, abordando la salud mental\, la seguridad energética\, la paz y la prosperidad. \nEn la conferencia participarán responsables políticos\, sindicalistas\, líderes de la sociedad civil y la academia y representantes juveniles. Constará de discursos de alto nivel y tres paneles de debate interactivos sobre: \n\nPromoción del bienestar para los trabajadores jóvenes.\nSeguridad humana en un contexto geopolítico cambiante.\nTransición ecológica justa para todos en Europa.
URL:https://linagalvez.eu/agenda/conferencia-call-to-europe-bienestar-todos-centro-futuro-europa-feps/
CATEGORIES:Actualidad,Destacado,FEPS,INTA,S&D
ATTACH;FMTTYPE=image/png:https://linagalvez.eu/wp-content/uploads/Call-to-Europe-Denmark-4.png
END:VEVENT
BEGIN:VEVENT
DTSTART;TZID=Europe/Madrid:20251130T200000
DTEND;TZID=Europe/Madrid:20251130T220000
DTSTAMP:20260420T025938
CREATED:20251121T131627Z
LAST-MODIFIED:20251124T140917Z
UID:13017-1764532800-1764540000@linagalvez.eu
SUMMARY:FEPS Annual Autumn Academy 2025 - For a Europe of peace\, prosperity and progress.
DESCRIPTION:Lina asistirá como ponente en la sesión de apertura “Red Sofa discussion – Never for granted! Europe then\, Europe now\, Europe tomorrow”(Debate en el Sofá Rojo: ¡Nunca por sentado! Europa entonces\, Europa ahora\, Europa mañana.) de la academia anual de otoño organizada por FEPS con el título «Por una Europa de paz\, prosperidad y progreso».
URL:https://linagalvez.eu/agenda/feps-aaa-2025-europe-peace-prosperity-progress/
CATEGORIES:Actualidad,Destacado,FEPS,S&D
ATTACH;FMTTYPE=image/jpeg:https://linagalvez.eu/wp-content/uploads/2023/06/2023-06-16_Lina-Galvez_FEPS_SD.jpeg
END:VEVENT
BEGIN:VEVENT
DTSTART;TZID=Europe/Madrid:20251201T200000
DTEND;TZID=Europe/Madrid:20251201T210000
DTSTAMP:20260420T025938
CREATED:20251127T103647Z
LAST-MODIFIED:20251201T092553Z
UID:13046-1764619200-1764622800@linagalvez.eu
SUMMARY:Reunión FEPS sobre Política Exterior Feminista
DESCRIPTION:Lina Gálvez participará en la sesión temática organizada por FEPS sobre Política Exterior Feminista\, centrada en: una organización alternativa de política exterior feminista liderada por la Mayoría Global. \nFuente de la imagen: ONU Mujeres\, 2025. Women’s Rights in Review 30 Years After Beijing. En esta web se realiza un uso justo y no comercial de la imagen para la difusión del evento.
URL:https://linagalvez.eu/agenda/reunion-feps-politica-exterior-feminista/
CATEGORIES:Actualidad,FEMM,FEPS,Parlamento,S&D
ATTACH;FMTTYPE=image/webp:https://linagalvez.eu/wp-content/uploads/Beijing30women3.webp
END:VEVENT
BEGIN:VEVENT
DTSTART;TZID=Europe/Madrid:20251202T143000
DTEND;TZID=Europe/Madrid:20251202T153000
DTSTAMP:20260420T025938
CREATED:20251127T192513Z
LAST-MODIFIED:20251201T102612Z
UID:13061-1764685800-1764689400@linagalvez.eu
SUMMARY:PES Women Gender Equality Ministerial Meeting
DESCRIPTION:Reunión ministerial sobre igualdad de género del Partido Socialista Europeo (Party of European Socialists\, PES). \nPES Women es la organización de mujeres del Partido Socialista Europeo\, que promueve la igualdad de género y los derechos de las mujeres tanto dentro como fuera del partido. \nPES Women lucha por una Europa feminista y con justicia de género\, dando voz\, herramientas y una plataforma a las mujeres\, promoviendo políticas específicas en materia de derechos de la mujer e integrando la perspectiva de género en la elaboración de políticas generales de la familia socialdemócrata.
URL:https://linagalvez.eu/agenda/pes-women-gender-equality-ministerial-meeting-2025-12/
CATEGORIES:Actualidad,Parlamento,S&D
ATTACH;FMTTYPE=image/png:https://linagalvez.eu/wp-content/uploads/2020/10/PES-Women.png_20619903.png
END:VEVENT
BEGIN:VEVENT
DTSTART;TZID=Europe/Madrid:20251203T123000
DTEND;TZID=Europe/Madrid:20251203T140000
DTSTAMP:20260420T025938
CREATED:20251127T140114Z
LAST-MODIFIED:20251201T141453Z
UID:13117-1764765000-1764770400@linagalvez.eu
SUMMARY:Evento de alto nivel con Teresa Ribera y la proyección de 'HOPE!' la serie
DESCRIPTION:Lina Gálvez asistirá al evento de alto nivel ‘Hope!’ (¡Esperanza!) en el Parlamento Europeo\, organizado por Nicolás González Casares y el S&D. Teresa Ribera\, vicepresidenta Ejecutiva de la UE\, dará el discurso principal\, seguido de la proyección de una edición especial de HOPE! la serie documental sobre soluciones contra la amenaza del cambio climático. A continuación\, habrá un debate junto a Bertrand Piccard\, Javier Peña y Sean Kelly\, sobre la acción climática y las esperanzas para el futuro. \nFuente de la imagen: evento anunciado en el que participa Lina Gálvez. En esta web se realiza un uso justo y no comercial de la imagen para la difusión del evento.
URL:https://linagalvez.eu/agenda/evento-alto-nivel-teresa-riberaproyeccion-hope-serie-documental/
CATEGORIES:Actualidad,Parlamento,S&D
ATTACH;FMTTYPE=image/jpeg:https://linagalvez.eu/wp-content/uploads/Hope-en-el-PE-202512.jpg
END:VEVENT
BEGIN:VEVENT
DTSTART;TZID=Europe/Madrid:20251208T120000
DTEND;TZID=Europe/Madrid:20251208T130000
DTSTAMP:20260420T025938
CREATED:20251205T111627Z
LAST-MODIFIED:20251208T133631Z
UID:13139-1765195200-1765198800@linagalvez.eu
SUMMARY:S&D INTA Working Group
DESCRIPTION:Lina Gálvez participará en la reunión del grupo S&D de la Comisión de Comercio Internacional (INTA) del Parlamento Europeo\, de la que forma parte. \nReunión preparatoria de la votación sobre la Implementación de la cláusula de salvaguardia bilateral del Acuerdo de Asociación UE-Mercosur y del Acuerdo Comercial Interino UE-Mercosur para productos agrícolas.
URL:https://linagalvez.eu/agenda/sd-inta-working-group-meeting-25-12/
CATEGORIES:Actualidad,INTA,Parlamento,S&D
ATTACH;FMTTYPE=image/jpeg:https://linagalvez.eu/wp-content/uploads/2024/09/INTA-16-9.jpeg
END:VEVENT
BEGIN:VEVENT
DTSTART;TZID=Europe/Madrid:20251209T120000
DTEND;TZID=Europe/Madrid:20251209T130000
DTSTAMP:20260420T025938
CREATED:20251205T083947Z
LAST-MODIFIED:20251208T135706Z
UID:13149-1765281600-1765285200@linagalvez.eu
SUMMARY:Reunión de la Delegación Socialista Española (DSE)
DESCRIPTION:Lina Gálvez participará en la reunión de la Delegación Socialista Española\, en calidad de secretaria general adjunta\, para debatir y coordinar estrategias políticas.
URL:https://linagalvez.eu/agenda/sd-reunion-delegacion-socialista-espanola-dse-25-12/
CATEGORIES:Actualidad,Parlamento,S&D
ATTACH;FMTTYPE=image/jpeg:https://linagalvez.eu/wp-content/uploads/DSE-Delegacion-Socialista-Espanola-10legislatura-en-PE.jpeg
END:VEVENT
BEGIN:VEVENT
DTSTART;TZID=Europe/Madrid:20251210T090000
DTEND;TZID=Europe/Madrid:20251210T100000
DTSTAMP:20260420T025938
CREATED:20251206T083947Z
LAST-MODIFIED:20251208T140702Z
UID:13153-1765357200-1765360800@linagalvez.eu
SUMMARY:S&D FEMM Working Group meeting - coordinación y estrategia
DESCRIPTION:Lina Gálvez participará en la reunión de coordinación de la estrategia a seguir del grupo S&D Socialistas y Demócratas de la Comisión de Derechos de la Mujer e Igualdad de Género (FEMM).
URL:https://linagalvez.eu/agenda/sd-femm-working-group-meeting-25-12/
CATEGORIES:Actualidad,FEMM,Parlamento,S&D
ATTACH;FMTTYPE=image/png:https://linagalvez.eu/wp-content/uploads/2023/01/femm_logo.png
END:VEVENT
BEGIN:VEVENT
DTSTART;TZID=Europe/Madrid:20251210T100000
DTEND;TZID=Europe/Madrid:20251210T130000
DTSTAMP:20260420T025938
CREATED:20251205T083948Z
LAST-MODIFIED:20251208T141527Z
UID:13157-1765360800-1765371600@linagalvez.eu
SUMMARY:Reunión de grupo de S&D
DESCRIPTION:LGM asistirá a la reunión de grupo de Socialists & Democrats donde participará en un intercambio de opiniones y puntos de vista con otras personas del grupo\, para debatir y coordinar estrategias sobre temas clave de la agenda política.
URL:https://linagalvez.eu/agenda/reunion-grupo-sd-2025-12/
CATEGORIES:Actualidad,Parlamento,S&D
ATTACH;FMTTYPE=image/png:https://linagalvez.eu/wp-content/uploads/2020/05/digital-europe.png
END:VEVENT
BEGIN:VEVENT
DTSTART;TZID=Europe/Madrid:20251210T110000
DTEND;TZID=Europe/Madrid:20251210T130000
DTSTAMP:20260420T025938
CREATED:20251205T142958Z
LAST-MODIFIED:20251208T141841Z
UID:13159-1765364400-1765371600@linagalvez.eu
SUMMARY:Reunión del equipo principal de la Fundacion Europea de Estudios Progresistas (FEPS)
DESCRIPTION:La eurodiputada Lina Gálvez participará en la reunión del equipo principal de la Fundación Europea de Estudios Progresistas (FEPS). \nDurante esta reunión\, se abordarán temas clave para la agenda progresista en Europa\, y se discutirá la dirección estratégica de la FEPS. La participación de la eurodiputada Gálvez será fundamental\, dado su rol de liderazgo tanto como Vicepresidenta de la FEPS como Presidenta de su Comité Científico.
URL:https://linagalvez.eu/agenda/reunion-equipo-principal-feps-2025-12/
CATEGORIES:Actualidad,FEPS,S&D
ATTACH;FMTTYPE=image/jpeg:https://linagalvez.eu/wp-content/uploads/2023/06/2023-06-16_Lina-Galvez_FEPS_SD.jpeg
END:VEVENT
BEGIN:VEVENT
DTSTART;TZID=Europe/Madrid:20251211T103000
DTEND;TZID=Europe/Madrid:20251211T113000
DTSTAMP:20260420T025938
CREATED:20251205T080015Z
LAST-MODIFIED:20251209T083840Z
UID:13180-1765449000-1765452600@linagalvez.eu
SUMMARY:Visita de grupo de Atarfe (Granada)
DESCRIPTION:Lina Gálvez recibirá a un grupo proveniente de Atarfe\, provincia de Granada\, de visita en el Parlamento Europeo.
URL:https://linagalvez.eu/agenda/visita-grupo-atarfe-granada-2025-12/
CATEGORIES:Actualidad,Andalucía,S&D
ATTACH;FMTTYPE=image/jpeg:https://linagalvez.eu/wp-content/uploads/53866525401_355632f3fa_k.jpg
END:VEVENT
BEGIN:VEVENT
DTSTART;TZID=Europe/Madrid:20251212T100000
DTEND;TZID=Europe/Madrid:20251212T120000
DTSTAMP:20260420T025938
CREATED:20251205T142958Z
LAST-MODIFIED:20251208T142139Z
UID:13162-1765533600-1765540800@linagalvez.eu
SUMMARY:Asamblea Extraordinaria de la Fundación Europea de Estudios Progresistas (FEPS)
DESCRIPTION:Lina Gálvez participará en la Asamblea General Extraordinaria de la Fundación Europea de Estudios Progresistas (FEPS) en Bruselas\, en calidad de vicepresidenta y presidenta de su Consejo Científico.
URL:https://linagalvez.eu/agenda/asamblea-extraordinaria-feps-2025-12/
CATEGORIES:Actualidad,FEPS,S&D
ATTACH;FMTTYPE=image/jpeg:https://linagalvez.eu/wp-content/uploads/2023/06/2023-06-16_Lina-Galvez_FEPS_SD.jpeg
END:VEVENT
END:VCALENDAR