BEGIN:VCALENDAR
VERSION:2.0
PRODID:-//Lina Gálvez - ECPv6.15.20//NONSGML v1.0//EN
CALSCALE:GREGORIAN
METHOD:PUBLISH
X-ORIGINAL-URL:https://linagalvez.eu
X-WR-CALDESC:Eventos para Lina Gálvez
REFRESH-INTERVAL;VALUE=DURATION:PT1H
X-Robots-Tag:noindex
X-PUBLISHED-TTL:PT1H
BEGIN:VTIMEZONE
TZID:Europe/Madrid
BEGIN:DAYLIGHT
TZOFFSETFROM:+0100
TZOFFSETTO:+0200
TZNAME:CEST
DTSTART:20250330T010000
END:DAYLIGHT
BEGIN:STANDARD
TZOFFSETFROM:+0200
TZOFFSETTO:+0100
TZNAME:CET
DTSTART:20251026T010000
END:STANDARD
BEGIN:DAYLIGHT
TZOFFSETFROM:+0100
TZOFFSETTO:+0200
TZNAME:CEST
DTSTART:20260329T010000
END:DAYLIGHT
BEGIN:STANDARD
TZOFFSETFROM:+0200
TZOFFSETTO:+0100
TZNAME:CET
DTSTART:20261025T010000
END:STANDARD
BEGIN:DAYLIGHT
TZOFFSETFROM:+0100
TZOFFSETTO:+0200
TZNAME:CEST
DTSTART:20270328T010000
END:DAYLIGHT
BEGIN:STANDARD
TZOFFSETFROM:+0200
TZOFFSETTO:+0100
TZNAME:CET
DTSTART:20271031T010000
END:STANDARD
END:VTIMEZONE
BEGIN:VEVENT
DTSTART;TZID=Europe/Madrid:20260114T100000
DTEND;TZID=Europe/Madrid:20260114T130000
DTSTAMP:20260420T205259
CREATED:20260107T083948Z
LAST-MODIFIED:20260113T093441Z
UID:13258-1768384800-1768395600@linagalvez.eu
SUMMARY:Reunión del Grupo S&D preparatoria del pleno de Estrasburgo
DESCRIPTION:Lina Gálvez participará en la reunión del Grupo de la Alianza Progresista de Socialistas y Demócratas (S&D) en el Parlamento Europeo\, donde participará en un intercambio de opiniones y puntos de vista con otras personas del grupo\, para debatir y coordinar estrategias sobre temas clave de la agenda política\, en preparación del pleno que se celebrará en Estrasburgo la semana próxima.
URL:https://linagalvez.eu/agenda/reunion-grupo-sd-2026-01/
CATEGORIES:Actualidad,Parlamento,S&D
ATTACH;FMTTYPE=image/jpeg:https://linagalvez.eu/wp-content/uploads/SD-banner-euractiv.jpg
END:VEVENT
BEGIN:VEVENT
DTSTART;TZID=Europe/Madrid:20260114T120000
DTEND;TZID=Europe/Madrid:20260114T130000
DTSTAMP:20260420T205259
CREATED:20260107T094139Z
LAST-MODIFIED:20260113T095810Z
UID:13260-1768392000-1768395600@linagalvez.eu
SUMMARY:Reunión sobre la 'Estrategia de salud de las mujeres' con integrantes del grupo S&D
DESCRIPTION:La eurodiputada Lina Gálvez participará en la reunión sobre la ‘Estrategia de salud de las mujeres’ con otras personas representantes del grupo S&D en el Parlamento Europeo. \nFuente de la imagen: Estudio ‘Análisis de los resultados de la consulta pública del Parlamento Europeo sobre la salud de las mujeres’ (2025). Comisión SANT. Parlamento Europeo. En esta web se realiza un uso justo y no comercial de la imagen para la difusión del evento.
URL:https://linagalvez.eu/agenda/reunion-estrategia-salud-mujeres-integrantes-sd/
CATEGORIES:Actualidad,Destacado,FEMM,Parlamento,S&D
ATTACH;FMTTYPE=image/png:https://linagalvez.eu/wp-content/uploads/Analysis-EP-public-consultation-Womens-health.png
END:VEVENT
BEGIN:VEVENT
DTSTART;TZID=Europe/Madrid:20260115T120000
DTEND;TZID=Europe/Madrid:20260115T123000
DTSTAMP:20260420T205259
CREATED:20260107T102805Z
LAST-MODIFIED:20260113T104136Z
UID:13273-1768478400-1768480200@linagalvez.eu
SUMMARY:Reunión con Miguel Ángel Moratinos\, Alto Representante de la ONU para la Alianza de Civilizaciones
DESCRIPTION:Lina Gálvez participará en la reunión con Miguel Ángel Moratinos (Alto Representante de la ONU para la Alianza de Civilizaciones)\, que se celebrará en el Parlamento Europeo\, Bruselas. \nFuente de la imagen: UNAOC. En esta web se realiza un uso justo y no comercial de la imagen para la difusión del evento.
URL:https://linagalvez.eu/agenda/reunion-moratinos-alto-representante-unac-2026/
CATEGORIES:Actualidad,Parlamento,S&D
ATTACH;FMTTYPE=image/jpeg:https://linagalvez.eu/wp-content/uploads/UNAOC-Moratinos-at-UN-plenary-202503.jpg
END:VEVENT
BEGIN:VEVENT
DTSTART;TZID=Europe/Madrid:20260119T160000
DTEND;TZID=Europe/Madrid:20260119T170000
DTSTAMP:20260420T205259
CREATED:20260116T083948Z
LAST-MODIFIED:20260120T093422Z
UID:13302-1768838400-1768842000@linagalvez.eu
SUMMARY:Reunión del Grupo S&D: Preparación de la semana de Pleno
DESCRIPTION:Lina Gálvez participará en la reunión del Grupo de la Alianza Progresista de Socialistas y Demócratas (S&D) en el Parlamento Europeo\, dedicada a preparar la sesión plenaria que se celebrará esta semana en Estrasburgo. Durante el encuentro se coordinarán posiciones y se abordarán los principales temas del orden del día.
URL:https://linagalvez.eu/agenda/reunion-grupo-sd-2026-01-2/
CATEGORIES:Actualidad,Parlamento,S&D
ATTACH;FMTTYPE=image/png:https://linagalvez.eu/wp-content/uploads/2020/01/1-S&D.svg.png
END:VEVENT
BEGIN:VEVENT
DTSTART;TZID=Europe/Madrid:20260120T090000
DTEND;TZID=Europe/Madrid:20260120T094500
DTSTAMP:20260420T205259
CREATED:20260116T083947Z
LAST-MODIFIED:20260120T093943Z
UID:13308-1768899600-1768902300@linagalvez.eu
SUMMARY:S&D FEMM Working Group meeting
DESCRIPTION:Lina Gálvez participará en la reunión de trabajo del grupo S&D Socialistas y Demócratas de la Comisión de Derechos de la Mujer e Igualdad de Género (FEMM).
URL:https://linagalvez.eu/agenda/sd-femm-working-group-meeting-2026-01/
CATEGORIES:Actualidad,FEMM,Parlamento,S&D
ATTACH;FMTTYPE=image/png:https://linagalvez.eu/wp-content/uploads/2023/01/femm_logo.png
END:VEVENT
BEGIN:VEVENT
DTSTART;TZID=Europe/Madrid:20260120T110000
DTEND;TZID=Europe/Madrid:20260120T120000
DTSTAMP:20260420T205259
CREATED:20260116T094153Z
LAST-MODIFIED:20260120T103654Z
UID:13323-1768906800-1768910400@linagalvez.eu
SUMMARY:Liderazgo Digital Europeo: Audiencia sobre el Fondo de Competitividad Europea
DESCRIPTION:Reunión del grupo de trabajo digital del Grupo de Socialistas y Demócratas de ITRE. Liderazgo Digital Europeo: Audiencia sobre el Fondo de Competitividad Europea con Roberto Viola\, Director General de la DG CONNECT (Dirección General de Comunicación\, Redes\, Contenidos y Tecnologías) de la Comisión Europea. \nFuente de la imagen: Parlamento Europeo. En esta web se realiza un uso justo y no comercial de la imagen para la difusión del evento.
URL:https://linagalvez.eu/agenda/liderazgo-digital-europeo-audiencia-fondo-competitividad-europea-2026-01/
CATEGORIES:Actualidad,Destacado,ITRE,Parlamento,S&D
ATTACH;FMTTYPE=image/jpeg:https://linagalvez.eu/wp-content/uploads/20250707PHT29482-ml-Recurso-chip-UE-destacados-ITRE.jpeg
END:VEVENT
BEGIN:VEVENT
DTSTART;TZID=Europe/Madrid:20260120T183000
DTEND;TZID=Europe/Madrid:20260120T210000
DTSTAMP:20260420T205259
CREATED:20260116T083948Z
LAST-MODIFIED:20260120T093554Z
UID:13304-1768933800-1768942800@linagalvez.eu
SUMMARY:Reunión del Grupo S&D
DESCRIPTION:Lina Gálvez participará en la reunión del Grupo de la Alianza Progresista de Socialistas y Demócratas (S&D) en el Parlamento Europeo\, donde participará en un intercambio de opiniones y puntos de vista con otras personas del grupo\, para debatir y coordinar estrategias sobre temas clave de la agenda política.
URL:https://linagalvez.eu/agenda/reunion-grupo-sd-2026-01-3/
CATEGORIES:Actualidad,Parlamento,S&D
ATTACH;FMTTYPE=image/jpeg:https://linagalvez.eu/wp-content/uploads/SD-banner-euractiv.jpg
END:VEVENT
BEGIN:VEVENT
DTSTART;TZID=Europe/Madrid:20260121T180000
DTEND;TZID=Europe/Madrid:20260121T203000
DTSTAMP:20260420T205259
CREATED:20260116T083948Z
LAST-MODIFIED:20260120T093718Z
UID:13306-1769018400-1769027400@linagalvez.eu
SUMMARY:Reunión de grupo de S&D
DESCRIPTION:LGM asistirá a la reunión de grupo de Socialists & Democrats donde participará en un intercambio de opiniones y puntos de vista con otros miembros del grupo\, para debatir y coordinar estrategias sobre temas clave de la agenda política.
URL:https://linagalvez.eu/agenda/reunion-grupo-sd-2026-01-4/
CATEGORIES:Actualidad,Parlamento,S&D
ATTACH;FMTTYPE=image/png:https://linagalvez.eu/wp-content/uploads/2020/05/digital-europe.png
END:VEVENT
BEGIN:VEVENT
DTSTART;TZID=Europe/Madrid:20260128T090000
DTEND;TZID=Europe/Madrid:20260128T113000
DTSTAMP:20260420T205259
CREATED:20260123T143737Z
LAST-MODIFIED:20260127T082502Z
UID:13393-1769590800-1769599800@linagalvez.eu
SUMMARY:Reunión de la Comisión ITRE: Intercambio de puntos de vista sobre Horizonte Europa
DESCRIPTION:Lina Gálvez participará en la reunión de la Comisión de Industria\, Investigación y Energía (ITRE)\, en la que se realizará un primer intercambio de puntos de vista sobre Horizonte Europa. \nLa eurodiputada Gálvez es relatora en la sombra (shadow rapporteur) por parte del Grupo S&D del programa Horizonte Europa (2028-2034)\, principal instrumento de financiación de la Unión Europea para la investigación\, el desarrollo tecnológico y la innovación. \nVer en streaming aquí
URL:https://linagalvez.eu/agenda/reunion-comision-industria-investigacion-energia-itre-2026-01-2-horizonte-europa/
CATEGORIES:ITRE,S&D
ATTACH;FMTTYPE=image/jpeg:https://linagalvez.eu/wp-content/uploads/horizonEurope.jpg
END:VEVENT
BEGIN:VEVENT
DTSTART;TZID=Europe/Madrid:20260128T110000
DTEND;TZID=Europe/Madrid:20260128T120000
DTSTAMP:20260420T205259
CREATED:20260123T160744Z
LAST-MODIFIED:20260126T104739Z
UID:13396-1769598000-1769601600@linagalvez.eu
SUMMARY:Reunión abierta con los principales colectivos en defensa de la sanidad pública
DESCRIPTION:Lina Gálvez asistirá a la reunión abierta con representantes de los principales colectivos en defensa de la sanidad pública española\, incluyendo a la asociación andaluza AMAMA\, organizada por la eurodiputada Estrella Galán\, del Grupo de la Izquierda en el Parlamento Europeo.
URL:https://linagalvez.eu/agenda/reunion-abierta-colectivos-defensa-sanidad-publica/
CATEGORIES:Actualidad,ITRE,S&D
ATTACH;FMTTYPE=image/jpeg:https://linagalvez.eu/wp-content/uploads/53595298976_9758b85d6b_k.jpg
END:VEVENT
BEGIN:VEVENT
DTSTART;TZID=Europe/Madrid:20260129T110000
DTEND;TZID=Europe/Madrid:20260129T140000
DTSTAMP:20260420T205259
CREATED:20260123T142958Z
LAST-MODIFIED:20260126T111324Z
UID:13402-1769684400-1769695200@linagalvez.eu
SUMMARY:Reunión de la Fundacion Europea de Estudios Progresistas (FEPS)
DESCRIPTION:Lina Gálvez participará en la reunión de la Fundación Europea de Estudios Progresistas (FEPS) como vicepresidenta de la fundación y presidenta de su comité científico.
URL:https://linagalvez.eu/agenda/reunion-feps-2026-01/
CATEGORIES:Actualidad,FEPS,S&D
ATTACH;FMTTYPE=image/jpeg:https://linagalvez.eu/wp-content/uploads/2023/06/2023-06-16_Lina-Galvez_FEPS_SD.jpeg
END:VEVENT
BEGIN:VEVENT
DTSTART;TZID=Europe/Madrid:20260129T170000
DTEND;TZID=Europe/Madrid:20260129T190000
DTSTAMP:20260420T205259
CREATED:20260123T105726Z
LAST-MODIFIED:20260126T113734Z
UID:13406-1769706000-1769713200@linagalvez.eu
SUMMARY:Lanzamiento del FEPS Progressive Yearbook y entrega de premios
DESCRIPTION:Lina Gálvez asistirá a la tradicional recepción de Año Nuevo de la Fundación Europea de Estudios Progresistas (FEPS)\, el 29 de enero de 2026. En este evento\, la FEPS presentará una nueva edición del Progressive Yearbook (Anuario progresista) y dará a conocer a la Persona Progresista del Año. \nEl Progressive Yearbook (PYB) se publicó por primera vez en 2019-20 y supone una importante innovación\, especialmente como parte de la familia de publicaciones progresistas. Este evento está dedicado al lanzamiento de la séptima edición del Anuario Progresista. \nCon la misión de presentar análisis de los principales acontecimientos políticos del año\, el Progressive Yearbook se centra en cuestiones europeas transversales que han dejado huella en 2025. Ofrece un análisis perspicaz y con visión de futuro y simboliza la disposición de la FEPS a poner en perspectiva estas lecciones. \nLa recepción de Año Nuevo también marcará el traspaso de la presidencia de Maria João Rodrigues al recién elegido presidente\, Nicolas Schmit. \nMás información (en inglés) aquí
URL:https://linagalvez.eu/agenda/progressives-yearbook-feps-2026/
CATEGORIES:Actualidad,FEPS,I+D+i,S&D
ATTACH;FMTTYPE=image/jpeg:https://linagalvez.eu/wp-content/uploads/FEPS-Yearbook-reception-2026-01.jpg
END:VEVENT
BEGIN:VEVENT
DTSTART;TZID=Europe/Madrid:20260130T100000
DTEND;TZID=Europe/Madrid:20260130T110000
DTSTAMP:20260420T205259
CREATED:20260123T103953Z
LAST-MODIFIED:20260126T090843Z
UID:13374-1769767200-1769770800@linagalvez.eu
SUMMARY:Reunión ejecutiva PES Women
DESCRIPTION:Lina Gálvez participará\, como presidenta de la Comisión de Derechos de las Mujeres e Igualdad de Género (FEMM)\, en la reunión ejecutiva de PES Women\, la organización de mujeres del Partido Socialista Europeo (Party of European Socialists\, PES)\, para compartir actualizaciones actuales del trabajo de la Comisión FEMM.
URL:https://linagalvez.eu/agenda/red-igualdad-genero-pes-women-2026-01/
CATEGORIES:FEMM,Parlamento,S&D
ATTACH;FMTTYPE=image/png:https://linagalvez.eu/wp-content/uploads/2020/10/PES-Women.png_20619903.png
END:VEVENT
BEGIN:VEVENT
DTSTART;TZID=Europe/Madrid:20260202T153000
DTEND;TZID=Europe/Madrid:20260202T160000
DTSTAMP:20260420T205259
CREATED:20260130T205721Z
LAST-MODIFIED:20260202T082858Z
UID:13434-1770046200-1770048000@linagalvez.eu
SUMMARY:Grabación. Documental International Democracy Project (ARTE.tv)
DESCRIPTION:La eurodiputada Lina Gálvez será entrevistada para el largometraje documental International Democracy Project (título provisional)\, encargado por el canal ARTE. Éste tiene un enfoque particular en el movimiento antigénero/antiderechos y en cómo ha evolucionado a nivel global en los últimos años.
URL:https://linagalvez.eu/agenda/grabacion-documental-international-democracy-project-arte-tv/
CATEGORIES:Actualidad,FEMM,Parlamento,S&D
ATTACH;FMTTYPE=image/jpeg:https://linagalvez.eu/wp-content/uploads/2024/04/LG-medios.jpeg
END:VEVENT
BEGIN:VEVENT
DTSTART;TZID=Europe/Madrid:20260203T090000
DTEND;TZID=Europe/Madrid:20260203T094500
DTSTAMP:20260420T205259
CREATED:20260130T111627Z
LAST-MODIFIED:20260202T085617Z
UID:13441-1770109200-1770111900@linagalvez.eu
SUMMARY:S&D INTA Working Group
DESCRIPTION:Lina Gálvez participará en la reunión del grupo S&D de la Comisión de Comercio Internacional (INTA) del Parlamento Europeo\, de la que forma parte. \nAsuntos destacados a tratar: \n\nInformación sobre el Acuerdo UE-Marruecos: solicitud de un dictamen del TJUE\nIntercambio de puntos de vista: Ajuste de los derechos de aduana sobre la importación de determinados productos originarios de Estados Unidos y apertura de contingentes arancelarios para la importación de determinados productos originarios de Estados Unidos\, así como no aplicación de derechos de aduana a la importación de determinados productos\nNegociaciones multilaterales con vistas a la 14.ª Conferencia Ministerial de la OMC en Yaundé (Camerún)\, del 26 al 29 de marzo de 2026\nConclusión del Acuerdo de Libre Comercio UE-India
URL:https://linagalvez.eu/agenda/sd-inta-working-group-meeting-2026-02/
CATEGORIES:Actualidad,INTA,Parlamento,S&D
ATTACH;FMTTYPE=image/jpeg:https://linagalvez.eu/wp-content/uploads/2024/09/INTA-16-9.jpeg
END:VEVENT
BEGIN:VEVENT
DTSTART;TZID=Europe/Madrid:20260203T123000
DTEND;TZID=Europe/Madrid:20260203T133000
DTSTAMP:20260420T205259
CREATED:20260130T083947Z
LAST-MODIFIED:20260202T092348Z
UID:13446-1770121800-1770125400@linagalvez.eu
SUMMARY:Reunión de la Delegación Socialista Española (DSE)
DESCRIPTION:Lina Gálvez participará en la reunión de la Delegación Socialista Española\, en calidad de secretaria general adjunta\, para debatir y coordinar estrategias políticas\, en preparación del pleno de Estrasburgo de la semana siguiente.
URL:https://linagalvez.eu/agenda/sd-reunion-delegacion-socialista-espanola-dse-2026-02/
CATEGORIES:Actualidad,Parlamento,S&D
ATTACH;FMTTYPE=image/jpeg:https://linagalvez.eu/wp-content/uploads/DSE-Delegacion-Socialista-Espanola-10legislatura-en-PE.jpeg
END:VEVENT
BEGIN:VEVENT
DTSTART;TZID=Europe/Madrid:20260203T181500
DTEND;TZID=Europe/Madrid:20260203T193000
DTSTAMP:20260420T205259
CREATED:20260130T083948Z
LAST-MODIFIED:20260202T092920Z
UID:13448-1770142500-1770147000@linagalvez.eu
SUMMARY:Reunión del Grupo S&D preparatoria del pleno de Estrasburgo
DESCRIPTION:Lina Gálvez participará en la reunión del Grupo de la Alianza Progresista de Socialistas y Demócratas (S&D) en el Parlamento Europeo\, donde participará en un intercambio de opiniones y puntos de vista con otras personas del grupo\, para debatir y coordinar estrategias sobre temas clave de la agenda política.
URL:https://linagalvez.eu/agenda/reunion-grupo-sd-2026-02/
CATEGORIES:Actualidad,Parlamento,S&D
ATTACH;FMTTYPE=image/jpeg:https://linagalvez.eu/wp-content/uploads/SD-banner-euractiv.jpg
END:VEVENT
BEGIN:VEVENT
DTSTART;TZID=Europe/Madrid:20260209T160000
DTEND;TZID=Europe/Madrid:20260209T170000
DTSTAMP:20260420T205259
CREATED:20260206T083948Z
LAST-MODIFIED:20260209T125614Z
UID:13506-1770652800-1770656400@linagalvez.eu
SUMMARY:Reunión del Grupo S&D: Preparación de la semana de Pleno
DESCRIPTION:Lina Gálvez participará en la reunión del Grupo de la Alianza Progresista de Socialistas y Demócratas (S&D) en el Parlamento Europeo\, dedicada a preparar la sesión plenaria que se celebrará esta semana en Estrasburgo. Durante el encuentro se coordinarán posiciones y se abordarán los principales temas del orden del día.
URL:https://linagalvez.eu/agenda/reunion-grupo-sd-2026-02-2/
CATEGORIES:Actualidad,Parlamento,S&D
ATTACH;FMTTYPE=image/png:https://linagalvez.eu/wp-content/uploads/2020/01/1-S&D.svg.png
END:VEVENT
BEGIN:VEVENT
DTSTART;TZID=Europe/Madrid:20260210T090000
DTEND;TZID=Europe/Madrid:20260210T100000
DTSTAMP:20260420T205259
CREATED:20260206T083947Z
LAST-MODIFIED:20260209T130107Z
UID:13512-1770714000-1770717600@linagalvez.eu
SUMMARY:S&D FEMM Working Group meeting
DESCRIPTION:Lina Gálvez participará en la reunión de trabajo del grupo S&D Socialistas y Demócratas de la Comisión de Derechos de la Mujer e Igualdad de Género (FEMM). Donde se abordarán y coordinarán puntos importantes de este pleno.
URL:https://linagalvez.eu/agenda/sd-femm-working-group-meeting-2026-02/
CATEGORIES:Actualidad,FEMM,Parlamento,S&D
ATTACH;FMTTYPE=image/png:https://linagalvez.eu/wp-content/uploads/2023/01/femm_logo.png
END:VEVENT
BEGIN:VEVENT
DTSTART;TZID=Europe/Madrid:20260210T170000
DTEND;TZID=Europe/Madrid:20260210T180000
DTSTAMP:20260420T205259
CREATED:20260206T090656Z
LAST-MODIFIED:20260225T105433Z
UID:13522-1770742800-1770746400@linagalvez.eu
SUMMARY:Horizon Europe Shadows Meeting
DESCRIPTION:La eurodiputada Lina Gálvez participará en la reunión técnica informal de ponentes en la sombra sobre el programa Horizonte Europa\, de la que es shadow rapporteur en representación del grupo de Socialistas y Demócratas del Parlamento Europeo.
URL:https://linagalvez.eu/agenda/horizon-europe-shadows-meeting-2026-02/
CATEGORIES:Actualidad,Horizon Europe,ITRE,Parlamento,S&D
ATTACH;FMTTYPE=image/jpeg:https://linagalvez.eu/wp-content/uploads/horizonEurope.jpg
END:VEVENT
BEGIN:VEVENT
DTSTART;TZID=Europe/Madrid:20260210T183000
DTEND;TZID=Europe/Madrid:20260210T200000
DTSTAMP:20260420T205259
CREATED:20260206T083948Z
LAST-MODIFIED:20260209T125731Z
UID:13508-1770748200-1770753600@linagalvez.eu
SUMMARY:Reunión del Grupo S&D
DESCRIPTION:Lina Gálvez participará en la reunión del Grupo de la Alianza Progresista de Socialistas y Demócratas (S&D) en el Parlamento Europeo\, donde participará en un intercambio de opiniones y puntos de vista con otras personas del grupo\, para debatir y coordinar estrategias sobre temas clave de la agenda política.
URL:https://linagalvez.eu/agenda/reunion-grupo-sd-2026-02-3/
CATEGORIES:Actualidad,Parlamento,S&D
ATTACH;FMTTYPE=image/jpeg:https://linagalvez.eu/wp-content/uploads/SD-banner-euractiv.jpg
END:VEVENT
BEGIN:VEVENT
DTSTART;TZID=Europe/Madrid:20260211T170000
DTEND;TZID=Europe/Madrid:20260211T174500
DTSTAMP:20260420T205259
CREATED:20250206T131123Z
LAST-MODIFIED:20260210T093447Z
UID:13525-1770829200-1770831900@linagalvez.eu
SUMMARY:Reunión INTA WorkGroup S&D
DESCRIPTION:INTA WG S&D \nLa eurodiputada Lina Gálvez participará en la reunión del grupo S&D del Comité de Comercio Internacional (INTA) del Parlamento Europeo. \nCon los siguientes temas en la agenda: \n\nIntercambio de puntos de vista sobre el Acuerdo UE-Mercosur: tras la votación del TJUE\nResolución sobre las negociaciones multilaterales con vistas a la 14.ª Conferencia Ministerial de la OMC\nConclusión del TLC (Acuerdo de Libre Comercio) UE-India\nAjuste de los derechos de aduana sobre la importación de mercancías de EE. UU. (contingentes arancelarios y exenciones).
URL:https://linagalvez.eu/agenda/reunion-grupo-trabajo-sd-inta-2026-02/
CATEGORIES:Actualidad,INTA,Parlamento,S&D
ATTACH;FMTTYPE=image/jpeg:https://linagalvez.eu/wp-content/uploads/2024/05/Lina-Galvez-UPO--scaled.jpeg
END:VEVENT
BEGIN:VEVENT
DTSTART;TZID=Europe/Madrid:20260211T184500
DTEND;TZID=Europe/Madrid:20260211T203000
DTSTAMP:20260420T205259
CREATED:20260206T083948Z
LAST-MODIFIED:20260209T125833Z
UID:13510-1770835500-1770841800@linagalvez.eu
SUMMARY:Reunión de grupo de S&D
DESCRIPTION:LGM asistirá a la reunión de grupo de Socialists & Democrats donde participará en un intercambio de opiniones y puntos de vista con otros miembros del grupo\, para debatir y coordinar estrategias sobre temas clave de la agenda política.
URL:https://linagalvez.eu/agenda/reunion-grupo-sd-2026-02-4/
CATEGORIES:Actualidad,Parlamento,S&D
ATTACH;FMTTYPE=image/png:https://linagalvez.eu/wp-content/uploads/2020/05/digital-europe.png
END:VEVENT
BEGIN:VEVENT
DTSTART;TZID=Europe/Madrid:20260212T090000
DTEND;TZID=Europe/Madrid:20260212T093000
DTSTAMP:20260420T205259
CREATED:20260206T094153Z
LAST-MODIFIED:20260210T094115Z
UID:13529-1770886800-1770888600@linagalvez.eu
SUMMARY:Grupo de Trabajo de Europa Digital
DESCRIPTION:Reunión del grupo de trabajo digital del Grupo de Socialistas y Demócratas Se debatirán expedientes legislativos en el ámbito digital\, prioridad para el Grupo S&D.
URL:https://linagalvez.eu/agenda/grupo-trabajo-europa-digital-2026-02/
CATEGORIES:ITRE,Parlamento,S&D,STOA
ATTACH;FMTTYPE=image/png:https://linagalvez.eu/wp-content/uploads/2020/05/digital-europe.png
END:VEVENT
BEGIN:VEVENT
DTSTART;TZID=Europe/Madrid:20260224T124500
DTEND;TZID=Europe/Madrid:20260224T140000
DTSTAMP:20260420T205259
CREATED:20260220T090656Z
LAST-MODIFIED:20260225T112257Z
UID:13644-1771937100-1771941600@linagalvez.eu
SUMMARY:Horizon Europe Shadows Meeting
DESCRIPTION:La eurodiputada Lina Gálvez participará en la reunión técnica informal de ponentes en la sombra sobre el programa Horizonte Europa\, de la que es shadow rapporteur en representación del grupo de Socialistas y Demócratas del Parlamento Europeo.
URL:https://linagalvez.eu/agenda/horizon-europe-shadows-meeting-2026-02-2/
CATEGORIES:Actualidad,Destacado,Horizon Europe,ITRE,Parlamento,S&D
ATTACH;FMTTYPE=image/jpeg:https://linagalvez.eu/wp-content/uploads/horizonEurope.jpg
END:VEVENT
BEGIN:VEVENT
DTSTART;TZID=Europe/Madrid:20260224T150000
DTEND;TZID=Europe/Madrid:20260224T163000
DTSTAMP:20260420T205259
CREATED:20260220T143737Z
LAST-MODIFIED:20260225T112222Z
UID:13646-1771945200-1771950600@linagalvez.eu
SUMMARY:Comisión ITRE: reunión de trabajo sobre Horizonte Europa
DESCRIPTION:Lina Gálvez participará en la reunión de la Comisión de Industria\, Investigación y Energía (ITRE)\, en la que se realizará un intercambio de puntos de vista sobre Horizonte Europa. \nLa eurodiputada Gálvez es relatora en la sombra (shadow rapporteur) por parte del Grupo S&D del programa Horizonte Europa (2028-2034)\, principal instrumento de financiación de la Unión Europea para la investigación\, el desarrollo tecnológico y la innovación.
URL:https://linagalvez.eu/agenda/reunion-comision-industria-investigacion-energia-itre-2026-02-horizonte-europa-2/
CATEGORIES:ITRE,S&D
ATTACH;FMTTYPE=image/jpeg:https://linagalvez.eu/wp-content/uploads/horizonEurope.jpg
END:VEVENT
BEGIN:VEVENT
DTSTART;TZID=Europe/Madrid:20260226T144500
DTEND;TZID=Europe/Madrid:20260226T154500
DTSTAMP:20260420T205259
CREATED:20260220T103647Z
LAST-MODIFIED:20260303T102210Z
UID:13665-1772117100-1772120700@linagalvez.eu
SUMMARY:Entrevistas a Lina Gálvez por el día internacional de la mujer\, de ONU Mujeres y otras organizaciones
DESCRIPTION:Lina Gálvez\, presidenta de la Comisión de Derechos de las Mujeres e Igualdad de Género (FEMM) del Parlamento Europeo\, será entrevistada por ONU mujeres y otras organizaciones\, con motivo del Día Internacional de las Mujeres\, que se conmemora el próximo 8 de marzo de 2026.
URL:https://linagalvez.eu/agenda/entrevistas-lina-iwd-un-women-organizaciones/
CATEGORIES:Actualidad,FEMM,Parlamento,S&D
ATTACH;FMTTYPE=image/jpeg:https://linagalvez.eu/wp-content/uploads/2023/01/hq720.jpg
END:VEVENT
BEGIN:VEVENT
DTSTART;TZID=Europe/Madrid:20260302T140000
DTEND;TZID=Europe/Madrid:20260302T143000
DTSTAMP:20260420T205259
CREATED:20260227T142958Z
LAST-MODIFIED:20260303T094509Z
UID:13688-1772460000-1772461800@linagalvez.eu
SUMMARY:Grabación del Podcast FEPS Talks: Política Exterior Feminista
DESCRIPTION:Lina Gálvez será entrevistada en la edición especial «Política Exterior Feminista» por el Día Internacional de las Mujeres\, del podcast «FEPS Talks»de la Fundación Europea de Estudios Progresistas (FEPS) junto a otra experta. \nLina Gálvez es presidenta de la comisión de Igualdad de Género y Derechos de las Mujeres (FEMM) del Parlamento Europeo\, y vicepresidenta de la fundación y presidenta de su comité científico.
URL:https://linagalvez.eu/agenda/grabacion-podcast-feps-talks-politica-exterior-feminista-2026-03-8m/
CATEGORIES:Actualidad,FEPS,S&D
ATTACH;FMTTYPE=image/webp:https://linagalvez.eu/wp-content/uploads/FEPS-talks-2-3-copia.webp
END:VEVENT
BEGIN:VEVENT
DTSTART;TZID=Europe/Madrid:20260302T163000
DTEND;TZID=Europe/Madrid:20260302T170000
DTSTAMP:20260420T205259
CREATED:20260227T103647Z
LAST-MODIFIED:20260303T103445Z
UID:13695-1772469000-1772470800@linagalvez.eu
SUMMARY:Entrevista a Lina Gálvez para La Vanguardia por el Día Internacional de las Mujeres
DESCRIPTION:Lina Gálvez\, presidenta de la Comisión de Derechos de las Mujeres e Igualdad de Género (FEMM) del Parlamento Europeo\, será entrevistada por La Vanguardia\, para analizar los avances en igualdad en la UE\, la brecha de inversión de género y los retos ante los movimientos anti-género; con motivo del Día Internacional de las Mujeres\, que se conmemora el próximo 8 de marzo de 2026.
URL:https://linagalvez.eu/agenda/entrevista-vanguardia-iwd-2026-8m/
CATEGORIES:Actualidad,FEMM,Parlamento,S&D
ATTACH;FMTTYPE=image/jpeg:https://linagalvez.eu/wp-content/uploads/2023/01/hq720.jpg
END:VEVENT
BEGIN:VEVENT
DTSTART;TZID=Europe/Madrid:20260302T170000
DTEND;TZID=Europe/Madrid:20260302T180000
DTSTAMP:20260420T205259
CREATED:20260227T065256Z
LAST-MODIFIED:20260303T105420Z
UID:13703-1772470800-1772474400@linagalvez.eu
SUMMARY:Evento "Lucha contra la Violencia de Género"
DESCRIPTION:Lina Gálvez\, intervendrá en el evento «Lucha contra la Violencia de Género»\, organizado por la eurodiputada italiana del S&D Alessandra Moretti. Gálvez ha sido invitada para intervenir destacando el papel de España como referente europeo en igualdad y lucha contra la violencia de género. \nFuente de la imagen: Parlamento Europeo. En esta web se realiza un uso justo y no comercial de la imagen para la difusión del evento.
URL:https://linagalvez.eu/agenda/evento-lucha-contra-violencia-genero-2026-03-mep-moretti/
CATEGORIES:Actualidad,FEMM,Parlamento,S&D
ATTACH;FMTTYPE=image/webp:https://linagalvez.eu/wp-content/uploads/2024/11/Violence-aganist-women-must-end-EP-25N2024.webp
END:VEVENT
END:VCALENDAR