BEGIN:VCALENDAR
VERSION:2.0
PRODID:-//Lina Gálvez - ECPv6.15.20//NONSGML v1.0//EN
CALSCALE:GREGORIAN
METHOD:PUBLISH
X-WR-CALNAME:Lina Gálvez
X-ORIGINAL-URL:https://linagalvez.eu
X-WR-CALDESC:Eventos para Lina Gálvez
REFRESH-INTERVAL;VALUE=DURATION:PT1H
X-Robots-Tag:noindex
X-PUBLISHED-TTL:PT1H
BEGIN:VTIMEZONE
TZID:Europe/Madrid
BEGIN:DAYLIGHT
TZOFFSETFROM:+0100
TZOFFSETTO:+0200
TZNAME:CEST
DTSTART:20240331T010000
END:DAYLIGHT
BEGIN:STANDARD
TZOFFSETFROM:+0200
TZOFFSETTO:+0100
TZNAME:CET
DTSTART:20241027T010000
END:STANDARD
BEGIN:DAYLIGHT
TZOFFSETFROM:+0100
TZOFFSETTO:+0200
TZNAME:CEST
DTSTART:20250330T010000
END:DAYLIGHT
BEGIN:STANDARD
TZOFFSETFROM:+0200
TZOFFSETTO:+0100
TZNAME:CET
DTSTART:20251026T010000
END:STANDARD
BEGIN:DAYLIGHT
TZOFFSETFROM:+0100
TZOFFSETTO:+0200
TZNAME:CEST
DTSTART:20260329T010000
END:DAYLIGHT
BEGIN:STANDARD
TZOFFSETFROM:+0200
TZOFFSETTO:+0100
TZNAME:CET
DTSTART:20261025T010000
END:STANDARD
END:VTIMEZONE
BEGIN:VEVENT
DTSTART;TZID=Europe/Madrid:20250306T080000
DTEND;TZID=Europe/Madrid:20250306T090000
DTSTAMP:20260422T122155
CREATED:20250228T083948Z
LAST-MODIFIED:20250303T103639Z
UID:11001-1741248000-1741251600@linagalvez.eu
SUMMARY:Reunión de trabajo interparlamentaria de integrantes del S&D
DESCRIPTION:Lina Gálvez presidirá la reunión de trabajo interparlamentaria de integrantes del grupo Socialists & Democrats (S&D)  previa a la reunión del Comité Interparlamentario en la Comisión FEMM donde se facilitará un diálogo sobre cuestiones de política de igualdad de género.
URL:https://linagalvez.eu/agenda/reunion-trabajo-interparlamentaria-8m-sd-2025-03/
CATEGORIES:Actualidad,FEMM,Parlamento,S&D
ATTACH;FMTTYPE=image/png:https://linagalvez.eu/wp-content/uploads/2020/01/1-S&D.svg.png
END:VEVENT
BEGIN:VEVENT
DTSTART;TZID=Europe/Madrid:20250310T160000
DTEND;TZID=Europe/Madrid:20250310T170000
DTSTAMP:20260422T122155
CREATED:20250307T083948Z
LAST-MODIFIED:20250310T095842Z
UID:11093-1741622400-1741626000@linagalvez.eu
SUMMARY:Reunión de grupo de S&D
DESCRIPTION:Lina Gálvez asistirá a la reunión de grupo de Socialists & Democrats donde participará en un intercambio de opiniones y puntos de vista con otros miembros del grupo\, para debatir y coordinar estrategias sobre temas clave de la agenda política.
URL:https://linagalvez.eu/agenda/reunion-grupo-sd-2025-03/
CATEGORIES:Actualidad,Parlamento,S&D
ATTACH;FMTTYPE=image/png:https://linagalvez.eu/wp-content/uploads/2020/01/1-S&D.svg.png
END:VEVENT
BEGIN:VEVENT
DTSTART;TZID=Europe/Madrid:20250311T130000
DTEND;TZID=Europe/Madrid:20250311T133000
DTSTAMP:20260422T122155
CREATED:20250310T125816Z
LAST-MODIFIED:20250312T110519Z
UID:11182-1741698000-1741699800@linagalvez.eu
SUMMARY:Intervención en Pleno "Hoja de ruta para los derechos de las mujeres de la Comisión Europea"
DESCRIPTION:13:21 Intervención en Pleno de Estrasburgo \nLina Gálvez tendrá la palabra en en el Pleno del Parlamento en el debate sobre la Hoja de ruta para los derechos de las mujeres \nSe puede seguir la intervención en el siguiente enlace: AQUÍ \nVer noticia relacionada: Lina Gálvez: Intervención en pleno sobre la Hoja de ruta para los derechos de las mujeres
URL:https://linagalvez.eu/agenda/intervencion-pleno-hoja-ruta-derechos-mujeres-ce/
CATEGORIES:Actualidad,FEMM,Parlamento,S&D
ATTACH;FMTTYPE=image/jpeg:https://linagalvez.eu/wp-content/uploads/2020/03/European_Parliament_Strasbourg_Hemicycle_-_Diliff-2-scaled.jpg
END:VEVENT
BEGIN:VEVENT
DTSTART;TZID=Europe/Madrid:20250311T133000
DTEND;TZID=Europe/Madrid:20250311T143000
DTSTAMP:20260422T122155
CREATED:20250307T083947Z
LAST-MODIFIED:20250310T100156Z
UID:11097-1741699800-1741703400@linagalvez.eu
SUMMARY:Reunión de la Delegación Socialista Española.
DESCRIPTION:Lina Gálvez asistirá a la reunión de la Delegación Socialista Española para debatir y coordinar estrategias sobre temas clave de la agenda política.
URL:https://linagalvez.eu/agenda/sd-reunion-delegacion-socialista-espanola-dse-25-03-2/
CATEGORIES:Actualidad,Parlamento,S&D
ATTACH;FMTTYPE=image/jpeg:https://linagalvez.eu/wp-content/uploads/2024/07/GP-Socialista-X-Legislatura.jpeg
END:VEVENT
BEGIN:VEVENT
DTSTART;TZID=Europe/Madrid:20250311T151500
DTEND;TZID=Europe/Madrid:20250311T160000
DTSTAMP:20260422T122155
CREATED:20250307T083947Z
LAST-MODIFIED:20250310T104350Z
UID:11095-1741706100-1741708800@linagalvez.eu
SUMMARY:S&D ITRE Working Group meeting
DESCRIPTION:Lina Gálvez asistirá a la reunión del grupo S&D de la Comisión de Industria\, Investigación y Energía (ITRE)\, de la que la eurodiputada forma parte.
URL:https://linagalvez.eu/agenda/sd-itre-working-group-meeting-25-03/
CATEGORIES:Actualidad,ITRE,Parlamento,S&D
ATTACH;FMTTYPE=image/jpeg:https://linagalvez.eu/wp-content/uploads/2025_01-Lina-ITRE.jpg
END:VEVENT
BEGIN:VEVENT
DTSTART;TZID=Europe/Madrid:20250311T183000
DTEND;TZID=Europe/Madrid:20250311T210000
DTSTAMP:20260422T122155
CREATED:20250307T083948Z
LAST-MODIFIED:20250310T104728Z
UID:11099-1741717800-1741726800@linagalvez.eu
SUMMARY:Reunión de grupo de S&D
DESCRIPTION:LGM asistirá a la reunión de grupo de Socialists & Democrats donde participará en un intercambio de opiniones y puntos de vista con otros miembros del grupo\, para debatir y coordinar estrategias sobre temas clave de la agenda política.
URL:https://linagalvez.eu/agenda/reunion-grupo-sd-2025-03-2/
CATEGORIES:Actualidad,Parlamento,S&D
ATTACH;FMTTYPE=image/jpeg:https://linagalvez.eu/wp-content/uploads/SD-banner-euractiv.jpg
END:VEVENT
BEGIN:VEVENT
DTSTART;TZID=Europe/Madrid:20250312T170000
DTEND;TZID=Europe/Madrid:20250312T174500
DTSTAMP:20260422T122155
CREATED:20250307T131123Z
LAST-MODIFIED:20250310T101243Z
UID:11105-1741798800-1741801500@linagalvez.eu
SUMMARY:Reunión INTA WorkGroup S&D
DESCRIPTION:INTA WG S&D \nLa eurodiputada Lina Gálvez participará en la reunión del grupo S&D del Comité de Comercio Internacional (INTA) del Parlamento Europeo.
URL:https://linagalvez.eu/agenda/reunion-grupo-trabajo-sd-inta-25-03/
CATEGORIES:Actualidad,INTA,Parlamento,S&D
ATTACH;FMTTYPE=image/jpeg:https://linagalvez.eu/wp-content/uploads/2024/05/Lina-Galvez-UPO--scaled.jpeg
END:VEVENT
BEGIN:VEVENT
DTSTART;TZID=Europe/Madrid:20250312T181500
DTEND;TZID=Europe/Madrid:20250312T203000
DTSTAMP:20260422T122155
CREATED:20250307T083948Z
LAST-MODIFIED:20250310T101057Z
UID:11103-1741803300-1741811400@linagalvez.eu
SUMMARY:Reunión de grupo de S&D
DESCRIPTION:LGM asistirá a la reunión de grupo de Socialists & Democrats donde participará en un intercambio de opiniones y puntos de vista con otros miembros del grupo\, para debatir y coordinar estrategias sobre temas clave de la agenda política.
URL:https://linagalvez.eu/agenda/reunion-grupo-sd-2025-03-3/
CATEGORIES:Actualidad,Parlamento,S&D
ATTACH;FMTTYPE=image/png:https://linagalvez.eu/wp-content/uploads/2020/01/1-S&D.svg.png
END:VEVENT
BEGIN:VEVENT
DTSTART;TZID=Europe/Madrid:20250313T110000
DTEND;TZID=Europe/Madrid:20250313T120000
DTSTAMP:20260422T122155
CREATED:20250207T083947Z
LAST-MODIFIED:20250310T114811Z
UID:11107-1741863600-1741867200@linagalvez.eu
SUMMARY:S&D FEMM Working Group meeting
DESCRIPTION:Lina Gálvez asistirá la reunión de trabajo del grupo S&D Socialistas y Demócratas de la Comisión de Derechos de la Mujer e Igualdad de Género (FEMM)\, de la que es presidenta.
URL:https://linagalvez.eu/agenda/sd-femm-working-group-meeting-2503/
CATEGORIES:Actualidad,FEMM,Parlamento,S&D
ATTACH;FMTTYPE=image/png:https://linagalvez.eu/wp-content/uploads/2023/01/femm_logo.png
END:VEVENT
BEGIN:VEVENT
DTSTART;TZID=Europe/Madrid:20250324T160000
DTEND;TZID=Europe/Madrid:20250324T170000
DTSTAMP:20260422T122155
CREATED:20250321T152459Z
LAST-MODIFIED:20250323T184640Z
UID:11328-1742832000-1742835600@linagalvez.eu
SUMMARY:Sesión "Una reconstrucción que empodere a las mujeres en Ucrania" en el Programa “Ucrania Progresista" - FEPS
DESCRIPTION:Lina Gálvez impartirá la sesión «Una reconstrucción que empodere a las mujeres en Ucrania» en el Programa “Ucrania Progresista» organizado conjuntamente por la Fundación para Estudios Progresistas Europeos (FEPS) y la Alianza Progresista de Socialistas y Demócratas en el Parlamento Europeo (Grupo S&D) en el marco de la «Universidad Abierta Progresista» (OPU).
URL:https://linagalvez.eu/agenda/sesion-reconstruccion-empodere-mujeres-ucrania-programa-ucrania-progresista-feps/
CATEGORIES:Destacado,FEMM,FEPS,S&D,Universidad
ATTACH;FMTTYPE=image/jpeg:https://linagalvez.eu/wp-content/uploads/Trenza-ucrania-PE.jpg
END:VEVENT
BEGIN:VEVENT
DTSTART;TZID=Europe/Madrid:20250325T103000
DTEND;TZID=Europe/Madrid:20250325T111500
DTSTAMP:20260422T122155
CREATED:20250321T083947Z
LAST-MODIFIED:20250323T185535Z
UID:11334-1742898600-1742901300@linagalvez.eu
SUMMARY:S&D ITRE Working Group meeting
DESCRIPTION:Lina Gálvez asistirá a la reunión del grupo S&D como parte de de la Comisión de Industria\, Investigación y Energía (ITRE).
URL:https://linagalvez.eu/agenda/sd-itre-working-group-meeting-25-01-2-2/
CATEGORIES:Actualidad,ITRE,Parlamento,S&D
ATTACH;FMTTYPE=image/png:https://linagalvez.eu/wp-content/uploads/2020/06/ITRE-1.png
END:VEVENT
BEGIN:VEVENT
DTSTART;TZID=Europe/Madrid:20250325T123000
DTEND;TZID=Europe/Madrid:20250325T133000
DTSTAMP:20260422T122155
CREATED:20250322T083947Z
LAST-MODIFIED:20250323T185725Z
UID:11336-1742905800-1742909400@linagalvez.eu
SUMMARY:Reunión de la Delegación Socialista Española.
DESCRIPTION:Lina Gálvez asistirá a la reunión de la Delegación Socialista Española para debatir y coordinar estrategias sobre temas clave de la agenda política.
URL:https://linagalvez.eu/agenda/sd-reunion-delegacion-socialista-espanola-dse-25-03-3/
CATEGORIES:Actualidad,Parlamento,S&D
ATTACH;FMTTYPE=image/jpeg:https://linagalvez.eu/wp-content/uploads/2024/07/GP-Socialista-X-Legislatura.jpeg
END:VEVENT
BEGIN:VEVENT
DTSTART;TZID=Europe/Madrid:20250325T181500
DTEND;TZID=Europe/Madrid:20250325T193000
DTSTAMP:20260422T122155
CREATED:20250322T083948Z
LAST-MODIFIED:20250323T190111Z
UID:11338-1742926500-1742931000@linagalvez.eu
SUMMARY:Reunión de grupo de S&D
DESCRIPTION:Lina Gálvez asistirá a la reunión de grupo de Socialists & Democrats donde participará en un intercambio de opiniones y puntos de vista con otros miembros del grupo\, para debatir y coordinar estrategias sobre temas clave de la agenda política.
URL:https://linagalvez.eu/agenda/reunion-grupo-sd-2025-03-4/
CATEGORIES:Actualidad,Parlamento,S&D
ATTACH;FMTTYPE=image/png:https://linagalvez.eu/wp-content/uploads/2020/05/digital-europe.png
END:VEVENT
BEGIN:VEVENT
DTSTART;TZID=Europe/Madrid:20250326T103000
DTEND;TZID=Europe/Madrid:20250326T123000
DTSTAMP:20260422T122155
CREATED:20250322T083948Z
LAST-MODIFIED:20250323T191750Z
UID:11345-1742985000-1742992200@linagalvez.eu
SUMMARY:Reunión de grupo de S&D
DESCRIPTION:Lina Gálvez asistirá a la reunión de grupo de Socialists & Democrats donde participará en un intercambio de opiniones y puntos de vista con otros miembros del grupo\, para debatir y coordinar estrategias sobre temas clave de la agenda política.
URL:https://linagalvez.eu/agenda/reunion-grupo-sd-2025-03-5/
CATEGORIES:Actualidad,Parlamento,S&D
ATTACH;FMTTYPE=image/jpeg:https://linagalvez.eu/wp-content/uploads/SD-banner-euractiv.jpg
END:VEVENT
BEGIN:VEVENT
DTSTART;TZID=Europe/Madrid:20250326T163000
DTEND;TZID=Europe/Madrid:20250326T173000
DTSTAMP:20260422T122155
CREATED:20250322T083947Z
LAST-MODIFIED:20250323T192618Z
UID:11347-1743006600-1743010200@linagalvez.eu
SUMMARY:Reunión de la Delegación Socialista Española.
DESCRIPTION:Lina Gálvez asistirá a la reunión de la Delegación Socialista Española con Enma López Araújo\, Secretaría de Política Económica y Transformación Digital PSOE\, para debatir y coordinar estrategias sobre temas clave de la agenda política.
URL:https://linagalvez.eu/agenda/sd-reunion-delegacion-socialista-espanola-dse-25-03-4/
CATEGORIES:Actualidad,Parlamento,S&D
ATTACH;FMTTYPE=image/webp:https://linagalvez.eu/wp-content/uploads/DSE-PE.webp
END:VEVENT
BEGIN:VEVENT
DTSTART;TZID=Europe/Madrid:20250331T160000
DTEND;TZID=Europe/Madrid:20250331T170000
DTSTAMP:20260422T122155
CREATED:20250328T083948Z
LAST-MODIFIED:20250331T083438Z
UID:11388-1743436800-1743440400@linagalvez.eu
SUMMARY:Reunión de grupo de S&D
DESCRIPTION:LGM asistirá a la reunión de grupo de Socialists & Democrats donde participará en un intercambio de opiniones y puntos de vista con otros miembros del grupo\, para debatir y coordinar estrategias sobre temas clave de la agenda política.
URL:https://linagalvez.eu/agenda/reunion-grupo-sd-2025-03-6/
CATEGORIES:Actualidad,Parlamento,S&D
ATTACH;FMTTYPE=image/png:https://linagalvez.eu/wp-content/uploads/2020/01/1-S&D.svg.png
END:VEVENT
BEGIN:VEVENT
DTSTART;TZID=Europe/Madrid:20250401T090000
DTEND;TZID=Europe/Madrid:20250401T094500
DTSTAMP:20260422T122155
CREATED:20250328T083947Z
LAST-MODIFIED:20250331T084045Z
UID:11394-1743498000-1743500700@linagalvez.eu
SUMMARY:S&D FEMM Working Group meeting
DESCRIPTION:Lina Gálvez asistirá la reunión de trabajo del grupo S&D Socialistas y Demócratas de la Comisión de Derechos de la Mujer e Igualdad de Género (FEMM)\, de la que es presidenta.
URL:https://linagalvez.eu/agenda/sd-femm-working-group-meeting-2504/
CATEGORIES:Actualidad,FEMM,Parlamento,S&D
ATTACH;FMTTYPE=image/png:https://linagalvez.eu/wp-content/uploads/2023/01/femm_logo.png
END:VEVENT
BEGIN:VEVENT
DTSTART;TZID=Europe/Madrid:20250401T110000
DTEND;TZID=Europe/Madrid:20250401T120000
DTSTAMP:20260422T122155
CREATED:20250328T083947Z
LAST-MODIFIED:20250331T084919Z
UID:11402-1743505200-1743508800@linagalvez.eu
SUMMARY:S&D ITRE Working Group meeting
DESCRIPTION:Lina Gálvez asistirá a la reunión del grupo S&D de la Comisión de Industria\, Investigación y Energía (ITRE)\, de la que la eurodiputada forma parte.
URL:https://linagalvez.eu/agenda/sd-itre-working-group-meeting-25-04/
CATEGORIES:Actualidad,ITRE,Parlamento,S&D
ATTACH;FMTTYPE=image/jpeg:https://linagalvez.eu/wp-content/uploads/2025_01-Lina-ITRE.jpg
END:VEVENT
BEGIN:VEVENT
DTSTART;TZID=Europe/Madrid:20250401T130000
DTEND;TZID=Europe/Madrid:20250401T140000
DTSTAMP:20260422T122155
CREATED:20250328T083947Z
LAST-MODIFIED:20250331T084658Z
UID:11400-1743512400-1743516000@linagalvez.eu
SUMMARY:Reunión de trabajo de la DSE.
DESCRIPTION:Lina Gálvez asistirá a la reunión de la Delegación Socialista Española para debatir y coordinar estrategias sobre temas clave de la agenda política.
URL:https://linagalvez.eu/agenda/sd-reunion-delegacion-socialista-espanola-dse-25-04/
CATEGORIES:Actualidad,Parlamento,S&D
ATTACH;FMTTYPE=image/jpeg:https://linagalvez.eu/wp-content/uploads/2024/07/GP-Socialista-X-Legislatura.jpeg
END:VEVENT
BEGIN:VEVENT
DTSTART;TZID=Europe/Madrid:20250401T183000
DTEND;TZID=Europe/Madrid:20250401T210000
DTSTAMP:20260422T122155
CREATED:20250327T083948Z
LAST-MODIFIED:20250331T083613Z
UID:11390-1743532200-1743541200@linagalvez.eu
SUMMARY:Reunión de grupo de S&D
DESCRIPTION:Lina Gálvez asistirá a la reunión de grupo de Socialists & Democrats donde participará en un intercambio de opiniones y puntos de vista con otros miembros del grupo\, para debatir y coordinar estrategias sobre temas clave de la agenda política.
URL:https://linagalvez.eu/agenda/reunion-grupo-sd-2025-04/
CATEGORIES:Actualidad,Parlamento,S&D
ATTACH;FMTTYPE=image/png:https://linagalvez.eu/wp-content/uploads/2020/05/digital-europe.png
END:VEVENT
BEGIN:VEVENT
DTSTART;TZID=Europe/Madrid:20250402T170000
DTEND;TZID=Europe/Madrid:20250402T174500
DTSTAMP:20260422T122155
CREATED:20250327T083947Z
LAST-MODIFIED:20250331T090409Z
UID:11412-1743613200-1743615900@linagalvez.eu
SUMMARY:S&D INTA & ITRE Working Group meeting
DESCRIPTION:Lina Gálvez asistirá a la reunión del grupo S&D conjunta de las Comisiones de Comercio Internacional (INTA) e Industria\, Investigación y Energía (ITRE)\, como integrante de ambas\, en la que se llevará a cabo un intercambio de opiniones sobre el Acuerdo de Mercosur.
URL:https://linagalvez.eu/agenda/sd-inta-itre-working-group-meeting-25-04/
CATEGORIES:Actualidad,INTA,ITRE,Parlamento,S&D
ATTACH;FMTTYPE=image/png:https://linagalvez.eu/wp-content/uploads/2020/05/digital-europe.png
END:VEVENT
BEGIN:VEVENT
DTSTART;TZID=Europe/Madrid:20250402T174500
DTEND;TZID=Europe/Madrid:20250402T181500
DTSTAMP:20260422T122155
CREATED:20250327T083947Z
LAST-MODIFIED:20250331T091537Z
UID:11414-1743615900-1743617700@linagalvez.eu
SUMMARY:S&D DROI+INTA+D-US Working Group meeting
DESCRIPTION:Reunión del grupo S&D de la Subcomisión de Derechos Humanos (DROI) en la que llevarán a cabo un intercambio de opiniones con la Comisión de Comercio Internacional (INTA) y la Delegación para las Relaciones con los Estados Unidos (D-US) del Parlamento Europeo\, de las que Lina Gálvez es miembro.
URL:https://linagalvez.eu/agenda/sd-droi-inta-d-us-working-group-meeting-25-04/
CATEGORIES:Actualidad,D-US,INTA,Parlamento,S&D
ATTACH;FMTTYPE=image/png:https://linagalvez.eu/wp-content/uploads/Comisiones-PE.png
END:VEVENT
BEGIN:VEVENT
DTSTART;TZID=Europe/Madrid:20250402T181500
DTEND;TZID=Europe/Madrid:20250402T203000
DTSTAMP:20260422T122156
CREATED:20250327T083948Z
LAST-MODIFIED:20250331T083738Z
UID:11392-1743617700-1743625800@linagalvez.eu
SUMMARY:Reunión de grupo de S&D
DESCRIPTION:Lina Gálvez asistirá a la reunión de grupo de Socialists & Democrats donde participará en un intercambio de opiniones y puntos de vista con otros miembros del grupo\, para debatir y coordinar estrategias sobre temas clave de la agenda política.
URL:https://linagalvez.eu/agenda/reunion-grupo-sd-2025-04-2/
CATEGORIES:Actualidad,Parlamento,S&D
ATTACH;FMTTYPE=image/jpeg:https://linagalvez.eu/wp-content/uploads/SD-banner-euractiv.jpg
END:VEVENT
BEGIN:VEVENT
DTSTART;TZID=Europe/Madrid:20250404T100000
DTEND;TZID=Europe/Madrid:20250404T163000
DTSTAMP:20260422T122156
CREATED:20250328T142958Z
LAST-MODIFIED:20250331T083150Z
UID:11386-1743760800-1743784200@linagalvez.eu
SUMMARY:Reunión del Comité Científico de la Fundacion Europea de Estudios Progresistas (FEPS)
DESCRIPTION:Lina Gálvez participará en Bruselas en la reunión sobre seguridad y defensa y ecosistema digital de la Unión Europea como presidenta del Comité Científico de la Fundación Europea de Estudios Progresistas (FEPS).
URL:https://linagalvez.eu/agenda/reunion-comite-cientifico-feps-2025-04/
CATEGORIES:Actualidad,Destacado,FEPS,S&D
ATTACH;FMTTYPE=image/jpeg:https://linagalvez.eu/wp-content/uploads/2023/06/2023-06-16_Lina-Galvez_FEPS_SD.jpeg
END:VEVENT
BEGIN:VEVENT
DTSTART;TZID=Europe/Madrid:20250428T103000
DTEND;TZID=Europe/Madrid:20250428T113000
DTSTAMP:20260422T122156
CREATED:20250425T075215Z
LAST-MODIFIED:20250429T093254Z
UID:11606-1745836200-1745839800@linagalvez.eu
SUMMARY:Reunión PSOE
DESCRIPTION:Reunión de coordinación de la Secretaria de Política Internacional y Cooperación al Desarrollo del Partido Socialista.
URL:https://linagalvez.eu/agenda/reunion-psoe-202504/
CATEGORIES:Actualidad,S&D
ATTACH;FMTTYPE=image/jpeg:https://linagalvez.eu/wp-content/uploads/2024/05/Mas-Europa.jpeg
END:VEVENT
BEGIN:VEVENT
DTSTART;TZID=Europe/Madrid:20250429T103000
DTEND;TZID=Europe/Madrid:20250429T110000
DTSTAMP:20260422T122156
CREATED:20250425T092200Z
LAST-MODIFIED:20250429T080741Z
UID:11584-1745922600-1745924400@linagalvez.eu
SUMMARY:Horizontal working group del S&D sobre Igualdad de Género
DESCRIPTION:Lina Gálvez asistirá al grupo de trabajo del grupo S&D sobre Igualdad de Género en el que se llevará a cabo un intercambio de opiniones entre los miembros presentes.
URL:https://linagalvez.eu/agenda/sd-horizontal-working-group-igualdad-genero-2504/
CATEGORIES:Actualidad,FEMM,Parlamento,S&D
ATTACH;FMTTYPE=image/jpeg:https://linagalvez.eu/wp-content/uploads/SD-banner-euractiv.jpg
END:VEVENT
BEGIN:VEVENT
DTSTART;TZID=Europe/Madrid:20250429T123000
DTEND;TZID=Europe/Madrid:20250429T130000
DTSTAMP:20260422T122156
CREATED:20250425T073947Z
LAST-MODIFIED:20250429T080921Z
UID:11586-1745929800-1745931600@linagalvez.eu
SUMMARY:Reunión de la Delegación Socialista Española
DESCRIPTION:Reunión de la Delegación Socialista Española previa a pleno de Estrasburgo para debatir y coordinar estrategias sobre temas clave de la agenda política.
URL:https://linagalvez.eu/agenda/sd-reunion-delegacion-socialista-espanola-dse-25-04-2/
CATEGORIES:Actualidad,Parlamento,S&D
ATTACH;FMTTYPE=image/jpeg:https://linagalvez.eu/wp-content/uploads/2024/07/GP-Socialista-X-Legislatura.jpeg
END:VEVENT
BEGIN:VEVENT
DTSTART;TZID=Europe/Madrid:20250501T100000
DTEND;TZID=Europe/Madrid:20250501T130000
DTSTAMP:20260422T122156
CREATED:20250423T224431Z
LAST-MODIFIED:20250429T092239Z
UID:11603-1746093600-1746104400@linagalvez.eu
SUMMARY:1 de mayo Día internacional lxs trabajadorxs. Participación en la convocatoria sindical. Sevilla
DESCRIPTION:La eurodiputada Lina Gálvez participará en las movilizaciones convocadas por los principales sindicatos con motivo del 1 de mayo sumándose a la manifestación de Sevilla junto al Secretario General de los socialistas Sevillanos Javier Fernández y la Secretaria General de los socialistas andaluces\, María Jesús Montero. \nFuente de la imagen: Foto de archivo. Lina Gálvez en la manifestación del Primero de Mayo de 2023. En esta web se realiza un uso justo y no comercial de la imagen.
URL:https://linagalvez.eu/agenda/1-de-mayo-dia-internacional-lxs-trabajadorxs-2025/
CATEGORIES:Actualidad,Andalucía,S&D
ATTACH;FMTTYPE=image/jpeg:https://linagalvez.eu/wp-content/uploads/2023/05/1MayoLGM.jpg
END:VEVENT
BEGIN:VEVENT
DTSTART;TZID=Europe/Madrid:20250505T160000
DTEND;TZID=Europe/Madrid:20250505T170000
DTSTAMP:20260422T122156
CREATED:20250502T073948Z
LAST-MODIFIED:20250505T073547Z
UID:11637-1746460800-1746464400@linagalvez.eu
SUMMARY:Reunión de grupo de S&D
DESCRIPTION:LGM asistirá a la reunión de grupo de Socialists & Democrats donde participará en un intercambio de opiniones y puntos de vista con otros miembros del grupo\, para debatir y coordinar estrategias sobre temas clave de la agenda política.
URL:https://linagalvez.eu/agenda/reunion-grupo-sd-2025-05/
CATEGORIES:Actualidad,Parlamento,S&D
ATTACH;FMTTYPE=image/png:https://linagalvez.eu/wp-content/uploads/2020/01/1-S&D.svg.png
END:VEVENT
BEGIN:VEVENT
DTSTART;TZID=Europe/Madrid:20250505T183000
DTEND;TZID=Europe/Madrid:20250505T193000
DTSTAMP:20260422T122156
CREATED:20250502T075215Z
LAST-MODIFIED:20250505T073803Z
UID:11639-1746469800-1746473400@linagalvez.eu
SUMMARY:Reunión PSOE
DESCRIPTION:Reunión de coordinación del Partido Socialista.
URL:https://linagalvez.eu/agenda/reunion-psoe-202505/
CATEGORIES:Actualidad,S&D
ATTACH;FMTTYPE=image/jpeg:https://linagalvez.eu/wp-content/uploads/2024/05/Mas-Europa.jpeg
END:VEVENT
END:VCALENDAR