BEGIN:VCALENDAR
VERSION:2.0
PRODID:-//Lina Gálvez - ECPv6.15.20//NONSGML v1.0//EN
CALSCALE:GREGORIAN
METHOD:PUBLISH
X-ORIGINAL-URL:https://linagalvez.eu
X-WR-CALDESC:Eventos para Lina Gálvez
REFRESH-INTERVAL;VALUE=DURATION:PT1H
X-Robots-Tag:noindex
X-PUBLISHED-TTL:PT1H
BEGIN:VTIMEZONE
TZID:Europe/Madrid
BEGIN:DAYLIGHT
TZOFFSETFROM:+0100
TZOFFSETTO:+0200
TZNAME:CEST
DTSTART:20240331T010000
END:DAYLIGHT
BEGIN:STANDARD
TZOFFSETFROM:+0200
TZOFFSETTO:+0100
TZNAME:CET
DTSTART:20241027T010000
END:STANDARD
BEGIN:DAYLIGHT
TZOFFSETFROM:+0100
TZOFFSETTO:+0200
TZNAME:CEST
DTSTART:20250330T010000
END:DAYLIGHT
BEGIN:STANDARD
TZOFFSETFROM:+0200
TZOFFSETTO:+0100
TZNAME:CET
DTSTART:20251026T010000
END:STANDARD
BEGIN:DAYLIGHT
TZOFFSETFROM:+0100
TZOFFSETTO:+0200
TZNAME:CEST
DTSTART:20260329T010000
END:DAYLIGHT
BEGIN:STANDARD
TZOFFSETFROM:+0200
TZOFFSETTO:+0100
TZNAME:CET
DTSTART:20261025T010000
END:STANDARD
END:VTIMEZONE
BEGIN:VEVENT
DTSTART;TZID=Europe/Madrid:20251105T150000
DTEND;TZID=Europe/Madrid:20251105T190000
DTSTAMP:20260422T225045
CREATED:20251028T111002Z
LAST-MODIFIED:20251103T134806Z
UID:12811-1762354800-1762369200@linagalvez.eu
SUMMARY:Panel STOA "Investigación e innovación para el futuro: La igualdad de género impulsando la ciencia\, la sociedad y la democracia"
DESCRIPTION:Lina Gálvez\, como Eurodiputada y vicepresidenta del Panel para el Futuro de la Ciencia y la Tecnología (STOA)\, será la anfitriona del evento\, que contará con la intervención de Ekaterina ZAHARIEVA\, comisaria europea de Startups\, Investigación e Innovación. \nA pesar de los continuos esfuerzos por abordar la participación equitativa de ambos sexos en la investigación y la innovación (I+i)\, las mujeres siguen representando solo el 34 % de los investigadores de la UE. Y no se trata solo de una cuestión de equidad e igualdad de oportunidades\, sino de liberar todo el potencial innovador de Europa. \nCon una representación tan escasa de las mujeres en la configuración de los avances científicos\, perdemos perspectivas cruciales que podrían resolver los retos del futuro de forma más eficaz. Hay mucho en juego. A medida que se intensifica la competencia mundial en ciencia y tecnología\, la UE no puede permitirse desperdiciar el talento ni limitar la diversidad de mentes que abordan problemas complejos. La igualdad de género en I+i es un imperativo estratégico para mantener la ventaja competitiva de Europa y garantizar que la investigación sirva a todas las personas\, no solo a algunas. \nLas presentaciones y los debates proporcionarán una visión global de los retos y oportunidades actuales en la promoción de la igualdad de género en I+i\, y permitirán identificar estrategias y soluciones eficaces para abordar estos retos. Este taller contribuirá a crear un ecosistema de I+i más inclusivo y equitativo en Europa\, en el que se valore y promueva la igualdad de género y se contribuya al liderazgo en ciencia e innovación. \nPrograma completo y más información (en inglés) aquí \nFuente de la imagen: Parlamento Europeo. Evento anunciado en el que participa Lina Gálvez. En esta web se realiza un uso justo y no comercial de la imagen para la difusión del evento.
URL:https://linagalvez.eu/agenda/stoa-igualdad-impulsa-ciencia-sociedad-democracia/
CATEGORIES:Actualidad,Parlamento,STOA
ATTACH;FMTTYPE=image/jpeg:https://linagalvez.eu/wp-content/uploads/EP-STOA-AdobeStock_105780327-ml.jpeg
END:VEVENT
BEGIN:VEVENT
DTSTART;TZID=Europe/Madrid:20251112T103000
DTEND;TZID=Europe/Madrid:20251112T164000
DTSTAMP:20260422T225045
CREATED:20251107T200817Z
LAST-MODIFIED:20251110T123415Z
UID:12871-1762943400-1762965600@linagalvez.eu
SUMMARY:Evento "De la ciencia a la política: configurando una Europa sostenible y competitiva" de STOA y el ERC
DESCRIPTION:Lina Gálvez clausurará\, como Vicepresidenta del Panel de Evaluación de Opciones Científicas y Tecnológicas (STOA) del Parlamento Europeo este evento organizado conjuntamente entre STOA y el European Research Council (ERC). \nEste evento conjunto del Consejo Europeo de Investigación y el Panel para el Futuro de la Ciencia y la Tecnología (STOA) del Parlamento Europeo se basa en un informe del ERC que presenta proyectos pioneros que abordan las transformaciones urgentes necesarias para hacer frente al cambio climático y al aumento de la desigualdad social. \nEl evento profundizará en las condiciones esenciales que permiten una transición ecológica justa e inclusiva y en el Pacto Industrial Limpio\, una ambiciosa iniciativa de la Comisión Europea destinada a descarbonizar la industria de la UE\, al tiempo que se impulsa la competitividad y se garantiza la asequibilidad de la energía para todos. \nSe realizará un emparejamiento entre Investigadores e integrantes del Parlamento Europeo\, que compartirán ideas innovadoras y soluciones reales que ilustran cómo los gobiernos\, las empresas y las comunidades están impulsando el cambio hacia un futuro más sostenible. Las principales partes interesadas se sumarán al debate para explorar estrategias que mejoren la integración de las pruebas científicas en la elaboración de políticas\, garantizando que la ciencia influya directamente en las decisiones para lograr el máximo impacto. \nMás información (en inglés) aquí \nVer en streaming aquí \nFuente de la imagen: ERC. Evento anunciado en el que participa Lina Gálvez. En esta web se realiza un uso justo y no comercial de la imagen para la difusión del evento.
URL:https://linagalvez.eu/agenda/evento-ciencia-politica-europa-sostenible-competitiva-stoa-erc/
CATEGORIES:Actualidad,Destacado,Parlamento,STOA,Universidad
ATTACH;FMTTYPE=image/jpeg:https://linagalvez.eu/wp-content/uploads/Stoa-Event-6.jpg
END:VEVENT
BEGIN:VEVENT
DTSTART;TZID=Europe/Madrid:20251112T121000
DTEND;TZID=Europe/Madrid:20251112T131500
DTSTAMP:20260422T225045
CREATED:20251107T200817Z
LAST-MODIFIED:20251110T124551Z
UID:12868-1762949400-1762953300@linagalvez.eu
SUMMARY:Programa de emparejamiento con la científica Elise Dermine - en paralelo con evento de STOA y el ERC
DESCRIPTION:En paralelo con el evento «De la ciencia a la política: configurando una Europa sostenible y competitiva» organizado por STOA y el ERC. Lina Gálvez se emparejará con  con la científica Elise Dermine. \nEste Programa de emparejamiento\, que se implementa por primera vez para enlazar diputados y científicos\, es una oportunidad para poner en práctica una máxima de Lina Gálvez: «science for policy\, policy for science» (ciencia para la política\, política para la ciencia). \nFuente de la imagen: ERC. Evento anunciado en el que participa Lina Gálvez. En esta web se realiza un uso justo y no comercial de la imagen para la difusión del evento.
URL:https://linagalvez.eu/agenda/programa-emparejamiento-cientifica-elise-dermine-2025-11-stoa-erc/
CATEGORIES:Actualidad,Parlamento,STOA,Universidad
ATTACH;FMTTYPE=image/jpeg:https://linagalvez.eu/wp-content/uploads/Stoa-Event-6.jpg
END:VEVENT
BEGIN:VEVENT
DTSTART;TZID=Europe/Madrid:20251114T100000
DTEND;TZID=Europe/Madrid:20251114T130000
DTSTAMP:20260422T225045
CREATED:20251107T143737Z
LAST-MODIFIED:20251110T111927Z
UID:12846-1763114400-1763125200@linagalvez.eu
SUMMARY:Jornada: Fortalecer la democracia desde la igualdad de género - Proyecto UNTWIST
DESCRIPTION:Lina Gálvez participará en la mesa inaugural de la jornada Fortalecer la democracia desde la igualdad de género organizada en el marco del proyecto ‘UNTWIST: Policy recommendations to regain «losers of feminsm» as mainstream voters’ financiado por el programa Horizonte Europa. \nLa jornada se celebrará en la Sala Cánovas del Palacio de las Cortes\, en Madrid. \nPrograma completo: \n10:00 – Inauguración. \n\nPresidencia: Doña Cristina Hernández\, Directora del Instituto de las Mujeres.\nDoña Lina Gálvez\, Presidenta de la Comisión para los Derechos de las Mujeres e Igualdad de Género del Parlamento Europeo.\nDoña Antonia Ruiz\, Coordinadora Científica del Proyecto UNTWIST.\n\n10:10 – Presentación del proyecto UNTWIST\, Antonia Ruiz Coordinadora Científica del Proyecto. \n10:20 – Intervención de las personas invitadas: \n\nHillie van Streek (Secretaria General de Mujeres de EPP)\nAnna Pirtskhaslava (Coordinadora de Mujeres de PES)\nHilde Coffe\, Universidad de Bath\n\n10:35 – Presentación de resultados del proyecto UNTWIST. \n\nLos vacíos en los datos de opinión pública y cómo condicionan el diseño de políticas de igualdad eficaces\, Mariana Sendra (Universidad de Deusto)\nEl papel del género en el conjunto de las demandas sociales que emergen entre los votantes de partidos de derecha radical populista\, Antonia Ruiz (Universidad Pablo de Olavide).\nLa igualdad de género en los programas y estrategias de los partidos políticos españoles\, Daniel Romero (Universidad Pablo de Olavide).\n\n11:05 a 11:15 – DESCANSO \n11:15 – Intervención de Cristina Hernández\, y de las personas relatoras\, Hillie van Streek\, Anna Pirtskhaslava y Hilde Coffe. \n11:45 – Ronda de preguntas y contribuciones por parte del público asistente. \n12:55 – Cierre de la Jornada. \nMás información aquí \nFuente de la imagen: Fachada del Palacio de las Cortes. Wikimedia commons. En esta web se realiza un uso justo y no comercial de la imagen para la difusión del evento.
URL:https://linagalvez.eu/agenda/jornada-fortalecer-democracia-igualdad-genero-proyecto-untwist/
CATEGORIES:Destacado,ITRE,Parlamento,STOA,Universidad
ATTACH;FMTTYPE=image/jpeg:https://linagalvez.eu/wp-content/uploads/Congreso_de_los_Diputados_Espana_17_wikimedia-commons-scaled.jpg
END:VEVENT
BEGIN:VEVENT
DTSTART;TZID=Europe/Madrid:20251118T123000
DTEND;TZID=Europe/Madrid:20251118T140000
DTSTAMP:20260422T225045
CREATED:20251114T110430Z
LAST-MODIFIED:20251117T111031Z
UID:12928-1763469000-1763474400@linagalvez.eu
SUMMARY:Debate "Ciencia falsa: La amenaza de la desinformación científica para la integridad\, la competitividad y la democracia"
DESCRIPTION:Objetivo: Reunir a las partes interesadas para concienciar y discutir la colaboración contra estos desafíos y la polarización. \nPuntos Clave: \n\nLa manipulación de la ciencia socava la confianza pública y el debate democrático (similar a las «fake news»).\nLa desinformación científica amenaza la capacidad de los responsables políticos para tomar decisiones basadas en la evidencia.\nLa proliferación de ciencia falsa pone en riesgo la innovación\, la competitividad de la UE y la inversión de fondos en investigación fiable.\n\nFuente de la imagen: evento anunciado en el que participa Lina Gálvez. En esta web se realiza un uso justo y no comercial de la imagen para la difusión del evento.
URL:https://linagalvez.eu/agenda/debate-ciencia-falsa-amenaza-desinformacion-cientifica-integridad-competitividad-democracia/
CATEGORIES:Actualidad,INTA,ITRE,STOA
ATTACH;FMTTYPE=image/jpeg:https://linagalvez.eu/wp-content/uploads/2020/04/ciencia-ahoraydespues.jpg
END:VEVENT
BEGIN:VEVENT
DTSTART;TZID=Europe/Madrid:20251119T100000
DTEND;TZID=Europe/Madrid:20251119T110000
DTSTAMP:20260422T225045
CREATED:20251114T121450Z
LAST-MODIFIED:20251118T112519Z
UID:12955-1763546400-1763550000@linagalvez.eu
SUMMARY:Reunión con representantes de Telefónica
DESCRIPTION:
URL:https://linagalvez.eu/agenda/reunion-con-telefonica-202511/
CATEGORIES:ITRE,Parlamento,STOA
ATTACH;FMTTYPE=image/jpeg:https://linagalvez.eu/wp-content/uploads/2020/07/Calendario2.jpg
END:VEVENT
BEGIN:VEVENT
DTSTART;TZID=Europe/Madrid:20251119T164500
DTEND;TZID=Europe/Madrid:20251119T171500
DTSTAMP:20260422T225045
CREATED:20251114T113916Z
LAST-MODIFIED:20251118T124359Z
UID:12962-1763570700-1763572500@linagalvez.eu
SUMMARY:Science Business: "Colaboración\, competición\, valorización y protección de la investigación en tiempos de incertidumbre"
DESCRIPTION:Lina Gálvez participará en remoto en el evento Science Business: «Colaboración\, competición\, valorización y protección de la investigación en un EIC de incertidumbre»\, organizado para abordar la definición de las direcciones estratégicas del Décimo Programa Marco (FP10) de I+I de la UE en un contexto de incertidumbre geopolítica. \nEl año 2025 es un año decisivo con una nueva Comisión Europea. Se discute la relación del FP10 con un Fondo de Competitividad más amplio y también el equilibrio entre libertad científica y seguridad de la investigación. \nLos objetivos del debate serán: \n\nMantener y fomentar la excelencia y la colaboración científica.\nEstrategias para limitar el exceso de competencia en el sistema de investigación.\nPosicionamiento de Europa en el panorama global de I+I y el futuro de las alianzas internacionales.\n\nEl evento incluye dos sesiones clave: \n\nValorización e Innovación: Impacto de RFOs y RPOs.\nModelando el futuro: Posición de Europa ante alianzas volátiles.\n\nAdemás\, se analizará el caso de estudio «Impacto de los desafíos geopolíticos en la colaboración (foco en el Ártico)». \nMás información (en inglés) aquí \nFuente de la imagen: evento anunciado en el que participa Lina Gálvez. En esta web se realiza un uso justo y no comercial de la imagen para la difusión del evento.
URL:https://linagalvez.eu/agenda/science-business-colaboracion-competicion-valorizacion-proteccion-investigacion-incertidumbre/
CATEGORIES:Actualidad,ITRE,STOA
ATTACH;FMTTYPE=image/jpeg:https://linagalvez.eu/wp-content/uploads/2025-hlw-website-header_R.jpg
END:VEVENT
BEGIN:VEVENT
DTSTART;TZID=Europe/Madrid:20251120T140000
DTEND;TZID=Europe/Madrid:20251120T143000
DTSTAMP:20260422T225046
CREATED:20251114T174752Z
LAST-MODIFIED:20251119T090831Z
UID:12980-1763647200-1763649000@linagalvez.eu
SUMMARY:"Empoderando a las Mujeres Científicas: 20 Años de EPWS y el Camino a Seguir"
DESCRIPTION:Lina Gálvez Muñoz\, intervendrá como oradora principal en su calidad de diputada al Parlamento Europeo\, presidenta de la Comisión de Derechos de la Mujer\ne Igualdad de Género (FEMM)\, miembro de la Comisión de Industria\, Investigación y Energía (ITRE) y vicepresidenta de STOA\, el Panel para el Futuro de la Ciencia y la Tecnología del Parlamento Europeo. Con el título: «Perspectiva de la Comisión FEMM sobre cuestiones de igualdad de género en la ciencia de la UE: problemas\, perspectivas y soluciones». \nLa conferencia anual tendrá lugar los días 20 y 21 de noviembre de 2025 y está organizada por la European Platform of Women Scientists (EPWS)\, asociación con sede en Bruselas que agrupa redes de mujeres científicas\, en su 20º aniversario. \nEl objetivo de la conferencia «Empoderando a las Mujeres Científicas: 20 Años de EPWS y el Camino a Seguir.» es celebrar los 20 años de la EPWS e impulsar la promoción de las mujeres en la investigación y la innovación\, así como la integración de la dimensión de género en la ciencia. \nMás información y programa (en inglés) aquí \nFuente de la imagen: evento anunciado en el que participa Lina Gálvez (detalle). En esta web se realiza un uso justo y no comercial de la imagen para la difusión del evento.
URL:https://linagalvez.eu/agenda/empoderando-mujeres-cientificas-20-anos-epws-camino-seguir/
CATEGORIES:Actualidad,Destacado,FEMM,ITRE,S&D,STOA
ATTACH;FMTTYPE=image/png:https://linagalvez.eu/wp-content/uploads/EPWS-ANNUAL-CONFERENCE-2025.png
END:VEVENT
END:VCALENDAR