BEGIN:VCALENDAR
VERSION:2.0
PRODID:-//Lina Gálvez - ECPv6.15.20//NONSGML v1.0//EN
CALSCALE:GREGORIAN
METHOD:PUBLISH
X-WR-CALNAME:Lina Gálvez
X-ORIGINAL-URL:https://linagalvez.eu
X-WR-CALDESC:Eventos para Lina Gálvez
REFRESH-INTERVAL;VALUE=DURATION:PT1H
X-Robots-Tag:noindex
X-PUBLISHED-TTL:PT1H
BEGIN:VTIMEZONE
TZID:Europe/Madrid
BEGIN:DAYLIGHT
TZOFFSETFROM:+0100
TZOFFSETTO:+0200
TZNAME:CEST
DTSTART:20230326T010000
END:DAYLIGHT
BEGIN:STANDARD
TZOFFSETFROM:+0200
TZOFFSETTO:+0100
TZNAME:CET
DTSTART:20231029T010000
END:STANDARD
BEGIN:DAYLIGHT
TZOFFSETFROM:+0100
TZOFFSETTO:+0200
TZNAME:CEST
DTSTART:20240331T010000
END:DAYLIGHT
BEGIN:STANDARD
TZOFFSETFROM:+0200
TZOFFSETTO:+0100
TZNAME:CET
DTSTART:20241027T010000
END:STANDARD
BEGIN:DAYLIGHT
TZOFFSETFROM:+0100
TZOFFSETTO:+0200
TZNAME:CEST
DTSTART:20250330T010000
END:DAYLIGHT
BEGIN:STANDARD
TZOFFSETFROM:+0200
TZOFFSETTO:+0100
TZNAME:CET
DTSTART:20251026T010000
END:STANDARD
END:VTIMEZONE
BEGIN:VEVENT
DTSTART;TZID=Europe/Madrid:20240307T090000
DTEND;TZID=Europe/Madrid:20240307T120000
DTSTAMP:20260425T161747
CREATED:20210927T104830Z
LAST-MODIFIED:20240304T122536Z
UID:8196-1709802000-1709812800@linagalvez.eu
SUMMARY:Reunión de la Comisión de Derechos de las Mujeres e Igualdad de Género FEMM. 8M Mujer y Deporte
DESCRIPTION:El jueves 7 de marzo de 2024\, para celebrar el Día Internacional de la Mujer 2024\, la Comisión FEMM\, en colaboración con los Parlamentos Nacionales\, organizará una reunión de la Comisión Interparlamentaria (ICM) sobre el tema «Las mujeres en el deporte».La eurodiputada Lina Gálvez asistirá a la reunión del Comité Interparlamentario por el día de la Mujer\, así como a los debates y discusiones posteriores. \n\nLas mujeres en el deporte luchan para garantizar que sus logros sean reconocidos por igual que sus homólogos masculinos\, rompiendo estereotipos en ciertos deportes que normalmente se consideran un mundo de hombres. Son bien conocidos los informes sobre los escándalos de abuso que afectan a las mujeres en el deporte en una variedad de campos\, así como la lucha de las mujeres por la igualdad de estatus y recompensas financieras. Nos gustaría examinar las cuestiones\, así como celebrar y reconocer los avances logrados en este campo\, especialmente en el contexto de los Juegos Olímpicos de París del próximo año. Los valores de la deportividad\, el trabajo en equipo y la responsabilidad social a través del deporte son respetados en todo el mundo. \n\nEl objetivo del evento es intercambiar opiniones con personas expertas y representantes de los parlamentos nacionales sobre la situación actual de las mujeres en el deporte. La ICM explorará cómo las mujeres en el deporte han ganado terreno\, pero aún enfrentan obstáculos específicos\, y discutirá el camino a seguir.\nPara más info:\n\n\n\n\n\nSitio web de la Comisión de Derechos de la Mujer e Igualdad de Género
URL:https://linagalvez.eu/agenda/joint-meeting-committee-on-employment-and-social-affairs-committee-on-womens-rights-and-gender-equality-2-3-2-3-2-2-2-2-4-2-2-2-2-2-2-2-2-2-3-2-2-2-5-2-2/
CATEGORIES:Destacado,FEMM,Parlamento
ATTACH;FMTTYPE=image/jpeg:https://linagalvez.eu/wp-content/uploads/2021/09/Mujer-y-deporte.jpg
END:VEVENT
END:VCALENDAR