BEGIN:VCALENDAR
VERSION:2.0
PRODID:-//Lina Gálvez - ECPv6.15.20//NONSGML v1.0//EN
CALSCALE:GREGORIAN
METHOD:PUBLISH
X-WR-CALNAME:Lina Gálvez
X-ORIGINAL-URL:https://linagalvez.eu
X-WR-CALDESC:Eventos para Lina Gálvez
REFRESH-INTERVAL;VALUE=DURATION:PT1H
X-Robots-Tag:noindex
X-PUBLISHED-TTL:PT1H
BEGIN:VTIMEZONE
TZID:Europe/Madrid
BEGIN:DAYLIGHT
TZOFFSETFROM:+0100
TZOFFSETTO:+0200
TZNAME:CEST
DTSTART:20190331T010000
END:DAYLIGHT
BEGIN:STANDARD
TZOFFSETFROM:+0200
TZOFFSETTO:+0100
TZNAME:CET
DTSTART:20191027T010000
END:STANDARD
BEGIN:DAYLIGHT
TZOFFSETFROM:+0100
TZOFFSETTO:+0200
TZNAME:CEST
DTSTART:20200329T010000
END:DAYLIGHT
BEGIN:STANDARD
TZOFFSETFROM:+0200
TZOFFSETTO:+0100
TZNAME:CET
DTSTART:20201025T010000
END:STANDARD
BEGIN:DAYLIGHT
TZOFFSETFROM:+0100
TZOFFSETTO:+0200
TZNAME:CEST
DTSTART:20210328T010000
END:DAYLIGHT
BEGIN:STANDARD
TZOFFSETFROM:+0200
TZOFFSETTO:+0100
TZNAME:CET
DTSTART:20211031T010000
END:STANDARD
END:VTIMEZONE
BEGIN:VEVENT
DTSTART;VALUE=DATE:20200309
DTEND;VALUE=DATE:20200311
DTSTAMP:20260426T062756
CREATED:20200309T141825Z
LAST-MODIFIED:20200504T165628Z
UID:449-1583712000-1583884799@linagalvez.eu
SUMMARY:Sesión Plenaria del Parlamento Europeo (Bruselas)
DESCRIPTION:Destacados del pleno. Bruselas\, 9-10 de marzo 2020 \n\nCoronavirus: expansión de la epidemia y respuesta de la UE \n\nPresupuesto de la UE: debate con Charles Michel sobre la cumbre fallida \n\n\nLa situación de los refugiados en la frontera de Grecia con Turquía 
URL:https://linagalvez.eu/agenda/sesion-plenaria-parlamento-europeo-bruselas-2020-03-09/
LOCATION:Parlamento Europeo (Bruselas)\, Parlement européen Bât. ALTIERO SPINELLI 14G317 60\, rue Wiertz / Wiertzstraat 60 B-1047 Bruxelles/Brussel\, Bruselas
CATEGORIES:Parlamento
ATTACH;FMTTYPE=image/jpeg:https://linagalvez.eu/wp-content/uploads/2020/03/European_Parliament_Strasbourg_Hemicycle_-_Diliff-2-scaled.jpg
END:VEVENT
BEGIN:VEVENT
DTSTART;TZID=Europe/Madrid:20200313T000000
DTEND;TZID=Europe/Madrid:20200529T235900
DTSTAMP:20260426T062756
CREATED:20200318T143625Z
LAST-MODIFIED:20200429T183201Z
UID:626-1584057600-1590796740@linagalvez.eu
SUMMARY:Changes made to Parliament’s calendar due to the spread of coronavirus (COVID-19)
DESCRIPTION:The Conference of Presidents (EP President and political leaders) modified the European Parliament’s calendar of activities. Committee meetings and other official activities initially foreseen for this week have either been postponed or cancelled.
URL:https://linagalvez.eu/agenda/covid19/
CATEGORIES:Parlamento
ATTACH;FMTTYPE=image/jpeg:https://linagalvez.eu/wp-content/uploads/2020/03/Nos-quedamos-en-casaEU.jpg
END:VEVENT
END:VCALENDAR