BEGIN:VCALENDAR
VERSION:2.0
PRODID:-//Lina Gálvez - ECPv6.15.20//NONSGML v1.0//EN
CALSCALE:GREGORIAN
METHOD:PUBLISH
X-ORIGINAL-URL:https://linagalvez.eu
X-WR-CALDESC:Eventos para Lina Gálvez
REFRESH-INTERVAL;VALUE=DURATION:PT1H
X-Robots-Tag:noindex
X-PUBLISHED-TTL:PT1H
BEGIN:VTIMEZONE
TZID:Europe/Madrid
BEGIN:DAYLIGHT
TZOFFSETFROM:+0100
TZOFFSETTO:+0200
TZNAME:CEST
DTSTART:20250330T010000
END:DAYLIGHT
BEGIN:STANDARD
TZOFFSETFROM:+0200
TZOFFSETTO:+0100
TZNAME:CET
DTSTART:20251026T010000
END:STANDARD
BEGIN:DAYLIGHT
TZOFFSETFROM:+0100
TZOFFSETTO:+0200
TZNAME:CEST
DTSTART:20260329T010000
END:DAYLIGHT
BEGIN:STANDARD
TZOFFSETFROM:+0200
TZOFFSETTO:+0100
TZNAME:CET
DTSTART:20261025T010000
END:STANDARD
BEGIN:DAYLIGHT
TZOFFSETFROM:+0100
TZOFFSETTO:+0200
TZNAME:CEST
DTSTART:20270328T010000
END:DAYLIGHT
BEGIN:STANDARD
TZOFFSETFROM:+0200
TZOFFSETTO:+0100
TZNAME:CET
DTSTART:20271031T010000
END:STANDARD
END:VTIMEZONE
BEGIN:VEVENT
DTSTART;TZID=Europe/Madrid:20260302T150000
DTEND;TZID=Europe/Madrid:20260302T164500
DTSTAMP:20260420T165912
CREATED:20260227T075506Z
LAST-MODIFIED:20260303T100813Z
UID:13691-1772463600-1772469900@linagalvez.eu
SUMMARY:Audiencia de la ICE: Prohibición de las prácticas de conversión en la Unión Europea. Conjunta de FEMM con LIBE y PETI.
DESCRIPTION:Lina Gálvez interviene como Presidenta de la Comisión FEMM del Parlamento Europeo en la audiencia pública sobre la Iniciativa Ciudadana Europea: Prohibición de las terapias de conversión en la UE (Ban on conversion practices in the European Union). Audiencia organizada por la Comisión de Peticiones (PETI) y la Comisión de Desarrollo y la Comisión de Libertades Civiles\, Justicia y Asuntos de Interior (LIBE). \nEn palabras de Lina Gálvez: «Un paso fundamental para la protección de los derechos LGTBIQ+ en toda la Unión. Es una cuestión de derechos humanos y dignidad.» \nMás información (en inglés) aquí \nVer en streaming aquí \nFuente de la imagen: Parlamento Europeo. Evento anunciado en el que participa Lina Gálvez. En esta web se realiza un uso justo y no comercial de la imagen para la difusión del evento.
URL:https://linagalvez.eu/agenda/audiencia-ice-prohibicion-practicas-conversion-ue-2026-03-femm-libe-peti/
CATEGORIES:Actualidad,FEMM,Parlamento
ATTACH;FMTTYPE=image/jpeg:https://linagalvez.eu/wp-content/uploads/conversion-practices-for-lgbtiq-persons-ICE-20230908PHT04808-ml.jpg
END:VEVENT
BEGIN:VEVENT
DTSTART;TZID=Europe/Madrid:20260317T150000
DTEND;TZID=Europe/Madrid:20260317T163000
DTSTAMP:20260420T165912
CREATED:20260312T094153Z
LAST-MODIFIED:20260317T092845Z
UID:13861-1773759600-1773765000@linagalvez.eu
SUMMARY:Audiencia del grupo S&D de ITRE: sobre el marco financiero plurianual y el FP10 - Horizonte Europa
DESCRIPTION:Lina Gálvez dará las palabras de apertura en la reunión del grupo de Socialistas y Demócratas (S&D) de la Comisión de Industria\, Investigación y Energía (ITRE)\, en la que se realizará una Audiencia pública sobre el Marco financiero plurianual (MFP) y el 10º Programa Marco de Investigación – Horizonte Europa 2028-2034 (FP10)\, del que la eurodiputada Gálvez es ponente en la sombra (shadow rapporteur). \nFuente de la imagen: Parlamento Europeo. En esta web se realiza un uso justo y no comercial de la imagen para la difusión del evento.
URL:https://linagalvez.eu/agenda/audiencia-sd-comision-industria-investigacion-energia-itre-mfp-fp10-2026-03/
CATEGORIES:Actualidad,Destacado,ITRE,Parlamento
ATTACH;FMTTYPE=image/jpeg:https://linagalvez.eu/wp-content/uploads/horizonEurope.jpg
END:VEVENT
BEGIN:VEVENT
DTSTART;TZID=Europe/Madrid:20260324T150000
DTEND;TZID=Europe/Madrid:20260324T163000
DTSTAMP:20260420T165912
CREATED:20260320T083947Z
LAST-MODIFIED:20260325T091742Z
UID:13920-1774364400-1774369800@linagalvez.eu
SUMMARY:Primera audiencia pública sobre 'cuidado en la menopausia' conjunta FEMM & SANT
DESCRIPTION:Lina Gálvez presidirá la Comisión de Derechos de las Mujeres e Igualdad de Género (FEMM)\, en el que se llevará a cabo una audiencia conjunta con la Comisión de Salud Pública (SANT) sobre Cuidado en la menopausia. \n\nLa menopausia tiene un profundo impacto en millones de mujeres de toda Europa\, ya que afecta a su salud\, su vida familiar y su carrera profesional\, además de tener implicaciones sociales más amplias. \nCasi el 90 % de las mujeres en Europa experimentarán la menopausia a lo largo de su vida\, lo que la convierte en una de las transiciones de salud más extendidas y significativas. La menopausia influye en la participación de las mujeres en el mercado laboral\, ya que las mujeres en edad de menopausia constituyen el grupo de más rápido crecimiento en la población activa y representan el 11 % de la población activa del G7; influye también en su capacidad para gestionar las responsabilidades de cuidado y en sus resultados generales de salud\, con consecuencias más amplias para la productividad económica\, la igualdad de género y el bienestar social. \nEn esta audiencia se analizará cómo las iniciativas a nivel europeo podrían abordar el estigma y la desinformación\, cómo la UE podría apoyar las iniciativas de atención a la menopausia e invertir en investigación sobre la menopausia\, y cómo coordinar las políticas en toda la UE. \nMás información (en inglés) aquí \nVer en streaming aquí \nFuente de la imagen: Parlamento Europeo. Evento anunciado en el que interviene Lina Gálvez. En esta web se realiza un uso justo y no comercial de la imagen para la difusión del evento.
URL:https://linagalvez.eu/agenda/audiencia-cuidado-menopausia-conjunta-femm-sant-2026-03/
CATEGORIES:Actualidad,Destacado,FEMM,Parlamento
ATTACH;FMTTYPE=image/jpeg:https://linagalvez.eu/wp-content/uploads/De-FEMM-20260316PHT38213-ml.jpeg
END:VEVENT
END:VCALENDAR