BEGIN:VCALENDAR
VERSION:2.0
PRODID:-//Lina Gálvez - ECPv6.15.20//NONSGML v1.0//EN
CALSCALE:GREGORIAN
METHOD:PUBLISH
X-WR-CALNAME:Lina Gálvez
X-ORIGINAL-URL:https://linagalvez.eu
X-WR-CALDESC:Eventos para Lina Gálvez
REFRESH-INTERVAL;VALUE=DURATION:PT1H
X-Robots-Tag:noindex
X-PUBLISHED-TTL:PT1H
BEGIN:VTIMEZONE
TZID:Europe/Madrid
BEGIN:DAYLIGHT
TZOFFSETFROM:+0100
TZOFFSETTO:+0200
TZNAME:CEST
DTSTART:20220327T010000
END:DAYLIGHT
BEGIN:STANDARD
TZOFFSETFROM:+0200
TZOFFSETTO:+0100
TZNAME:CET
DTSTART:20221030T010000
END:STANDARD
BEGIN:DAYLIGHT
TZOFFSETFROM:+0100
TZOFFSETTO:+0200
TZNAME:CEST
DTSTART:20230326T010000
END:DAYLIGHT
BEGIN:STANDARD
TZOFFSETFROM:+0200
TZOFFSETTO:+0100
TZNAME:CET
DTSTART:20231029T010000
END:STANDARD
BEGIN:DAYLIGHT
TZOFFSETFROM:+0100
TZOFFSETTO:+0200
TZNAME:CEST
DTSTART:20240331T010000
END:DAYLIGHT
BEGIN:STANDARD
TZOFFSETFROM:+0200
TZOFFSETTO:+0100
TZNAME:CET
DTSTART:20241027T010000
END:STANDARD
END:VTIMEZONE
BEGIN:VEVENT
DTSTART;TZID=Europe/Madrid:20230907T100000
DTEND;TZID=Europe/Madrid:20230907T103000
DTSTAMP:20260425T180412
CREATED:20210611T142459Z
LAST-MODIFIED:20230904T093205Z
UID:7893-1694080800-1694082600@linagalvez.eu
SUMMARY:Reunión de la Comisión de Industria\, Investigación y Energía
DESCRIPTION:La eurodiputada Lina Gálvez participará en la reunión de la comisión de Industria y Energía con el siguiente orden del día: \n\n\n\n\n\nVotación \n\nSe votará la Ley de Materias Primas Críticas #Autonomíaestratégica
URL:https://linagalvez.eu/agenda/reunion-de-la-comision-de-industria-investigacion-y-energia-itre-19-2-2-2-2-2-2/
CATEGORIES:Actualidad,ITRE,Parlamento,STOA
ATTACH;FMTTYPE=image/jpeg:https://linagalvez.eu/wp-content/uploads/2022/12/Comite_derechos-mujer.jpg
END:VEVENT
BEGIN:VEVENT
DTSTART;TZID=Europe/Madrid:20230912T110000
DTEND;TZID=Europe/Madrid:20230912T120000
DTSTAMP:20260425T180412
CREATED:20210927T094856Z
LAST-MODIFIED:20230914T062524Z
UID:7920-1694516400-1694520000@linagalvez.eu
SUMMARY:Grupo de trabajo S&D ITRE
DESCRIPTION:Reunión del grupo de trabajo S&D de la Comisión de Industria\, Investigación y Energía en la que se abordarán los asuntos legislativos en marcha.
URL:https://linagalvez.eu/agenda/encuentro-con-la-embajadora-espanola-en-malta-external-group-meeting-2-5-2-3-3-3-2-2-2-2-2-2-2-2-3-3/
CATEGORIES:ITRE,S&D
ATTACH;FMTTYPE=image/jpeg:https://linagalvez.eu/wp-content/uploads/2023/02/Lina-Galves-Foro.jpg
END:VEVENT
END:VCALENDAR