BEGIN:VCALENDAR
VERSION:2.0
PRODID:-//Lina Gálvez - ECPv6.15.20//NONSGML v1.0//EN
CALSCALE:GREGORIAN
METHOD:PUBLISH
X-WR-CALNAME:Lina Gálvez
X-ORIGINAL-URL:https://linagalvez.eu
X-WR-CALDESC:Eventos para Lina Gálvez
REFRESH-INTERVAL;VALUE=DURATION:PT1H
X-Robots-Tag:noindex
X-PUBLISHED-TTL:PT1H
BEGIN:VTIMEZONE
TZID:Europe/Madrid
BEGIN:DAYLIGHT
TZOFFSETFROM:+0100
TZOFFSETTO:+0200
TZNAME:CEST
DTSTART:20220327T010000
END:DAYLIGHT
BEGIN:STANDARD
TZOFFSETFROM:+0200
TZOFFSETTO:+0100
TZNAME:CET
DTSTART:20221030T010000
END:STANDARD
BEGIN:DAYLIGHT
TZOFFSETFROM:+0100
TZOFFSETTO:+0200
TZNAME:CEST
DTSTART:20230326T010000
END:DAYLIGHT
BEGIN:STANDARD
TZOFFSETFROM:+0200
TZOFFSETTO:+0100
TZNAME:CET
DTSTART:20231029T010000
END:STANDARD
BEGIN:DAYLIGHT
TZOFFSETFROM:+0100
TZOFFSETTO:+0200
TZNAME:CEST
DTSTART:20240331T010000
END:DAYLIGHT
BEGIN:STANDARD
TZOFFSETFROM:+0200
TZOFFSETTO:+0100
TZNAME:CET
DTSTART:20241027T010000
END:STANDARD
END:VTIMEZONE
BEGIN:VEVENT
DTSTART;TZID=Europe/Madrid:20231003T110000
DTEND;TZID=Europe/Madrid:20231003T120000
DTSTAMP:20260425T161802
CREATED:20210927T094856Z
LAST-MODIFIED:20231002T095321Z
UID:8026-1696330800-1696334400@linagalvez.eu
SUMMARY:Grupo de trabajo S&D ITRE
DESCRIPTION:Reunión del grupo de trabajo S&D de la Comisión de Industria\, Investigación y Energía en la que se abordarán los asuntos legislativos en marcha. y en concreto se abordarán las oportunidades de cooperación euromediterránea en el sector de la energía.
URL:https://linagalvez.eu/agenda/encuentro-con-la-embajadora-espanola-en-malta-external-group-meeting-2-5-2-3-3-3-2-2-2-2-2-2-2-2-3-3-2/
CATEGORIES:ITRE,S&D
ATTACH;FMTTYPE=image/jpeg:https://linagalvez.eu/wp-content/uploads/2023/02/Lina-Galves-Foro.jpg
END:VEVENT
BEGIN:VEVENT
DTSTART;TZID=Europe/Madrid:20231004T083000
DTEND;TZID=Europe/Madrid:20231004T100000
DTSTAMP:20260425T161802
CREATED:20231003T115430Z
LAST-MODIFIED:20231003T115430Z
UID:8043-1696408200-1696413600@linagalvez.eu
SUMMARY:Comparecencia del Vicepresidente de la Comisión Europea\, Maroš Šefčovič
DESCRIPTION:La eurodiputada Lina Gálvez  asistirá a la comparecencia del  Vicepresidente de la Comisión Europea\, Maroš Šefčovič propuesto como nuevo comisario de Relaciones Interinstitucionales y Prospectiva ante la Comisión de Medio Ambiente\, Salud Pública y Seguridad Alimentaria.
URL:https://linagalvez.eu/agenda/comparecencia-del-vicepresidente-de-la-comision-europea-maros-sefcovic/
CATEGORIES:Autonomía estratégica,ITRE,Parlamento
ATTACH;FMTTYPE=image/jpeg:https://linagalvez.eu/wp-content/uploads/2023/04/eu-autonomy-strategy.jpg
END:VEVENT
BEGIN:VEVENT
DTSTART;TZID=Europe/Madrid:20231004T123000
DTEND;TZID=Europe/Madrid:20231004T140000
DTSTAMP:20260425T161802
CREATED:20220502T092018Z
LAST-MODIFIED:20231003T091248Z
UID:8039-1696422600-1696428000@linagalvez.eu
SUMMARY:Destacados del pleno. 4 de octubre 2023
DESCRIPTION:Asuntos destacados del pleno del Parlamento Europeo que se celebra hoy en  Estrasburgo: \nDeclaraciones del Consejo y de la Comisión “Necesidad de completar nuevos acuerdos comerciales para el crecimiento sostenible\, la competitividad y la autonomía\nestratégica de la UE”\, en relación con la Comisión ITRE\, donde Lina Gálvez ocupa el cargo de Vicepresidenta.
URL:https://linagalvez.eu/agenda/participacion-en-plenario-en-el-debate-3/
CATEGORIES:Actualidad,ITRE,Parlamento,S&D
ATTACH;FMTTYPE=image/jpeg:https://linagalvez.eu/wp-content/uploads/2022/01/Captura_LGM.jpg
END:VEVENT
BEGIN:VEVENT
DTSTART;TZID=Europe/Madrid:20231010T103000
DTEND;TZID=Europe/Madrid:20231010T113000
DTSTAMP:20260425T161802
CREATED:20210927T094856Z
LAST-MODIFIED:20231010T065547Z
UID:8059-1696933800-1696937400@linagalvez.eu
SUMMARY:Grupo de trabajo S&D ITRE
DESCRIPTION:Reunión del grupo de trabajo S&D de la Comisión de Industria\, Investigación y Energía en la que se abordarán los asuntos legislativos en marcha.
URL:https://linagalvez.eu/agenda/encuentro-con-la-embajadora-espanola-en-malta-external-group-meeting-2-5-2-3-3-3-2-2-2-2-2-2-2-2-3-3-3/
CATEGORIES:ITRE,S&D
ATTACH;FMTTYPE=image/jpeg:https://linagalvez.eu/wp-content/uploads/2023/02/Lina-Galves-Foro.jpg
END:VEVENT
BEGIN:VEVENT
DTSTART;TZID=Europe/Madrid:20231010T141500
DTEND;TZID=Europe/Madrid:20231010T151500
DTSTAMP:20260425T161802
CREATED:20200111T150147Z
LAST-MODIFIED:20231010T082637Z
UID:8061-1696947300-1696950900@linagalvez.eu
SUMMARY:S&D Digital Europe Working Group meeting
DESCRIPTION:La eurodiputada Lina Gálvez participará en este grupo de trabajo interno del Grupo S&D centrado en los expedientes legislativos «Digitals»
URL:https://linagalvez.eu/agenda/sd-digital-europe-working-group-meeting-2-2/
CATEGORIES:Actualidad,ITRE,S&D
ATTACH;FMTTYPE=image/png:https://linagalvez.eu/wp-content/uploads/2020/05/digital-europe.png
END:VEVENT
BEGIN:VEVENT
DTSTART;TZID=Europe/Madrid:20231010T150000
DTEND;TZID=Europe/Madrid:20231010T170000
DTSTAMP:20260425T161802
CREATED:20230605T093302Z
LAST-MODIFIED:20231009T110709Z
UID:8053-1696950000-1696957200@linagalvez.eu
SUMMARY:Cyber Solidarity Act - 1st shadows meeting (Fase negociadora)
DESCRIPTION:La eurodiputada Lina Gálvez asistirá a esta reunión que marca el inicio de la fase de negociaciones entorno al expediente de desarrollo de la de la Ley europea de Cibersolidaridad\, la eurodiputada es ponente de la citada Ley en el Parlamento Europeo.(Cyber Solidarity Act).
URL:https://linagalvez.eu/agenda/reunion-lobby-europeo-de-mujeres-2-2-2-3/
CATEGORIES:Actualidad,Destacado,ITRE,S&D
ATTACH;FMTTYPE=image/jpeg:https://linagalvez.eu/wp-content/uploads/2023/09/Lina-Galvez_femm_costevida.jpg
END:VEVENT
BEGIN:VEVENT
DTSTART;TZID=Europe/Madrid:20231018T150000
DTEND;TZID=Europe/Madrid:20231018T173000
DTSTAMP:20260425T161802
CREATED:20230605T093302Z
LAST-MODIFIED:20231016T091008Z
UID:8095-1697641200-1697650200@linagalvez.eu
SUMMARY:Cyber Solidarity Act - Shadows meeting (Fase negociadora)
DESCRIPTION:La eurodiputada Lina Gálvez asistirá a esta reunión que forma parte de la fase de negociaciones entorno al expediente de desarrollo de la de la Ley europea de Cibersolidaridad\, la eurodiputada es ponente de la citada Ley en el Parlamento Europeo.(Cyber Solidarity Act).
URL:https://linagalvez.eu/agenda/reunion-lobby-europeo-de-mujeres-2-2-2-3-2/
CATEGORIES:Actualidad,ITRE,S&D
ATTACH;FMTTYPE=image/jpeg:https://linagalvez.eu/wp-content/uploads/2023/09/Lina-Galvez_femm_costevida.jpg
END:VEVENT
BEGIN:VEVENT
DTSTART;TZID=Europe/Madrid:20231026T190000
DTEND;TZID=Europe/Madrid:20231026T200000
DTSTAMP:20260425T161802
CREATED:20231023T105204Z
LAST-MODIFIED:20231027T083159Z
UID:8155-1698346800-1698350400@linagalvez.eu
SUMMARY:Fundación Pablo Iglesias - Hablemos de Europa. Autonomía estratégica
DESCRIPTION:La Fundación Pablo Iglesias\, en colaboración con la Secretaría de Estado para la Unión Europea\, organiza un ciclo de mesas redondas cuyo objetivo es fomentar el debate y promover la reflexión en el seno de la sociedad española sobre los retos y desafíos que aborda la Presidencia Española del Consejo de la Unión Europea. \nA través de cuatro mesas redondas dedicadas a asuntos institucionales y relaciones exteriores de la Unión Europea y el estudio del mercado interior abordaremos\, junto a representantes políticos con responsabilidades públicas y especialistas\, el papel de España ejerciendo la Presidencia del Consejo de la Unión Europea. \nLa Eurodiputada Lina Gálvez participará en una de las mesas redondas propuestas centradas en los trabajos de la Comisión ITRE de la que es Vocepresidenta y en calidad de Vicepresidenta de la Fundación Europea de Estudios Progresistas. \n19:00 h Política energética común\, hacia reducción de emisiones y la generación renovable. Europa soberana digitalmente\, Inteligencia Artificial y revolución. \nLina Gálvez. Eurodiputada. Vicepresidenta de la Fundación Europea de Estudios Progresistas. \nIbán García del Blanco. Eurodiputado. Vicepresidente de la Comisión de Asuntos Jurídicos. \nIgnacio Molina. Investigador principal. Real Instituto Elcano. \nNicolás González Casares. Eurodiputado. Portavoz de la Comisión de Industria\, Investigación y Energía. \nMás información aquí: https://fpabloiglesias.es/hablamos-de-europa-europa-institucional-autonomia-estrategica-profundizacion-de-la-integracion-y-futura-ampliacion/
URL:https://linagalvez.eu/agenda/fundacion-pablo-iglesias-hablemos-de-europa-autonomia-estrategica/
CATEGORIES:Actualidad,Autonomía estratégica,Destacado,FEPS,ITRE,S&D
ATTACH;FMTTYPE=image/webp:https://linagalvez.eu/wp-content/uploads/2023/10/Autonomia-estaregica.webp
END:VEVENT
BEGIN:VEVENT
DTSTART;VALUE=DATE:20231031
DTEND;VALUE=DATE:20231104
DTSTAMP:20260425T161802
CREATED:20200111T151627Z
LAST-MODIFIED:20231031T094505Z
UID:8174-1698710400-1699055999@linagalvez.eu
SUMMARY:Misión oficial de la Comisión ITRE al Silicon Valley\, San Francisco
DESCRIPTION:La eurodiputada Lina Gálvez forma parte de la misión oficial que la Comisión de Industria\, Investigación y Energía\, de la que es vicepresidenta desarrollará durante la semana de actividades externas del Parlamento Europeo en  Silicon Valley. \nAgenda Prevista para el martes 31 noviembre (hora local) \n\n8:00 – 9:00 Reunión con los Cónsules de los Estados miembros Cónsules generales (CG).\nLa eurodiputada asistirá a la reunión\, en la que la eurodiputada y el resto de asistentes debatirán sobre diplomacia tecnológica y el papel de los GC en apoyo de las políticas nacionales y europeas sobre tecnología (IA\, realidades virtuales\, metaversos\, microprocesadores). Se comentará también el papel y retos de las empresas europeas y los factores que determinaron el auge de Silicon Valley\, cómo opera actualmente (las interacciones entre el capital riesgo\, el sector bancario\, las relaciones entre las empresas de nueva creación y las grandes tecnológicas\, el mundo académico) y qué puede aprender Europa de ello\, además de la relación entre Silicon Valley y Washington D.C.\n9:00 – 9:30 Reunión con Joanna Smolinska\, De puty Jefa de la Oficina en San Francisco\, Delegación de la UE en EE.UU.\nLina Gálvez junto al  y el resto de asistentes debatirán en la Oficina de la UE en San Francisco (SF)\, sobre los resultados de la creación de dicha Oficina\, el panorama político y económico del papel de Silicon Valley\, o las percepciones de la UE centradas en las políticas tecnológicas.\n10:30 – 12:30 Reunión en el Centro de Investigación Ames de la NASA\nLina Gálvez asistirá a la reunión en el edificio ecológico de la Base de Sostenibilidad de la NASA\, que es a su vez el laboratorio de nano materiales y computación cuántica de la misma.\n12:30 – 14:00 Reunión y almuerzo de trabajo en Google\nLa Eurodiputada  asistirá a la reunión y debate sobre IA\, soberanía digital\, ciberseguridad\, y ciber resiliencia\, muy relacionados con los expedientes en los que Lina Gálvez ponente en la sombra\, como lo es el de la Ley de Cibersolidaridad. El almuerzo de trabajo contará con la presencia de Heather Adkins\, Vicepresidenta de Ingeniería de Seguridad de Google.\n14:00 – 14:15 Reunión en Meta\n\nLina Gálvez se reunirá en Meta con el resto de asistentes de la misión para hablar de Ciberseguridad\, Inteligencia Artificial\, e Innovación. Una reunión tas la cual asistirán a una exhibición de nuevos dispositivos por parte de la empresa\, que se encuentra entre las cinco grandes empresas tecnológicas del mundo. \n\n17:00 – 19:00 Reunión en la empresa Lyte (baterías)  Reunión  en Lyte para hablar de autonomía estratégica y la solución de baterías Li-S que propone no depender de la cadena de suministro de otros países. Contará con la asistencia de Lars Herlitz\, Cofundador y Presidente de la empresa.
URL:https://linagalvez.eu/agenda/mision-oficial-de-la-comision-itre-2/
CATEGORIES:Actualidad,D-US,Destacado,ITRE,Parlamento
ATTACH;FMTTYPE=image/jpeg:https://linagalvez.eu/wp-content/uploads/2023/02/USA1.jpg
END:VEVENT
BEGIN:VEVENT
DTSTART;VALUE=DATE:20231031
DTEND;VALUE=DATE:20231104
DTSTAMP:20260425T161802
CREATED:20200111T151627Z
LAST-MODIFIED:20250221T172727Z
UID:8186-1698710400-1699055999@linagalvez.eu
SUMMARY:Misión oficial de la Comisión ITRE al Silicon Valley\, San Francisco
DESCRIPTION:La eurodiputada Lina Gálvez forma parte de la misión oficial que la Comisión de Industria\, Investigación y Energía\, de la que es vicepresidenta desarrollará durante la semana de actividades externas del Parlamento Europeo en  Silicon Valley. \nAgenda prevista para el miércoles 1 noviembre (hora local) \n\n8:15 – 9:45 Reunión en Gilead Sciences\n\nLina Gálvez se reunirá en Gilead Sciences\, empresa biofarmacéutica de investigación desarrollo y comercialización de medicamentos\, con el resto de asistentes de la misión. Se hablará de los actuales programas de investigación y desarrollo de la empresa\, que se centra en tratamientos potenciales contra el VIH\, la hepatitis vírica\, los virus emergentes\, la oncología y las enfermedades inflamatorias. Contará con la presencia del Vicepresidente Ejecutivo de Investigación Flavius Martin. \n\n9:45 – 10:30 Reunión con el Senador del Estado de California Josh Becker (Partido Demócrata\, 13º Distrito Estatal)\n\nLina Gálvez se reunirá\, junto con el resto de asistentes\, con el Senador del Partido Demócrata del Estado de California Josh Becker. Presidente de la Subcomisión de Recursos\, Protección Medioambiental y Energía del Presupuesto del Senado\, Becker es autor de varios proyectos de ley en la Legislatura estatal centrados en acelerar la transición de California hacia una energía 100% limpia y cero emisiones netas\, muy relacionado con la Ley sobre la industria de cero emisiones neta del que la eurodiputada es ponente en la sombra en la Comisión de Empleo. \n\n11:15 – 13:15 Universidad de Stanford: Visita del campus\n\nLina Gálvez asistirá a la reunión y almuerzo de trabajo con los expertos en ciberseguridad Andy Grotto y Rishi Bommasani en la Universidad de Standford\, seguida de una visita al campus universitario. \n\n13:45 – 16:00 Reunión con Palo Alto Networks\n\nLina Gálvez se reunirá\, junto con el resto de diputados y diputadas\, con la empresa de ciberseguridad multinacional estadounidense Palo Alto Networks. LGM participará en un debate abierto sobre la necesidad de la industria\, la política y la tecnología emergente\, acompañado por un análisis de las tendencias del panorama mundial de las amenazas y mejores prácticas de intercambio de información\, visión sobre IA\, ciberseguridad y tecnología emergente. \n\n16:30 – 18:30 Reunión y visita a NVIDIA Corporation (hardware y software de IA\, chips)\n\nLina Gálvez visitará\, junto con el resto del grupo de la misión\, el campus de NVIDIA\, con edificios diseñados en el metaverso\, para unirse posteriormente a una sesión de experimentación de la tecnología del metaverso. Lo seguirá un debate sobre temas relacionados con la política con Ruth Berry (responsable de política tecnológica)\, Alberto Mittestainer (responsable de relaciones gubernamentales de la UE) y Shilpa Kolhatkar (responsable global de AI Nations)\, que ofrecerán la perspectiva global de NVIDIA en materia de inteligencia artificial. Se hablará de microprocesadores\, la sostenibilidad de las nuevas tecnologías y cómo impulsar la interacción entre grandes empresas\, startups\, mundo académico y capital riesgo\, así como sobre Inteligencia artificial y ciberseguridad. \n\n19:30 – 21:00 Cena de trabajo\n\nLina Gálvez asistirá\, junto con el resto de eurodiputados\, a la cena de trabajo ofrecida por Jillian Manus\, Filántropa y Capitalista de Riesgo de Silicon Valley.
URL:https://linagalvez.eu/agenda/mision-oficial-de-la-comision-itre-2-2/
CATEGORIES:Actualidad,D-US,Destacado,ITRE,Parlamento
ATTACH;FMTTYPE=image/jpeg:https://linagalvez.eu/wp-content/uploads/2020/03/cc72ebd7-b29c-47f6-b741-545f09e4ba21.jpg
END:VEVENT
BEGIN:VEVENT
DTSTART;TZID=Europe/Madrid:20231031T150000
DTEND;TZID=Europe/Madrid:20231103T160000
DTSTAMP:20260425T161802
CREATED:20200111T151627Z
LAST-MODIFIED:20250221T173049Z
UID:8167-1698764400-1699027200@linagalvez.eu
SUMMARY:Misión oficial de la Comisión ITRE al Silicon Valley\, San Francisco
DESCRIPTION:La eurodiputada Lina Gálvez formará parte de la misión oficial que la Comisión de Industria\, Investigación y Energía\, de la que es vicepresidenta desarrollará durante la semana de actividades externas del Parlamento Europeo en  Silicon Valley.  El programa incluye visitas y reuniones con responsables políticos\, empresas\, representantes del mundo académico y de la sociedad civil en el campo de la ciberseguridad\, la soberanía digital\, la investigación\, la computación cuántica y las telecomunicaciones\, entre otras. \nEl foco de la misión será compartir ideas y debatir sobre políticas tecnológicas\, de investigación e innovación y los campos de cooperación entre los dos socios transatlánticos.
URL:https://linagalvez.eu/agenda/mision-oficial-de-la-comision-itre/
CATEGORIES:Actualidad,D-US,Destacado,ITRE,Parlamento
ATTACH;FMTTYPE=image/jpeg:https://linagalvez.eu/wp-content/uploads/2017_EU-USA-Leaders-Meeting_copyright-EU-Council-2017.jpg
END:VEVENT
END:VCALENDAR