BEGIN:VCALENDAR
VERSION:2.0
PRODID:-//Lina Gálvez - ECPv6.15.20//NONSGML v1.0//EN
CALSCALE:GREGORIAN
METHOD:PUBLISH
X-WR-CALNAME:Lina Gálvez
X-ORIGINAL-URL:https://linagalvez.eu
X-WR-CALDESC:Eventos para Lina Gálvez
REFRESH-INTERVAL;VALUE=DURATION:PT1H
X-Robots-Tag:noindex
X-PUBLISHED-TTL:PT1H
BEGIN:VTIMEZONE
TZID:Europe/Madrid
BEGIN:DAYLIGHT
TZOFFSETFROM:+0100
TZOFFSETTO:+0200
TZNAME:CEST
DTSTART:20250330T010000
END:DAYLIGHT
BEGIN:STANDARD
TZOFFSETFROM:+0200
TZOFFSETTO:+0100
TZNAME:CET
DTSTART:20251026T010000
END:STANDARD
BEGIN:DAYLIGHT
TZOFFSETFROM:+0100
TZOFFSETTO:+0200
TZNAME:CEST
DTSTART:20260329T010000
END:DAYLIGHT
BEGIN:STANDARD
TZOFFSETFROM:+0200
TZOFFSETTO:+0100
TZNAME:CET
DTSTART:20261025T010000
END:STANDARD
BEGIN:DAYLIGHT
TZOFFSETFROM:+0100
TZOFFSETTO:+0200
TZNAME:CEST
DTSTART:20270328T010000
END:DAYLIGHT
BEGIN:STANDARD
TZOFFSETFROM:+0200
TZOFFSETTO:+0100
TZNAME:CET
DTSTART:20271031T010000
END:STANDARD
END:VTIMEZONE
BEGIN:VEVENT
DTSTART;VALUE=DATE:20260303
DTEND;VALUE=DATE:20260304
DTSTAMP:20260419T182637
CREATED:20260227T105848Z
LAST-MODIFIED:20260303T110948Z
UID:13706-1772496000-1772582399@linagalvez.eu
SUMMARY:Away Day del grupo S&D
DESCRIPTION:Lina Gálvez participará el 3 de marzo de 2026 en las reuniones de la jornada «Away Day» (fuera de sede) organizada por el grupo de Socialistas y demócratas del Parlamento Europeo\, junto a otras y otros eurodiputados del Grupo S&D en Bruselas. \nA la luz del panorama geopolítico en constante cambio y de los retos a los que se enfrenta el proyecto europeo\, el grupo debatirá sus prioridades políticas y cómo adaptar sus métodos de trabajo para el futuro. Desde las amenazas a la seguridad hasta cuestiones sociales clave como la crisis de la asequibilidad\, se reunirán para abordar las preocupaciones más acuciantes de la ciudadanía.
URL:https://linagalvez.eu/agenda/away-day-grupo-sd-2026-03/
CATEGORIES:Actualidad,S&D
ATTACH;FMTTYPE=image/jpeg:https://linagalvez.eu/wp-content/uploads/2025-06-10_Lina-Galvez-MEP-SD_40aESP-UE.jpeg
END:VEVENT
END:VCALENDAR