BEGIN:VCALENDAR
VERSION:2.0
PRODID:-//Lina Gálvez - ECPv6.15.20//NONSGML v1.0//EN
CALSCALE:GREGORIAN
METHOD:PUBLISH
X-WR-CALNAME:Lina Gálvez
X-ORIGINAL-URL:https://linagalvez.eu
X-WR-CALDESC:Eventos para Lina Gálvez
REFRESH-INTERVAL;VALUE=DURATION:PT1H
X-Robots-Tag:noindex
X-PUBLISHED-TTL:PT1H
BEGIN:VTIMEZONE
TZID:Europe/Madrid
BEGIN:DAYLIGHT
TZOFFSETFROM:+0100
TZOFFSETTO:+0200
TZNAME:CEST
DTSTART:20250330T010000
END:DAYLIGHT
BEGIN:STANDARD
TZOFFSETFROM:+0200
TZOFFSETTO:+0100
TZNAME:CET
DTSTART:20251026T010000
END:STANDARD
BEGIN:DAYLIGHT
TZOFFSETFROM:+0100
TZOFFSETTO:+0200
TZNAME:CEST
DTSTART:20260329T010000
END:DAYLIGHT
BEGIN:STANDARD
TZOFFSETFROM:+0200
TZOFFSETTO:+0100
TZNAME:CET
DTSTART:20261025T010000
END:STANDARD
BEGIN:DAYLIGHT
TZOFFSETFROM:+0100
TZOFFSETTO:+0200
TZNAME:CEST
DTSTART:20270328T010000
END:DAYLIGHT
BEGIN:STANDARD
TZOFFSETFROM:+0200
TZOFFSETTO:+0100
TZNAME:CET
DTSTART:20271031T010000
END:STANDARD
END:VTIMEZONE
BEGIN:VEVENT
DTSTART;TZID=Europe/Madrid:20260210T151500
DTEND;TZID=Europe/Madrid:20260210T170000
DTSTAMP:20260422T023638
CREATED:20260206T141425Z
LAST-MODIFIED:20260209T130240Z
UID:13514-1770736500-1770742800@linagalvez.eu
SUMMARY:Conference of Committee Chairs - CCC
DESCRIPTION:Conference of Committee Chairs (CCC) \nLina Gálvez participará\, como presidenta del Comité de Derechos de las Mujeres e Igualdad de Género (FEMM)\, en la reunión de Presidentas y Presidentes de las Comisiones del Parlamento Europeo.
URL:https://linagalvez.eu/agenda/conference-committee-chairs-ccc-2026-02/
CATEGORIES:Actualidad,FEMM,Parlamento
ATTACH;FMTTYPE=image/jpeg:https://linagalvez.eu/wp-content/uploads/2024/09/1726593435288_20240917_EP-172216A_EGZ_0333-Enhanced-NR_MOBILE.jpg
END:VEVENT
END:VCALENDAR