BEGIN:VCALENDAR
VERSION:2.0
PRODID:-//Lina Gálvez - ECPv6.15.20//NONSGML v1.0//EN
CALSCALE:GREGORIAN
METHOD:PUBLISH
X-ORIGINAL-URL:https://linagalvez.eu
X-WR-CALDESC:Eventos para Lina Gálvez
REFRESH-INTERVAL;VALUE=DURATION:PT1H
X-Robots-Tag:noindex
X-PUBLISHED-TTL:PT1H
BEGIN:VTIMEZONE
TZID:Europe/Madrid
BEGIN:DAYLIGHT
TZOFFSETFROM:+0100
TZOFFSETTO:+0200
TZNAME:CEST
DTSTART:20230326T010000
END:DAYLIGHT
BEGIN:STANDARD
TZOFFSETFROM:+0200
TZOFFSETTO:+0100
TZNAME:CET
DTSTART:20231029T010000
END:STANDARD
BEGIN:DAYLIGHT
TZOFFSETFROM:+0100
TZOFFSETTO:+0200
TZNAME:CEST
DTSTART:20240331T010000
END:DAYLIGHT
BEGIN:STANDARD
TZOFFSETFROM:+0200
TZOFFSETTO:+0100
TZNAME:CET
DTSTART:20241027T010000
END:STANDARD
BEGIN:DAYLIGHT
TZOFFSETFROM:+0100
TZOFFSETTO:+0200
TZNAME:CEST
DTSTART:20250330T010000
END:DAYLIGHT
BEGIN:STANDARD
TZOFFSETFROM:+0200
TZOFFSETTO:+0100
TZNAME:CET
DTSTART:20251026T010000
END:STANDARD
END:VTIMEZONE
BEGIN:VEVENT
DTSTART;TZID=Europe/Madrid:20241001T141500
DTEND;TZID=Europe/Madrid:20241001T150000
DTSTAMP:20260425T235632
CREATED:20240927T074742Z
LAST-MODIFIED:20240930T092919Z
UID:9795-1727792100-1727794800@linagalvez.eu
SUMMARY:Digital Policy Steering Group
DESCRIPTION:Lina Gálvez participará en la reunión del Digital Policy Steering Group\, donde se discutirán las estrategias digitales de la Unión Europea\, con un enfoque en la ciberseguridad\, la soberanía tecnológica y la digitalización de la economía europea.
URL:https://linagalvez.eu/agenda/digital-policy-steering-group/
CATEGORIES:Actualidad,ITRE,STOA
ATTACH;FMTTYPE=image/jpeg:https://linagalvez.eu/wp-content/uploads/2024/06/lina-galvez-el-pasado-31-de-elina-galvez-psoe-bruselas.jpeg
END:VEVENT
BEGIN:VEVENT
DTSTART;TZID=Europe/Madrid:20241004T093000
DTEND;TZID=Europe/Madrid:20241004T103000
DTSTAMP:20260425T235632
CREATED:20240927T092540Z
LAST-MODIFIED:20240930T103153Z
UID:9817-1728034200-1728037800@linagalvez.eu
SUMMARY:Entrevista con con POLITICO sobre ciberseguridad
DESCRIPTION:La eurodiputada será entrevistada por POLITICO para discutir temas clave de ciberseguridad\, dado su rol como miembro del Comité de Industria\, Investigación y Energía\, del que fue Vicepresidenta la IX Legislatura\, y la Ley sobre Cibersolidaridad de la que fue ponente.
URL:https://linagalvez.eu/agenda/entrevista-politico-ciberseguridad/
CATEGORIES:Actualidad,Destacado,ITRE,Parlamento
ATTACH;FMTTYPE=image/webp:https://linagalvez.eu/wp-content/uploads/2024/09/635647001235203968-2-politico-scaled.webp
END:VEVENT
BEGIN:VEVENT
DTSTART;TZID=Europe/Madrid:20241023T100000
DTEND;TZID=Europe/Madrid:20241023T104500
DTSTAMP:20260425T235632
CREATED:20241021T080953Z
LAST-MODIFIED:20241021T081110Z
UID:9959-1729677600-1729680300@linagalvez.eu
SUMMARY:Reunión con la American Chamber of Commerce to the European Union (AmCham EU)
DESCRIPTION:Lina Gálvez se reunirá con un grupo de miembros de la AmCham EU con el objetivo de discutir los desarrollos recientes en el campo de la política digital\, incluida la inteligencia artificial\, la ciberseguridad\, la tecnología limpia\, la privacidad de los datos y la conectividad.
URL:https://linagalvez.eu/agenda/reunion-american-chamber-commerce-eu-amcham-eu/
CATEGORIES:Actualidad,D-US,Destacado,ITRE,Parlamento,STOA
ATTACH;FMTTYPE=image/webp:https://linagalvez.eu/wp-content/uploads/2024/10/amcham-EU-16-9.webp
END:VEVENT
END:VCALENDAR