BEGIN:VCALENDAR
VERSION:2.0
PRODID:-//Lina Gálvez - ECPv6.15.20//NONSGML v1.0//EN
CALSCALE:GREGORIAN
METHOD:PUBLISH
X-WR-CALNAME:Lina Gálvez
X-ORIGINAL-URL:https://linagalvez.eu
X-WR-CALDESC:Eventos para Lina Gálvez
REFRESH-INTERVAL;VALUE=DURATION:PT1H
X-Robots-Tag:noindex
X-PUBLISHED-TTL:PT1H
BEGIN:VTIMEZONE
TZID:Europe/Madrid
BEGIN:DAYLIGHT
TZOFFSETFROM:+0100
TZOFFSETTO:+0200
TZNAME:CEST
DTSTART:20240331T010000
END:DAYLIGHT
BEGIN:STANDARD
TZOFFSETFROM:+0200
TZOFFSETTO:+0100
TZNAME:CET
DTSTART:20241027T010000
END:STANDARD
BEGIN:DAYLIGHT
TZOFFSETFROM:+0100
TZOFFSETTO:+0200
TZNAME:CEST
DTSTART:20250330T010000
END:DAYLIGHT
BEGIN:STANDARD
TZOFFSETFROM:+0200
TZOFFSETTO:+0100
TZNAME:CET
DTSTART:20251026T010000
END:STANDARD
BEGIN:DAYLIGHT
TZOFFSETFROM:+0100
TZOFFSETTO:+0200
TZNAME:CEST
DTSTART:20260329T010000
END:DAYLIGHT
BEGIN:STANDARD
TZOFFSETFROM:+0200
TZOFFSETTO:+0100
TZNAME:CET
DTSTART:20261025T010000
END:STANDARD
END:VTIMEZONE
BEGIN:VEVENT
DTSTART;TZID=Europe/Madrid:20250401T100000
DTEND;TZID=Europe/Madrid:20250401T104500
DTSTAMP:20260423T132704
CREATED:20250327T102200Z
LAST-MODIFIED:20250331T084223Z
UID:11396-1743501600-1743504300@linagalvez.eu
SUMMARY:Reunión de Committee Chairs de S&D
DESCRIPTION:Lina Gálvez participará\, como presidenta del Comité de Derechos de las Mujeres e Igualdad de Género (FEMM)\, en la reunión de Presidentas y Presidentes de las Comisiones del Grupo de Socialistas y Demócratas del Parlamento Europeo.
URL:https://linagalvez.eu/agenda/sd-committee-chairs-2504/
CATEGORIES:Actualidad,FEMM,Parlamento
ATTACH;FMTTYPE=image/png:https://linagalvez.eu/wp-content/uploads/2020/05/digital-europe.png
END:VEVENT
BEGIN:VEVENT
DTSTART;TZID=Europe/Madrid:20250401T150000
DTEND;TZID=Europe/Madrid:20250401T170000
DTSTAMP:20260423T132704
CREATED:20250327T141425Z
LAST-MODIFIED:20250331T084339Z
UID:11398-1743519600-1743526800@linagalvez.eu
SUMMARY:Conference of Committee Chairs - CCC
DESCRIPTION:Conference of Committee Chairs (CCC) \nLina Gálvez participará\, como presidenta del Comité de Derechos de las Mujeres e Igualdad de Género (FEMM)\, en la reunión de Presidentas y Presidentes de las Comisiones del Parlamento Europeo.
URL:https://linagalvez.eu/agenda/conference-committee-chairs-ccc-2504/
CATEGORIES:Actualidad,FEMM,Parlamento
ATTACH;FMTTYPE=image/jpeg:https://linagalvez.eu/wp-content/uploads/2024/09/1726593435288_20240917_EP-172216A_EGZ_0333-Enhanced-NR_MOBILE.jpg
END:VEVENT
END:VCALENDAR