BEGIN:VCALENDAR
VERSION:2.0
PRODID:-//Lina Gálvez - ECPv6.15.20//NONSGML v1.0//EN
CALSCALE:GREGORIAN
METHOD:PUBLISH
X-ORIGINAL-URL:https://linagalvez.eu
X-WR-CALDESC:Eventos para Lina Gálvez
REFRESH-INTERVAL;VALUE=DURATION:PT1H
X-Robots-Tag:noindex
X-PUBLISHED-TTL:PT1H
BEGIN:VTIMEZONE
TZID:Europe/Madrid
BEGIN:DAYLIGHT
TZOFFSETFROM:+0100
TZOFFSETTO:+0200
TZNAME:CEST
DTSTART:20240331T010000
END:DAYLIGHT
BEGIN:STANDARD
TZOFFSETFROM:+0200
TZOFFSETTO:+0100
TZNAME:CET
DTSTART:20241027T010000
END:STANDARD
BEGIN:DAYLIGHT
TZOFFSETFROM:+0100
TZOFFSETTO:+0200
TZNAME:CEST
DTSTART:20250330T010000
END:DAYLIGHT
BEGIN:STANDARD
TZOFFSETFROM:+0200
TZOFFSETTO:+0100
TZNAME:CET
DTSTART:20251026T010000
END:STANDARD
BEGIN:DAYLIGHT
TZOFFSETFROM:+0100
TZOFFSETTO:+0200
TZNAME:CEST
DTSTART:20260329T010000
END:DAYLIGHT
BEGIN:STANDARD
TZOFFSETFROM:+0200
TZOFFSETTO:+0100
TZNAME:CET
DTSTART:20261025T010000
END:STANDARD
END:VTIMEZONE
BEGIN:VEVENT
DTSTART;TZID=Europe/Madrid:20251113T134500
DTEND;TZID=Europe/Madrid:20251113T143000
DTSTAMP:20260423T065723
CREATED:20251107T125829Z
LAST-MODIFIED:20251110T131227Z
UID:12877-1763041500-1763044200@linagalvez.eu
SUMMARY:Evento: "Del conocimiento al impacto: configurando la próxima ola de innovación europea"
DESCRIPTION:Lina Gálvez intervendrá como ponente en la mesa «Un nuevo horizonte de la investigación a la comercialización»\, que será moderada por Pauline Rouch\, Directora de Centro de Políticas Comunes\, de la DG de Investigación e Innovación de la Comisión Europea. \n«Del conocimiento al impacto: dando forma a la próxima ola de innovación en Europa» es el Evento Anual de Partes Interesadas sobre la Valorización del Conocimiento\, que organiza la Dirección General de Investigación e Innovación de la Comisión Europea. El evento ofrece una oportunidad única para que las partes interesadas del ecosistema de investigación e innovación se reúnan\, conozcan las últimas novedades en materia de políticas e iniciativas de apoyo\, intercambien opiniones y debatan sobre los retos\, las oportunidades\, las mejores prácticas y las posibilidades de mejorar la colaboración. \nLas sesiones destacan las principales iniciativas y consideraciones prácticas en el marco de la Estrategia para la creación y el crecimiento de empresas emergentes\, la Estrategia de infraestructuras de investigación y tecnología y la Agenda política del Espacio Europeo de Investigación (ERA) 2025-2027. \nAgenda detallada y más información (en inglés) aquí \nFuente de la imagen: Comisión Europea. Evento anunciado en el que participa Lina Gálvez. En esta web se realiza un uso justo y no comercial de la imagen para la difusión del evento.
URL:https://linagalvez.eu/agenda/evento-del-conocimiento-al-impacto-proxima-ola-innovacion-europea/
CATEGORIES:Actualidad,ITRE,Parlamento
ATTACH;FMTTYPE=image/png:https://linagalvez.eu/wp-content/uploads/Conocimiento-a-impacto-2025.png
END:VEVENT
END:VCALENDAR