BEGIN:VCALENDAR
VERSION:2.0
PRODID:-//Lina Gálvez - ECPv6.15.20//NONSGML v1.0//EN
CALSCALE:GREGORIAN
METHOD:PUBLISH
X-ORIGINAL-URL:https://linagalvez.eu
X-WR-CALDESC:Eventos para Lina Gálvez
REFRESH-INTERVAL;VALUE=DURATION:PT1H
X-Robots-Tag:noindex
X-PUBLISHED-TTL:PT1H
BEGIN:VTIMEZONE
TZID:Europe/Madrid
BEGIN:DAYLIGHT
TZOFFSETFROM:+0100
TZOFFSETTO:+0200
TZNAME:CEST
DTSTART:20230326T010000
END:DAYLIGHT
BEGIN:STANDARD
TZOFFSETFROM:+0200
TZOFFSETTO:+0100
TZNAME:CET
DTSTART:20231029T010000
END:STANDARD
BEGIN:DAYLIGHT
TZOFFSETFROM:+0100
TZOFFSETTO:+0200
TZNAME:CEST
DTSTART:20240331T010000
END:DAYLIGHT
BEGIN:STANDARD
TZOFFSETFROM:+0200
TZOFFSETTO:+0100
TZNAME:CET
DTSTART:20241027T010000
END:STANDARD
BEGIN:DAYLIGHT
TZOFFSETFROM:+0100
TZOFFSETTO:+0200
TZNAME:CEST
DTSTART:20250330T010000
END:DAYLIGHT
BEGIN:STANDARD
TZOFFSETFROM:+0200
TZOFFSETTO:+0100
TZNAME:CET
DTSTART:20251026T010000
END:STANDARD
END:VTIMEZONE
BEGIN:VEVENT
DTSTART;TZID=Europe/Madrid:20240124T094500
DTEND;TZID=Europe/Madrid:20240124T173000
DTSTAMP:20260425T182133
CREATED:20210927T104830Z
LAST-MODIFIED:20240122T101052Z
UID:8693-1706089500-1706117400@linagalvez.eu
SUMMARY:Reunión de la Comisión de Derechos de las Mujeres e Igualdad de Género FEMM
DESCRIPTION:Reunión de la Comisión de Derechos de las Mujeres e Igualdad de Género en la que se abordarán los siguientes temas: \nDebates \n\nPrioridades de la Presidencia belga del Consejo — Presentación de Marie-Colline LEROY\, Secretaria de Estado para la Igualdad de Género\, Igualdad de Oportunidades y Diversidad\nPor la que se modifica la Directiva 2011/36/UE sobre prevención y lucha contra la trata de seres humanos y protección de sus víctimas (2022/0426(COD))\nLucha contra la violencia contra las mujeres y la violencia doméstica (2022/0066(COD))\nPresentación del EIGE (Instituto Europeo para la Igualdad de Género) sobre el programa de trabajo — Intercambio de puntos de vista\nDecisión del Consejo por la que se invita a los Estados miembros a ratificar el Convenio sobre la violencia y el acoso\, 2019 (núm. 190) de la Organización Internacional del Trabajo\n\nVotos \n\nLas prioridades de la UE para el 68.º período de sesiones de la Comisión de las Naciones Unidas sobre la Condición Jurídica y Social de la Mujer (2023/2973(RSP))\nAprobación de la gestión 2022: Presupuesto general de la UE – Comisión (2023/2129(DEC))\n\n\n\n\n\nSitio web de la Comisión de Derechos de la Mujer e Igualdad de Género
URL:https://linagalvez.eu/agenda/joint-meeting-committee-on-employment-and-social-affairs-committee-on-womens-rights-and-gender-equality-2-3-2-3-2-2-2-2-4-2-2-2-2-2-2-2-2-2-3-2-2-2-4-2-2-2/
CATEGORIES:Actualidad,FEMM,Parlamento
ATTACH;FMTTYPE=image/png:https://linagalvez.eu/wp-content/uploads/2022/03/LGM_ITRE.png
END:VEVENT
END:VCALENDAR